PDS_VERSION_ID = PDS3
/* FILE DATA ELEMENTS */
RECORD_TYPE = UNDEFINED
/* POINTERS TO DATA OBJECTS */
^IMAGE = ("HC508_0000_ND4.TIF")
/* IDENTIFICATION DATA ELEMENTS */
DATA_SET_ID = "MEX-M-HRSC-4-REFDR-MAPPROJECT-EXT4-V4.0"
DATA_SET_NAME = "MARS EXPRESS HRSC MAP PROJECTED REFDR EXTENSION4 V4.0"
DETECTOR_ID = MEX_HRSC_NADIR
EVENT_TYPE = "MARS-LOCAL-STEREO-Lc-La-Tc"
INSTRUMENT_HOST_ID = MEX
INSTRUMENT_HOST_NAME = "MARS EXPRESS"
INSTRUMENT_ID = HRSC
INSTRUMENT_NAME = "HIGH RESOLUTION STEREO CAMERA"
MISSION_NAME = "MARS EXPRESS"
MISSION_PHASE_NAME = ME_Phase_29
PROCESSING_LEVEL_ID = 4
PRODUCT_CREATION_TIME = 2023-01-31T11:51:40.000Z
PRODUCT_ID = "HC508_0000_ND4.TIF"
RELEASE_ID = 0003
REVISION_ID = 0000
/* QUALITY DATA ELEMENTS */
DATA_QUALITY_ID = 1
DATA_QUALITY_DESC = "Data calculated based on original SPICE kernels"
/* TIME DATA ELEMENTS */
SPACECRAFT_CLOCK_START_COUNT = "1/0331605614.09044"
SPACECRAFT_CLOCK_STOP_COUNT = "1/0331605747.32027"
START_TIME = 2013-11-04T00:40:51.572Z
STOP_TIME = 2013-11-04T00:41:51.591Z
/* ORBITAL DATA ELEMENTS */
ASCENDING_NODE_LONGITUDE = 338.95
MAXIMUM_RESOLUTION = 0.0147
FOOTPRINT_POINT_LATITUDE = (-6.38033,-6.38214,-6.38334,-6.38448, -6.38558,-6.38669,-6.38774,-6.38879, -6.38981,-6.3908,-6.39176,-6.3927, -6.39362,-6.39373,-6.39379,-6.27847, -6.20162,-6.12478,-6.04796,-5.97116, -5.89438,-5.81761,-5.74086,-5.66413, -5.58742,-5.51071,-5.43392,-5.35713, -5.242,-5.16531,-5.08868,-5.01208, -4.9355,-4.78248,-4.66775,-4.47661, -4.32379,-4.17135,-3.98072,-3.82813, -3.67563,-3.52321,-3.37087,-3.21861, -3.06644,-2.91435,-2.76235,-2.61042, -2.57246,-2.57096,-2.56986,-2.5686, -2.56747,-2.56633,-2.56448,-2.56328, -2.56156,-2.56037,-2.55939,-2.55828, -2.55681,-2.55553,-2.55537,-2.55556, -2.70747,-2.89752,-3.04959,-3.16378, -3.31605,-3.46841,-3.659,-3.81155, -3.92603,-4.07871,-4.23152,-4.42262, -4.57552,-4.69024,-4.84325,-4.9199, -4.99661,-5.07328,-5.14995,-5.2267, -5.30362,-5.41899,-5.49571,-5.57244, -5.64919,-5.72595,-5.80274,-5.87954, -5.95635,-6.03319,-6.11004,-6.18691, -6.26379,-6.34069,-6.37915,-6.38033)
FOOTPRINT_POINT_LONGITUDE = (298.715,298.554,298.448,298.342, 298.237,298.132,298.028,297.924,297.821 ,297.718,297.615,297.513,297.411, 297.398,297.392,297.39,297.388,297.387, 297.386,297.384,297.383,297.382,297.38, 297.379,297.377,297.376,297.375,297.373 ,297.371,297.37,297.369,297.367,297.366 ,297.363,297.36,297.357,297.354,297.35, 297.346,297.343,297.34,297.337,297.334, 297.33,297.327,297.324,297.321,297.317, 297.317,297.317,297.424,297.545,297.653 ,297.761,297.914,298.025,298.178, 298.278,298.364,298.462,298.59,298.704, 298.718,298.725,298.725,298.726,298.728 ,298.727,298.728,298.728,298.728, 298.728,298.728,298.728,298.728,298.727 ,298.728,298.73,298.732,298.73,298.727, 298.725,298.724,298.721,298.714,298.705 ,298.705,298.705,298.705,298.705, 298.705,298.705,298.705,298.705,298.705 ,298.705,298.705,298.705,298.705, 298.715)
ORBIT_NUMBER = 12508
ORBITAL_ECCENTRICITY = 0.578
ORBITAL_INCLINATION = 86.88
ORBITAL_SEMIMAJOR_AXIS = 8843.93
PERIAPSIS_ALTITUDE = 337.55
PERIAPSIS_ARGUMENT_ANGLE = 340.61
PERIAPSIS_TIME = 2013-11-04T00:37:32.000Z
SPACECRAFT_ORIENTATION = (0.0,1.0,0.0)
^MEX_ORIENTATION_DESC = "MEX_ORIENTATION_DESC.TXT"
SPACECRAFT_POINTING_MODE = ACROSSTRACK
^MEX_POINTING_DESC = "MEX_POINTING_DESC.TXT"
RIGHT_ASCENSION = -1e+32
DECLINATION = -1e+32
OFFSET_ANGLE = -0.7
SPACECRAFT_SOLAR_DISTANCE = 2.46595e+08
TARGET_NAME = MARS
/* CAMERA DATA ELEMENTS */
DETECTOR_TEMPERATURE = 16.9432
FOCAL_PLANE_TEMPERATURE = 7.7677
INST_CMPRS_NAME = "DISCRETE COSINE TRANSFORMATION (DCT)"
INST_CMPRS_RATIO = 6.2445
INST_CMPRS_QUALITY = 0
INST_CMPRS_QUANTZ_TBL_ID = 0
INSTRUMENT_TEMPERATURE = 11.4379
LENS_TEMPERATURE = 8.3794
MACROPIXEL_SIZE = 1
MISSING_FRAMES = 0
PIXEL_SUBSAMPLING_FLAG = N
SIGNAL_CHAIN_ID = 0
/* RADIOMETRIC DATA ELEMENTS */
BANDWIDTH = 177.0
CENTER_FILTER_WAVELENGTH = 677.5
RADIANCE_OFFSET = 0.667522
RADIANCE_SCALING_FACTOR = 0.0101437
REFLECTANCE_SCALING_FACTOR = 0.00032768
MEX:REFLECTANCE_OFFSET = 0.0215634
/* IMAGE OBJECT DEFINITIONS */
OBJECT = IMAGE
  INTERCHANGE_FORMAT = BINARY
  LINES = 18202
  LINE_SAMPLES = 6701
  SAMPLE_TYPE = UNSIGNED_INTEGER
  SAMPLE_BITS = 8
  BANDS = 1
  BAND_STORAGE_TYPE = BAND_SEQUENTIAL
  MAXIMUM = 255
  MEAN = 68.7081
  MINIMUM = 1
  STANDARD_DEVIATION = 28.1324
END_OBJECT = IMAGE
/* MAP OBJECT DEFINITIONS */
OBJECT = IMAGE_MAP_PROJECTION
  ^DATA_SET_MAP_PROJECTION_CATALOG= "DSMAP.CAT"
  A_AXIS_RADIUS = 3396.0
  B_AXIS_RADIUS = 3396.0
  C_AXIS_RADIUS = 3396.0
  CENTER_LATITUDE = 0.0
  CENTER_LONGITUDE = 298.0
  COORDINATE_SYSTEM_NAME = PLANETOGRAPHIC
  COORDINATE_SYSTEM_TYPE = "BODY-FIXED ROTATING"
  EASTERNMOST_LONGITUDE = 298.732
  FIRST_STANDARD_PARALLEL = "N/A"
  LINE_FIRST_PIXEL = 1
  LINE_LAST_PIXEL = 18202
  LINE_PROJECTION_OFFSET = -12118.0
  MAP_PROJECTION_ROTATION = 0.0
  MAP_PROJECTION_TYPE = SINUSOIDAL
  MAP_RESOLUTION = 4741.71043093333
  MAP_SCALE = 0.0125
  MAXIMUM_LATITUDE = -2.55537
  MINIMUM_LATITUDE = -6.39379
  POSITIVE_LONGITUDE_DIRECTION = EAST
  REFERENCE_LATITUDE = "N/A"
  REFERENCE_LONGITUDE = "N/A"
  SAMPLE_FIRST_PIXEL = 1
  SAMPLE_LAST_PIXEL = 6701
  SAMPLE_PROJECTION_OFFSET = 3237.0
  SECOND_STANDARD_PARALLEL = "N/A"
  WESTERNMOST_LONGITUDE = 297.317
END_OBJECT = IMAGE_MAP_PROJECTION
END
