PDS_VERSION_ID = PDS3
/* FILE DATA ELEMENTS */
RECORD_TYPE = UNDEFINED
/* POINTERS TO DATA OBJECTS */
^IMAGE = ("HC506_0000_P14.TIF")
/* IDENTIFICATION DATA ELEMENTS */
DATA_SET_ID = "MEX-M-HRSC-4-REFDR-MAPPROJECT-EXT4-V4.0"
DATA_SET_NAME = "MARS EXPRESS HRSC MAP PROJECTED REFDR EXTENSION4 V4.0"
DETECTOR_ID = MEX_HRSC_P1
EVENT_TYPE = "MARS-LOCAL-STEREO-Vo-Ot"
INSTRUMENT_HOST_ID = MEX
INSTRUMENT_HOST_NAME = "MARS EXPRESS"
INSTRUMENT_ID = HRSC
INSTRUMENT_NAME = "HIGH RESOLUTION STEREO CAMERA"
MISSION_NAME = "MARS EXPRESS"
MISSION_PHASE_NAME = ME_Phase_29
PROCESSING_LEVEL_ID = 4
PRODUCT_CREATION_TIME = 2023-01-31T11:51:40.000Z
PRODUCT_ID = "HC506_0000_P14.TIF"
RELEASE_ID = 0003
REVISION_ID = 0000
/* QUALITY DATA ELEMENTS */
DATA_QUALITY_ID = 1
DATA_QUALITY_DESC = "Data calculated based on original SPICE kernels"
/* TIME DATA ELEMENTS */
SPACECRAFT_CLOCK_START_COUNT = "1/0331555339.08450"
SPACECRAFT_CLOCK_STOP_COUNT = "1/0331555588.24579"
START_TIME = 2013-11-03T10:43:23.686Z
STOP_TIME = 2013-11-03T10:46:12.345Z
/* ORBITAL DATA ELEMENTS */
ASCENDING_NODE_LONGITUDE = 338.99
MAXIMUM_RESOLUTION = 0.0333
FOOTPRINT_POINT_LATITUDE = (-3.04689,-3.0597,-3.07282,-3.08627, -3.10012,-3.11435,-3.13463,-3.13557, -3.14111,-2.86455,-2.31279,-1.93865, -1.46615,-1.18031,-0.89962,-0.706758, -0.420381,-0.128725,0.160885,0.35478, 0.546743,0.742472,0.939831,1.2355, 1.43221,1.62857,1.82814,2.02879,2.22919 ,2.4293,2.6296,2.83335,3.1388,3.34226, 3.54647,3.75418,4.06376,4.27032,4.58251 ,4.79314,5.00339,5.2133,5.42555,5.63948 ,5.8529,6.0661,6.28268,6.49953,6.71599, 6.8241,6.83897,6.86646,6.88809,6.90451, 6.92022,6.94458,6.94547,6.94508,6.72848 ,6.51113,6.18513,5.97164,5.75781, 5.54355,5.33062,5.12032,4.90971,4.69879 ,4.48922,4.28216,4.07499,3.8673,3.65979 ,3.4567,3.25328,3.04944,2.84487,2.54235 ,2.34184,2.141,1.94016,1.74018,1.54344, 1.34635,1.14904,0.951102,0.752608, 0.558928,0.365306,0.0748723,-0.119479, -0.409955,-0.790284,-1.07597,-1.55231, -2.02249,-2.58181,-2.95413,-3.04448, -3.04689)
FOOTPRINT_POINT_LONGITUDE = (141.005,140.786,140.564,140.337, 140.108,139.874,139.546,139.531,139.518 ,139.516,139.492,139.485,139.474, 139.468,139.455,139.454,139.449,139.443 ,139.434,139.43,139.423,139.419,139.413 ,139.405,139.399,139.394,139.388, 139.382,139.376,139.37,139.364,139.358, 139.348,139.342,139.336,139.331,139.319 ,139.312,139.301,139.294,139.286, 139.279,139.271,139.264,139.256,139.248 ,139.24,139.232,139.223,139.219,139.218 ,139.661,140.024,140.309,140.591, 141.041,141.058,141.064,141.062,141.06, 141.058,141.056,141.054,141.052,141.05, 141.049,141.047,141.045,141.044,141.042 ,141.041,141.039,141.038,141.036, 141.035,141.034,141.032,141.03,141.029, 141.028,141.027,141.025,141.024,141.023 ,141.022,141.021,141.019,141.018, 141.017,141.015,141.014,141.013,141.01, 141.009,141.007,141.004,141.003,141.0, 141.0,141.005)
ORBIT_NUMBER = 12506
ORBITAL_ECCENTRICITY = 0.578
ORBITAL_INCLINATION = 86.87
ORBITAL_SEMIMAJOR_AXIS = 8843.7
PERIAPSIS_ALTITUDE = 338.0
PERIAPSIS_ARGUMENT_ANGLE = 340.95
PERIAPSIS_TIME = 2013-11-03T10:38:53.000Z
SPACECRAFT_ORIENTATION = (0.0,1.0,0.0)
^MEX_ORIENTATION_DESC = "MEX_ORIENTATION_DESC.TXT"
SPACECRAFT_POINTING_MODE = ACROSSTRACK
^MEX_POINTING_DESC = "MEX_POINTING_DESC.TXT"
RIGHT_ASCENSION = -1e+32
DECLINATION = -1e+32
OFFSET_ANGLE = 1.43
SPACECRAFT_SOLAR_DISTANCE = 2.46544e+08
TARGET_NAME = MARS
/* CAMERA DATA ELEMENTS */
DETECTOR_TEMPERATURE = 17.351
FOCAL_PLANE_TEMPERATURE = 7.7677
INST_CMPRS_NAME = "DISCRETE COSINE TRANSFORMATION (DCT)"
INST_CMPRS_RATIO = 7.40381
INST_CMPRS_QUALITY = 0
INST_CMPRS_QUANTZ_TBL_ID = 0
INSTRUMENT_TEMPERATURE = 11.6418
LENS_TEMPERATURE = 8.5833
MACROPIXEL_SIZE = 2
MISSING_FRAMES = 1
PIXEL_SUBSAMPLING_FLAG = N
SIGNAL_CHAIN_ID = 3
/* RADIOMETRIC DATA ELEMENTS */
BANDWIDTH = 174.0
CENTER_FILTER_WAVELENGTH = 675.0
RADIANCE_OFFSET = 1.98007
RADIANCE_SCALING_FACTOR = 0.00982508
REFLECTANCE_SCALING_FACTOR = 0.000321227
MEX:REFLECTANCE_OFFSET = 0.0647376
/* IMAGE OBJECT DEFINITIONS */
OBJECT = IMAGE
  INTERCHANGE_FORMAT = BINARY
  LINES = 23729
  LINE_SAMPLES = 4155
  SAMPLE_TYPE = UNSIGNED_INTEGER
  SAMPLE_BITS = 8
  BANDS = 1
  BAND_STORAGE_TYPE = BAND_SEQUENTIAL
  MAXIMUM = 255
  MEAN = 102.914
  MINIMUM = 1
  STANDARD_DEVIATION = 19.5384
END_OBJECT = IMAGE
/* MAP OBJECT DEFINITIONS */
OBJECT = IMAGE_MAP_PROJECTION
  ^DATA_SET_MAP_PROJECTION_CATALOG= "DSMAP.CAT"
  A_AXIS_RADIUS = 3396.0
  B_AXIS_RADIUS = 3396.0
  C_AXIS_RADIUS = 3396.0
  CENTER_LATITUDE = 0.0
  CENTER_LONGITUDE = 140.0
  COORDINATE_SYSTEM_NAME = PLANETOGRAPHIC
  COORDINATE_SYSTEM_TYPE = "BODY-FIXED ROTATING"
  EASTERNMOST_LONGITUDE = 141.064
  FIRST_STANDARD_PARALLEL = "N/A"
  LINE_FIRST_PIXEL = 1
  LINE_LAST_PIXEL = 23729
  LINE_PROJECTION_OFFSET = 16407.75
  MAP_PROJECTION_ROTATION = 0.0
  MAP_PROJECTION_TYPE = SINUSOIDAL
  MAP_RESOLUTION = 2370.85521546667
  MAP_SCALE = 0.025
  MAXIMUM_LATITUDE = 6.94547
  MINIMUM_LATITUDE = -3.14111
  POSITIVE_LONGITUDE_DIRECTION = EAST
  REFERENCE_LATITUDE = "N/A"
  REFERENCE_LONGITUDE = "N/A"
  SAMPLE_FIRST_PIXEL = 1
  SAMPLE_LAST_PIXEL = 4155
  SAMPLE_PROJECTION_OFFSET = 1736.25
  SECOND_STANDARD_PARALLEL = "N/A"
  WESTERNMOST_LONGITUDE = 139.218
END_OBJECT = IMAGE_MAP_PROJECTION
END
