PDS_VERSION_ID = PDS3
/* FILE DATA ELEMENTS */
RECORD_TYPE = UNDEFINED
/* POINTERS TO DATA OBJECTS */
^IMAGE = ("HC505_0000_P14.TIF")
/* IDENTIFICATION DATA ELEMENTS */
DATA_SET_ID = "MEX-M-HRSC-4-REFDR-MAPPROJECT-EXT4-V4.0"
DATA_SET_NAME = "MARS EXPRESS HRSC MAP PROJECTED REFDR EXTENSION4 V4.0"
DETECTOR_ID = MEX_HRSC_P1
EVENT_TYPE = "MARS-LOCAL-STEREO-Vo"
INSTRUMENT_HOST_ID = MEX
INSTRUMENT_HOST_NAME = "MARS EXPRESS"
INSTRUMENT_ID = HRSC
INSTRUMENT_NAME = "HIGH RESOLUTION STEREO CAMERA"
MISSION_NAME = "MARS EXPRESS"
MISSION_PHASE_NAME = ME_Phase_29
PROCESSING_LEVEL_ID = 4
PRODUCT_CREATION_TIME = 2023-01-31T11:51:40.000Z
PRODUCT_ID = "HC505_0000_P14.TIF"
RELEASE_ID = 0003
REVISION_ID = 0000
/* QUALITY DATA ELEMENTS */
DATA_QUALITY_ID = 1
DATA_QUALITY_DESC = "Data calculated based on original SPICE kernels"
/* TIME DATA ELEMENTS */
SPACECRAFT_CLOCK_START_COUNT = "1/0331529937.07345"
SPACECRAFT_CLOCK_STOP_COUNT = "1/0331530094.48759"
START_TIME = 2013-11-03T03:39:51.702Z
STOP_TIME = 2013-11-03T03:41:26.285Z
/* ORBITAL DATA ELEMENTS */
ASCENDING_NODE_LONGITUDE = 339.02
MAXIMUM_RESOLUTION = 0.0272
FOOTPRINT_POINT_LATITUDE = (-18.7074,-18.7084,-18.7087,-18.709, -18.7092,-18.7095,-18.7096,-18.7096, -18.6891,-18.5089,-18.3287,-18.2085, -18.0886,-17.9085,-17.7884,-17.6685, -17.4886,-17.3089,-17.0693,-16.8898, -16.7104,-16.5309,-16.3467,-16.2233, -16.0997,-15.9146,-15.7296,-15.5446, -15.4214,-15.2982,-15.1135,-14.9903, -14.8673,-14.7442,-14.6212,-14.4374, -14.3136,-14.1907,-14.0067,-13.8838, -13.7612,-13.6384,-13.5159,-13.3933, -13.2709,-13.1484,-13.0261,-12.8427, -12.6594,-12.5982,-12.5685,-12.5674, -12.5667,-12.5658,-12.5644,-12.5631, -12.563,-12.5634,-12.7469,-12.9304, -13.114,-13.2368,-13.4204,-13.6043, -13.7269,-13.8497,-14.0337,-14.1565, -14.2795,-14.4024,-14.5254,-14.6485, -14.7716,-14.9562,-15.0793,-15.2027, -15.3258,-15.4491,-15.5724,-15.6961, -15.8812,-16.0047,-16.1283,-16.2519, -16.3756,-16.6188,-16.8581,-17.0976, -17.2175,-17.3972,-17.577,-17.6969, -17.817,-17.937,-18.0571,-18.2372, -18.4174,-18.5978,-18.6579,-18.7074)
FOOTPRINT_POINT_LONGITUDE = (244.664,244.292,244.112,243.98,243.789 ,243.597,243.44,243.428,243.435,243.435 ,243.435,243.435,243.436,243.436, 243.436,243.436,243.436,243.436,243.436 ,243.436,243.435,243.435,243.435, 243.435,243.434,243.434,243.433,243.433 ,243.432,243.432,243.431,243.431,243.43 ,243.43,243.429,243.428,243.428,243.427 ,243.426,243.426,243.425,243.424, 243.423,243.423,243.422,243.421,243.42, 243.419,243.417,243.417,243.416,243.687 ,243.875,244.075,244.369,244.616, 244.628,244.632,244.633,244.633,244.634 ,244.634,244.635,244.635,244.635, 244.636,244.636,244.636,244.637,244.637 ,244.638,244.638,244.638,244.639, 244.639,244.64,244.64,244.641,244.641, 244.642,244.642,244.643,244.643,244.644 ,244.644,244.645,244.646,244.647, 244.648,244.648,244.649,244.649,244.65, 244.651,244.651,244.652,244.653,244.654 ,244.654,244.664)
ORBIT_NUMBER = 12505
ORBITAL_ECCENTRICITY = 0.579
ORBITAL_INCLINATION = 86.88
ORBITAL_SEMIMAJOR_AXIS = 8853.52
PERIAPSIS_ALTITUDE = 337.19
PERIAPSIS_ARGUMENT_ANGLE = 341.08
PERIAPSIS_TIME = 2013-11-03T03:39:30.000Z
SPACECRAFT_ORIENTATION = (0.0,1.0,0.0)
^MEX_ORIENTATION_DESC = "MEX_ORIENTATION_DESC.TXT"
SPACECRAFT_POINTING_MODE = NADIR
^MEX_POINTING_DESC = "MEX_POINTING_DESC.TXT"
RIGHT_ASCENSION = -1e+32
DECLINATION = -1e+32
OFFSET_ANGLE = -1e+32
SPACECRAFT_SOLAR_DISTANCE = 2.46518e+08
TARGET_NAME = MARS
/* CAMERA DATA ELEMENTS */
DETECTOR_TEMPERATURE = 17.1471
FOCAL_PLANE_TEMPERATURE = 7.9716
INST_CMPRS_NAME = "DISCRETE COSINE TRANSFORMATION (DCT)"
INST_CMPRS_RATIO = 7.23684
INST_CMPRS_QUALITY = 0
INST_CMPRS_QUANTZ_TBL_ID = 0
INSTRUMENT_TEMPERATURE = 11.4379
LENS_TEMPERATURE = 8.3794
MACROPIXEL_SIZE = 2
MISSING_FRAMES = 0
PIXEL_SUBSAMPLING_FLAG = N
SIGNAL_CHAIN_ID = 3
/* RADIOMETRIC DATA ELEMENTS */
BANDWIDTH = 174.0
CENTER_FILTER_WAVELENGTH = 675.0
RADIANCE_OFFSET = 0.784333
RADIANCE_SCALING_FACTOR = 0.0106471
REFLECTANCE_SCALING_FACTOR = 0.000348028
MEX:REFLECTANCE_OFFSET = 0.0256381
/* IMAGE OBJECT DEFINITIONS */
OBJECT = IMAGE
  INTERCHANGE_FORMAT = BINARY
  LINES = 14533
  LINE_SAMPLES = 2799
  SAMPLE_TYPE = UNSIGNED_INTEGER
  SAMPLE_BITS = 8
  BANDS = 1
  BAND_STORAGE_TYPE = BAND_SEQUENTIAL
  MAXIMUM = 255
  MEAN = 84.7895
  MINIMUM = 1
  STANDARD_DEVIATION = 19.6199
END_OBJECT = IMAGE
/* MAP OBJECT DEFINITIONS */
OBJECT = IMAGE_MAP_PROJECTION
  ^DATA_SET_MAP_PROJECTION_CATALOG= "DSMAP.CAT"
  A_AXIS_RADIUS = 3396.0
  B_AXIS_RADIUS = 3396.0
  C_AXIS_RADIUS = 3396.0
  CENTER_LATITUDE = 0.0
  CENTER_LONGITUDE = 244.0
  COORDINATE_SYSTEM_NAME = PLANETOGRAPHIC
  COORDINATE_SYSTEM_TYPE = "BODY-FIXED ROTATING"
  EASTERNMOST_LONGITUDE = 244.664
  FIRST_STANDARD_PARALLEL = "N/A"
  LINE_FIRST_PIXEL = 1
  LINE_LAST_PIXEL = 14533
  LINE_PROJECTION_OFFSET = -29859.25
  MAP_PROJECTION_ROTATION = 0.0
  MAP_PROJECTION_TYPE = SINUSOIDAL
  MAP_RESOLUTION = 2370.85521546667
  MAP_SCALE = 0.025
  MAXIMUM_LATITUDE = -12.563
  MINIMUM_LATITUDE = -18.7096
  POSITIVE_LONGITUDE_DIRECTION = EAST
  REFERENCE_LATITUDE = "N/A"
  REFERENCE_LONGITUDE = "N/A"
  SAMPLE_FIRST_PIXEL = 1
  SAMPLE_LAST_PIXEL = 2799
  SAMPLE_PROJECTION_OFFSET = 1335.75
  SECOND_STANDARD_PARALLEL = "N/A"
  WESTERNMOST_LONGITUDE = 243.416
END_OBJECT = IMAGE_MAP_PROJECTION
END
