PDS_VERSION_ID = PDS3
/* FILE DATA ELEMENTS */
RECORD_TYPE = UNDEFINED
/* POINTERS TO DATA OBJECTS */
^IMAGE = ("HC504_0000_RE4.TIF")
/* IDENTIFICATION DATA ELEMENTS */
DATA_SET_ID = "MEX-M-HRSC-4-REFDR-MAPPROJECT-EXT4-V4.0"
DATA_SET_NAME = "MARS EXPRESS HRSC MAP PROJECTED REFDR EXTENSION4 V4.0"
DETECTOR_ID = MEX_HRSC_RED
EVENT_TYPE = "MARS-REGIONAL-MAPPING-Im-Fl"
INSTRUMENT_HOST_ID = MEX
INSTRUMENT_HOST_NAME = "MARS EXPRESS"
INSTRUMENT_ID = HRSC
INSTRUMENT_NAME = "HIGH RESOLUTION STEREO CAMERA"
MISSION_NAME = "MARS EXPRESS"
MISSION_PHASE_NAME = ME_Phase_29
PROCESSING_LEVEL_ID = 4
PRODUCT_CREATION_TIME = 2023-01-31T11:51:40.000Z
PRODUCT_ID = "HC504_0000_RE4.TIF"
RELEASE_ID = 0003
REVISION_ID = 0000
/* QUALITY DATA ELEMENTS */
DATA_QUALITY_ID = 1
DATA_QUALITY_DESC = "Data calculated based on original SPICE kernels"
/* TIME DATA ELEMENTS */
SPACECRAFT_CLOCK_START_COUNT = "1/0331504873.07350"
SPACECRAFT_CLOCK_STOP_COUNT = "1/0331505068.06851"
START_TIME = 2013-11-02T20:41:22.804Z
STOP_TIME = 2013-11-02T20:43:26.282Z
/* ORBITAL DATA ELEMENTS */
ASCENDING_NODE_LONGITUDE = 339.04
MAXIMUM_RESOLUTION = 0.0575
FOOTPRINT_POINT_LATITUDE = (-12.3176,-12.3222,-12.3297,-12.3331, -12.3378,-12.3406,-12.3408,-12.3258, -12.0836,-11.7605,-11.5988,-11.4373, -11.1944,-10.9516,-10.7897,-10.6276, -10.466,-10.3042,-10.1422,-9.81917, -9.65731,-9.49485,-9.33254,-9.0897, -8.92764,-8.68496,-8.52309,-8.36078, -8.11814,-7.8747,-7.63158,-7.4694, -7.14636,-6.98465,-6.82215,-6.6598, -6.49813,-6.3325,-6.0927,-5.76905, -5.60638,-5.44472,-5.28317,-5.12135, -4.95917,-4.79661,-4.635,-4.47298, -4.31125,-4.23049,-4.20092,-4.1977, -4.19192,-4.18544,-4.18111,-4.17518, -4.17488,-4.17565,-4.33744,-4.49933, -4.82259,-4.98457,-5.14649,-5.30862, -5.47054,-5.633,-5.95739,-6.27592, -6.43788,-6.60331,-6.76917,-6.93072, -7.09262,-7.25466,-7.57812,-7.74014, -7.90226,-8.06447,-8.22622,-8.3884, -8.55028,-8.71222,-8.95588,-9.11833, -9.43956,-9.60488,-9.92819,-10.0901, -10.3327,-10.4946,-10.6566,-10.8184, -10.9806,-11.2234,-11.5459,-11.7078, -11.871,-12.1884,-12.2682,-12.3176)
FOOTPRINT_POINT_LONGITUDE = (347.106,346.911,346.556,346.373,346.09 ,345.897,345.886,345.88,345.878,345.876 ,345.874,345.873,345.871,345.869, 345.867,345.865,345.864,345.862,345.861 ,345.857,345.856,345.854,345.852, 345.849,345.847,345.844,345.842,345.84, 345.837,345.834,345.831,345.828,345.824 ,345.822,345.819,345.817,345.815, 345.811,345.808,345.803,345.801,345.798 ,345.796,345.793,345.79,345.787,345.785 ,345.782,345.779,345.778,345.777, 345.971,346.287,346.605,346.813,347.071 ,347.084,347.088,347.088,347.088, 347.089,347.089,347.089,347.089,347.09, 347.09,347.09,347.093,347.094,347.093, 347.091,347.092,347.092,347.093,347.094 ,347.094,347.095,347.095,347.096, 347.096,347.097,347.098,347.098,347.099 ,347.101,347.1,347.102,347.103,347.104, 347.104,347.105,347.106,347.106,347.108 ,347.11,347.11,347.111,347.115,347.116, 347.106)
ORBIT_NUMBER = 12504
ORBITAL_ECCENTRICITY = 0.578
ORBITAL_INCLINATION = 86.88
ORBITAL_SEMIMAJOR_AXIS = 8840.92
PERIAPSIS_ALTITUDE = 337.93
PERIAPSIS_ARGUMENT_ANGLE = 341.26
PERIAPSIS_TIME = 2013-11-02T20:40:11.000Z
SPACECRAFT_ORIENTATION = (0.0,1.0,0.0)
^MEX_ORIENTATION_DESC = "MEX_ORIENTATION_DESC.TXT"
SPACECRAFT_POINTING_MODE = ACROSSTRACK
^MEX_POINTING_DESC = "MEX_POINTING_DESC.TXT"
RIGHT_ASCENSION = -1e+32
DECLINATION = -1e+32
OFFSET_ANGLE = -0.25
SPACECRAFT_SOLAR_DISTANCE = 2.46493e+08
TARGET_NAME = MARS
/* CAMERA DATA ELEMENTS */
DETECTOR_TEMPERATURE = 18.5744
FOCAL_PLANE_TEMPERATURE = 7.5638
INST_CMPRS_NAME = "DISCRETE COSINE TRANSFORMATION (DCT)"
INST_CMPRS_RATIO = 18.4917
INST_CMPRS_QUALITY = 0
INST_CMPRS_QUANTZ_TBL_ID = 0
INSTRUMENT_TEMPERATURE = 11.4379
LENS_TEMPERATURE = 8.3794
MACROPIXEL_SIZE = 4
MISSING_FRAMES = 0
PIXEL_SUBSAMPLING_FLAG = N
SIGNAL_CHAIN_ID = 2
/* RADIOMETRIC DATA ELEMENTS */
BANDWIDTH = 48.0
CENTER_FILTER_WAVELENGTH = 748.0
RADIANCE_OFFSET = 0.285913
RADIANCE_SCALING_FACTOR = 0.00235458
REFLECTANCE_SCALING_FACTOR = 0.000326473
MEX:REFLECTANCE_OFFSET = 0.0396432
/* IMAGE OBJECT DEFINITIONS */
OBJECT = IMAGE
  INTERCHANGE_FORMAT = BINARY
  LINES = 9637
  LINE_SAMPLES = 1589
  SAMPLE_TYPE = UNSIGNED_INTEGER
  SAMPLE_BITS = 8
  BANDS = 1
  BAND_STORAGE_TYPE = BAND_SEQUENTIAL
  MAXIMUM = 255
  MEAN = 96.8682
  MINIMUM = 1
  STANDARD_DEVIATION = 34.5837
END_OBJECT = IMAGE
/* MAP OBJECT DEFINITIONS */
OBJECT = IMAGE_MAP_PROJECTION
  ^DATA_SET_MAP_PROJECTION_CATALOG= "DSMAP.CAT"
  A_AXIS_RADIUS = 3396.0
  B_AXIS_RADIUS = 3396.0
  C_AXIS_RADIUS = 3396.0
  CENTER_LATITUDE = 0.0
  CENTER_LONGITUDE = 346.0
  COORDINATE_SYSTEM_NAME = PLANETOGRAPHIC
  COORDINATE_SYSTEM_TYPE = "BODY-FIXED ROTATING"
  EASTERNMOST_LONGITUDE = 347.116
  FIRST_STANDARD_PARALLEL = "N/A"
  LINE_FIRST_PIXEL = 1
  LINE_LAST_PIXEL = 9637
  LINE_PROJECTION_OFFSET = -4971.875
  MAP_PROJECTION_ROTATION = 0.0
  MAP_PROJECTION_TYPE = SINUSOIDAL
  MAP_RESOLUTION = 1185.42760773333
  MAP_SCALE = 0.05
  MAXIMUM_LATITUDE = -4.17488
  MINIMUM_LATITUDE = -12.3408
  POSITIVE_LONGITUDE_DIRECTION = EAST
  REFERENCE_LATITUDE = "N/A"
  REFERENCE_LONGITUDE = "N/A"
  SAMPLE_FIRST_PIXEL = 1
  SAMPLE_LAST_PIXEL = 1589
  SAMPLE_PROJECTION_OFFSET = 284.625
  SECOND_STANDARD_PARALLEL = "N/A"
  WESTERNMOST_LONGITUDE = 345.777
END_OBJECT = IMAGE_MAP_PROJECTION
END
