PDS_VERSION_ID = PDS3
/* FILE DATA ELEMENTS */
RECORD_TYPE = UNDEFINED
/* POINTERS TO DATA OBJECTS */
^IMAGE = ("HC498_0000_P24.TIF")
/* IDENTIFICATION DATA ELEMENTS */
DATA_SET_ID = "MEX-M-HRSC-4-REFDR-MAPPROJECT-EXT4-V4.0"
DATA_SET_NAME = "MARS EXPRESS HRSC MAP PROJECTED REFDR EXTENSION4 V4.0"
DETECTOR_ID = MEX_HRSC_P2
EVENT_TYPE = "MARS-LOCAL-STEREO-Vo-Te"
INSTRUMENT_HOST_ID = MEX
INSTRUMENT_HOST_NAME = "MARS EXPRESS"
INSTRUMENT_ID = HRSC
INSTRUMENT_NAME = "HIGH RESOLUTION STEREO CAMERA"
MISSION_NAME = "MARS EXPRESS"
MISSION_PHASE_NAME = ME_Phase_29
PROCESSING_LEVEL_ID = 4
PRODUCT_CREATION_TIME = 2023-01-31T04:25:47.000Z
PRODUCT_ID = "HC498_0000_P24.TIF"
RELEASE_ID = 0002
REVISION_ID = 0000
/* QUALITY DATA ELEMENTS */
DATA_QUALITY_ID = 1
DATA_QUALITY_DESC = "Data calculated based on original SPICE kernels"
/* TIME DATA ELEMENTS */
SPACECRAFT_CLOCK_START_COUNT = "1/0331354161.07297"
SPACECRAFT_CLOCK_STOP_COUNT = "1/0331354327.56241"
START_TIME = 2013-11-01T02:49:39.166Z
STOP_TIME = 2013-11-01T02:50:47.957Z
/* ORBITAL DATA ELEMENTS */
ASCENDING_NODE_LONGITUDE = 339.15
MAXIMUM_RESOLUTION = 0.0349
FOOTPRINT_POINT_LATITUDE = (4.5503,4.55532,4.56041,4.56557,4.57084 ,4.57619,4.58164,4.5872,4.59286,4.59863 ,4.60449,4.61045,4.61652,4.62115, 4.62192,4.59913,4.76573,4.93206,5.14004 ,5.30774,5.4781,5.6486,5.8187,5.98822, 6.20049,6.37064,6.45783,6.67527,6.84893 ,6.93596,7.02305,7.19703,7.28414, 7.37125,7.45946,7.54867,7.68223,7.77128 ,7.90464,7.99345,8.08205,8.17051, 8.30326,8.39178,8.48163,8.57239,8.66299 ,8.79883,8.93498,8.9804,8.99111,8.98282 ,8.97766,8.97294,8.96698,8.96116, 8.95618,8.95205,8.94796,8.94423,8.93899 ,8.93433,8.92557,8.92496,8.92415, 8.78793,8.65146,8.56068,8.46982,8.33422 ,8.24552,8.15675,8.068,7.97926,7.89051, 7.80171,7.71286,7.62401,7.49073,7.4018, 7.31365,7.13981,6.96587,6.79189,6.61779 ,6.53072,6.44362,6.26981,6.09962, 5.92937,5.75895,5.5884,5.41782,5.24714, 5.03716,4.87056,4.70385,4.57877,4.5371, 4.5503)
FOOTPRINT_POINT_LONGITUDE = (238.474,238.357,238.239,238.12,238.0, 237.879,237.757,237.634,237.51,237.385, 237.258,237.131,237.002,236.905,236.888 ,236.916,236.912,236.907,236.901, 236.896,236.891,236.886,236.881,236.877 ,236.871,236.866,236.863,236.856,236.85 ,236.847,236.844,236.838,236.835, 236.831,236.828,236.824,236.819,236.816 ,236.811,236.808,236.805,236.802, 236.797,236.794,236.791,236.787,236.784 ,236.779,236.773,236.771,236.771, 236.981,237.119,237.239,237.393,237.544 ,237.678,237.794,237.91,238.008,238.138 ,238.267,238.476,238.492,238.498, 238.497,238.497,238.497,238.497,238.496 ,238.496,238.496,238.495,238.495, 238.495,238.494,238.494,238.494,238.493 ,238.493,238.493,238.493,238.492, 238.492,238.491,238.491,238.491,238.49, 238.49,238.489,238.489,238.488,238.488, 238.488,238.487,238.487,238.486,238.486 ,238.486,238.474)
ORBIT_NUMBER = 12498
ORBITAL_ECCENTRICITY = 0.578
ORBITAL_INCLINATION = 86.88
ORBITAL_SEMIMAJOR_AXIS = 8854.06
PERIAPSIS_ALTITUDE = 337.66
PERIAPSIS_ARGUMENT_ANGLE = 342.27
PERIAPSIS_TIME = 2013-11-01T02:44:19.000Z
SPACECRAFT_ORIENTATION = (0.0,1.0,0.0)
^MEX_ORIENTATION_DESC = "MEX_ORIENTATION_DESC.TXT"
SPACECRAFT_POINTING_MODE = ACROSSTRACK
^MEX_POINTING_DESC = "MEX_POINTING_DESC.TXT"
RIGHT_ASCENSION = -1e+32
DECLINATION = -1e+32
OFFSET_ANGLE = 1.6
SPACECRAFT_SOLAR_DISTANCE = 2.46336e+08
TARGET_NAME = MARS
/* CAMERA DATA ELEMENTS */
DETECTOR_TEMPERATURE = 18.3705
FOCAL_PLANE_TEMPERATURE = 7.156
INST_CMPRS_NAME = "DISCRETE COSINE TRANSFORMATION (DCT)"
INST_CMPRS_RATIO = 4.23771
INST_CMPRS_QUALITY = 0
INST_CMPRS_QUANTZ_TBL_ID = 0
INSTRUMENT_TEMPERATURE = 11.8457
LENS_TEMPERATURE = 8.7872
MACROPIXEL_SIZE = 2
MISSING_FRAMES = 0
PIXEL_SUBSAMPLING_FLAG = N
SIGNAL_CHAIN_ID = 3
/* RADIOMETRIC DATA ELEMENTS */
BANDWIDTH = 177.0
CENTER_FILTER_WAVELENGTH = 676.5
RADIANCE_OFFSET = 2.08132
RADIANCE_SCALING_FACTOR = 0.0135257
REFLECTANCE_SCALING_FACTOR = 0.000435184
MEX:REFLECTANCE_OFFSET = 0.0669657
/* IMAGE OBJECT DEFINITIONS */
OBJECT = IMAGE
  INTERCHANGE_FORMAT = BINARY
  LINES = 10472
  LINE_SAMPLES = 4180
  SAMPLE_TYPE = UNSIGNED_INTEGER
  SAMPLE_BITS = 8
  BANDS = 1
  BAND_STORAGE_TYPE = BAND_SEQUENTIAL
  MAXIMUM = 255
  MEAN = 123.118
  MINIMUM = 1
  STANDARD_DEVIATION = 27.1952
END_OBJECT = IMAGE
/* MAP OBJECT DEFINITIONS */
OBJECT = IMAGE_MAP_PROJECTION
  ^DATA_SET_MAP_PROJECTION_CATALOG= "DSMAP.CAT"
  A_AXIS_RADIUS = 3396.0
  B_AXIS_RADIUS = 3396.0
  C_AXIS_RADIUS = 3396.0
  CENTER_LATITUDE = 0.0
  CENTER_LONGITUDE = 238.0
  COORDINATE_SYSTEM_NAME = PLANETOGRAPHIC
  COORDINATE_SYSTEM_TYPE = "BODY-FIXED ROTATING"
  EASTERNMOST_LONGITUDE = 238.498
  FIRST_STANDARD_PARALLEL = "N/A"
  LINE_FIRST_PIXEL = 1
  LINE_LAST_PIXEL = 10472
  LINE_PROJECTION_OFFSET = 21310.25
  MAP_PROJECTION_ROTATION = 0.0
  MAP_PROJECTION_TYPE = SINUSOIDAL
  MAP_RESOLUTION = 2370.85521546667
  MAP_SCALE = 0.025
  MAXIMUM_LATITUDE = 8.991110000000001
  MINIMUM_LATITUDE = 4.5371
  POSITIVE_LONGITUDE_DIRECTION = EAST
  REFERENCE_LATITUDE = "N/A"
  REFERENCE_LONGITUDE = "N/A"
  SAMPLE_FIRST_PIXEL = 1
  SAMPLE_LAST_PIXEL = 4180
  SAMPLE_PROJECTION_OFFSET = 2929.25
  SECOND_STANDARD_PARALLEL = "N/A"
  WESTERNMOST_LONGITUDE = 236.771
END_OBJECT = IMAGE_MAP_PROJECTION
END
