PDS_VERSION_ID = PDS3
/* FILE DATA ELEMENTS */
RECORD_TYPE = UNDEFINED
/* POINTERS TO DATA OBJECTS */
^IMAGE = ("HC491_0009_P24.TIF")
/* IDENTIFICATION DATA ELEMENTS */
DATA_SET_ID = "MEX-M-HRSC-4-REFDR-MAPPROJECT-EXT4-V4.0"
DATA_SET_NAME = "MARS EXPRESS HRSC MAP PROJECTED REFDR EXTENSION4 V4.0"
DETECTOR_ID = MEX_HRSC_P2
EVENT_TYPE = "MARS-LOCAL-STEREO-Vo-Te"
INSTRUMENT_HOST_ID = MEX
INSTRUMENT_HOST_NAME = "MARS EXPRESS"
INSTRUMENT_ID = HRSC
INSTRUMENT_NAME = "HIGH RESOLUTION STEREO CAMERA"
MISSION_NAME = "MARS EXPRESS"
MISSION_PHASE_NAME = ME_Phase_29
PROCESSING_LEVEL_ID = 4
PRODUCT_CREATION_TIME = 2023-01-31T04:25:47.000Z
PRODUCT_ID = "HC491_0009_P24.TIF"
RELEASE_ID = 0002
REVISION_ID = 0000
/* QUALITY DATA ELEMENTS */
DATA_QUALITY_ID = 1
DATA_QUALITY_DESC = "Data calculated based on original SPICE kernels"
/* TIME DATA ELEMENTS */
SPACECRAFT_CLOCK_START_COUNT = "1/0331178036.08244"
SPACECRAFT_CLOCK_STOP_COUNT = "1/0331178203.48827"
START_TIME = 2013-10-30T01:54:13.704Z
STOP_TIME = 2013-10-30T01:55:26.417Z
/* ORBITAL DATA ELEMENTS */
ASCENDING_NODE_LONGITUDE = 339.28
MAXIMUM_RESOLUTION = 0.0342
FOOTPRINT_POINT_LATITUDE = (4.53104,4.52437,4.5156,4.50698,4.49846 ,4.4901,4.48183,4.4737,4.46572,4.45785, 4.45008,4.44242,4.43484,4.42737,4.42645 ,4.40776,4.67566,4.85395,5.03239, 5.25843,5.53272,5.80649,5.98779,6.12424 ,6.30618,6.49195,6.63118,6.72444, 6.91023,7.0495,7.14337,7.23631,7.32916, 7.42196,7.51629,7.61145,7.70648,7.80185 ,7.89719,7.99221,8.13499,8.27753, 8.37257,8.46748,8.56358,8.66079,8.75808 ,8.8557,9.00103,9.04953,9.07406,9.08175 ,9.08832,9.09388,9.10222,9.11035, 9.11684,9.12562,9.13529,9.1475,9.15921, 9.16998,9.17106,9.17083,9.02441,8.92715 ,8.78115,8.68377,8.58757,8.44495, 8.34981,8.2548,8.15975,8.06463,7.96936, 7.82674,7.73163,7.63635,7.54147,7.44854 ,7.35542,7.26201,7.12214,6.98241, 6.88923,6.74946,6.6564,6.56325,6.37852, 6.24214,6.06026,5.87764,5.60536,5.42319 ,5.15231,5.0189,4.79648,4.5737,4.52911, 4.53104)
FOOTPRINT_POINT_LONGITUDE = (237.152,237.057,236.93,236.806,236.682 ,236.559,236.438,236.317,236.198,236.08 ,235.963,235.846,235.731,235.617, 235.602,235.588,235.582,235.578,235.575 ,235.57,235.564,235.558,235.553,235.55, 235.546,235.542,235.538,235.536,235.531 ,235.528,235.526,235.524,235.521, 235.519,235.517,235.515,235.512,235.51, 235.508,235.506,235.502,235.499,235.496 ,235.494,235.492,235.49,235.487,235.485 ,235.481,235.48,235.48,235.635,235.761, 235.856,236.0,236.16,236.273,236.421, 236.586,236.787,236.957,237.145,237.162 ,237.169,237.165,237.164,237.161,237.16 ,237.158,237.156,237.154,237.153, 237.152,237.151,237.149,237.147,237.146 ,237.145,237.144,237.143,237.142,237.14 ,237.138,237.137,237.136,237.134, 237.133,237.132,237.131,237.13,237.128, 237.126,237.125,237.124,237.122,237.122 ,237.12,237.119,237.118,237.152)
ORBIT_NUMBER = 12491
ORBITAL_ECCENTRICITY = 0.578
ORBITAL_INCLINATION = 86.89
ORBITAL_SEMIMAJOR_AXIS = 8853.81
PERIAPSIS_ALTITUDE = 338.16
PERIAPSIS_ARGUMENT_ANGLE = 343.48
PERIAPSIS_TIME = 2013-10-30T01:49:14.000Z
SPACECRAFT_ORIENTATION = (0.0,1.0,0.0)
^MEX_ORIENTATION_DESC = "MEX_ORIENTATION_DESC.TXT"
SPACECRAFT_POINTING_MODE = ACROSSTRACK
^MEX_POINTING_DESC = "MEX_POINTING_DESC.TXT"
RIGHT_ASCENSION = -1e+32
DECLINATION = -1e+32
OFFSET_ANGLE = -1.6
SPACECRAFT_SOLAR_DISTANCE = 2.46148e+08
TARGET_NAME = MARS
/* CAMERA DATA ELEMENTS */
DETECTOR_TEMPERATURE = 18.5744
FOCAL_PLANE_TEMPERATURE = 8.7872
INST_CMPRS_NAME = "DISCRETE COSINE TRANSFORMATION (DCT)"
INST_CMPRS_RATIO = 4.48993
INST_CMPRS_QUALITY = 0
INST_CMPRS_QUANTZ_TBL_ID = 0
INSTRUMENT_TEMPERATURE = 12.0496
LENS_TEMPERATURE = 8.9911
MACROPIXEL_SIZE = 2
MISSING_FRAMES = 0
PIXEL_SUBSAMPLING_FLAG = N
SIGNAL_CHAIN_ID = 3
/* RADIOMETRIC DATA ELEMENTS */
BANDWIDTH = 177.0
CENTER_FILTER_WAVELENGTH = 676.5
RADIANCE_OFFSET = 1.37924
RADIANCE_SCALING_FACTOR = 0.0156696
REFLECTANCE_SCALING_FACTOR = 0.000503396
MEX:REFLECTANCE_OFFSET = 0.0443091
/* IMAGE OBJECT DEFINITIONS */
OBJECT = IMAGE
  INTERCHANGE_FORMAT = BINARY
  LINES = 11104
  LINE_SAMPLES = 4084
  SAMPLE_TYPE = UNSIGNED_INTEGER
  SAMPLE_BITS = 8
  BANDS = 1
  BAND_STORAGE_TYPE = BAND_SEQUENTIAL
  MAXIMUM = 255
  MEAN = 95.5426
  MINIMUM = 1
  STANDARD_DEVIATION = 26.0604
END_OBJECT = IMAGE
/* MAP OBJECT DEFINITIONS */
OBJECT = IMAGE_MAP_PROJECTION
  ^DATA_SET_MAP_PROJECTION_CATALOG= "DSMAP.CAT"
  A_AXIS_RADIUS = 3396.0
  B_AXIS_RADIUS = 3396.0
  C_AXIS_RADIUS = 3396.0
  CENTER_LATITUDE = 0.0
  CENTER_LONGITUDE = 236.0
  COORDINATE_SYSTEM_NAME = PLANETOGRAPHIC
  COORDINATE_SYSTEM_TYPE = "BODY-FIXED ROTATING"
  EASTERNMOST_LONGITUDE = 237.169
  FIRST_STANDARD_PARALLEL = "N/A"
  LINE_FIRST_PIXEL = 1
  LINE_LAST_PIXEL = 11104
  LINE_PROJECTION_OFFSET = 21672.25
  MAP_PROJECTION_ROTATION = 0.0
  MAP_PROJECTION_TYPE = SINUSOIDAL
  MAP_RESOLUTION = 2370.85521546667
  MAP_SCALE = 0.025
  MAXIMUM_LATITUDE = 9.171060000000001
  MINIMUM_LATITUDE = 4.40776
  POSITIVE_LONGITUDE_DIRECTION = EAST
  REFERENCE_LATITUDE = "N/A"
  REFERENCE_LONGITUDE = "N/A"
  SAMPLE_FIRST_PIXEL = 1
  SAMPLE_LAST_PIXEL = 4084
  SAMPLE_PROJECTION_OFFSET = 1295.75
  SECOND_STANDARD_PARALLEL = "N/A"
  WESTERNMOST_LONGITUDE = 235.48
END_OBJECT = IMAGE_MAP_PROJECTION
END
