PDS_VERSION_ID = PDS3
/* FILE DATA ELEMENTS */
RECORD_TYPE = UNDEFINED
/* POINTERS TO DATA OBJECTS */
^IMAGE = ("HC491_0009_P14.TIF")
/* IDENTIFICATION DATA ELEMENTS */
DATA_SET_ID = "MEX-M-HRSC-4-REFDR-MAPPROJECT-EXT4-V4.0"
DATA_SET_NAME = "MARS EXPRESS HRSC MAP PROJECTED REFDR EXTENSION4 V4.0"
DETECTOR_ID = MEX_HRSC_P1
EVENT_TYPE = "MARS-LOCAL-STEREO-Vo-Te"
INSTRUMENT_HOST_ID = MEX
INSTRUMENT_HOST_NAME = "MARS EXPRESS"
INSTRUMENT_ID = HRSC
INSTRUMENT_NAME = "HIGH RESOLUTION STEREO CAMERA"
MISSION_NAME = "MARS EXPRESS"
MISSION_PHASE_NAME = ME_Phase_29
PROCESSING_LEVEL_ID = 4
PRODUCT_CREATION_TIME = 2023-01-31T04:25:47.000Z
PRODUCT_ID = "HC491_0009_P14.TIF"
RELEASE_ID = 0002
REVISION_ID = 0000
/* QUALITY DATA ELEMENTS */
DATA_QUALITY_ID = 1
DATA_QUALITY_DESC = "Data calculated based on original SPICE kernels"
/* TIME DATA ELEMENTS */
SPACECRAFT_CLOCK_START_COUNT = "1/0331178036.08244"
SPACECRAFT_CLOCK_STOP_COUNT = "1/0331178203.48827"
START_TIME = 2013-10-30T01:55:07.952Z
STOP_TIME = 2013-10-30T01:56:28.065Z
/* ORBITAL DATA ELEMENTS */
ASCENDING_NODE_LONGITUDE = 339.28
MAXIMUM_RESOLUTION = 0.0365
FOOTPRINT_POINT_LATITUDE = (4.42221,4.42716,4.43362,4.43993,4.4461 ,4.45217,4.45808,4.46385,4.46947, 4.47497,4.48033,4.48557,4.49069,4.4957, 4.49632,4.51452,4.78212,4.96026,5.09359 ,5.2294,5.36555,5.54702,5.72803,5.95452 ,6.13791,6.32337,6.46137,6.64614, 6.83015,7.0636,7.15748,7.2983,7.43918, 7.5329,7.62654,7.76669,7.90943,8.00488, 8.0999,8.19518,8.28963,8.38467,8.47981, 8.57447,8.67135,8.7678,8.86465,9.00953, 9.10617,9.15444,9.18546,9.18061,9.17461 ,9.16438,9.159,9.15477,9.14834,9.14321, 9.13613,9.12941,9.12354,9.1157,9.11481, 9.11392,8.96978,8.87344,8.72908,8.63281 ,8.48854,8.39388,8.29897,8.20397, 8.06154,7.9664,7.87114,7.77597,7.68136, 7.58803,7.49457,7.401,7.30755,7.21402, 7.12039,7.02659,6.93277,6.8392,6.65511, 6.47069,6.2397,5.96251,5.7817,5.59969, 5.41794,5.23597,5.00902,4.83073,4.65235 ,4.51847,4.47382,4.42221)
FOOTPRINT_POINT_LONGITUDE = (237.203,237.102,236.968,236.836, 236.704,236.574,236.445,236.317,236.19, 236.064,235.94,235.816,235.693,235.571, 235.555,235.542,235.535,235.53,235.527, 235.524,235.52,235.516,235.511,235.505, 235.5,235.495,235.491,235.486,235.481, 235.474,235.472,235.468,235.464,235.461 ,235.458,235.454,235.45,235.447,235.445 ,235.442,235.44,235.437,235.434,235.431 ,235.428,235.426,235.423,235.419, 235.416,235.414,235.413,235.582,235.787 ,236.047,236.221,236.327,236.487, 236.612,236.774,236.903,237.048,237.215 ,237.233,237.24,237.237,237.235,237.231 ,237.229,237.226,237.224,237.223, 237.221,237.218,237.217,237.215,237.213 ,237.212,237.21,237.208,237.207,237.205 ,237.204,237.202,237.2,237.199,237.198, 237.195,237.193,237.19,237.186,237.184, 237.182,237.18,237.179,237.176,237.174, 237.173,237.171,237.171,237.203)
ORBIT_NUMBER = 12491
ORBITAL_ECCENTRICITY = 0.578
ORBITAL_INCLINATION = 86.89
ORBITAL_SEMIMAJOR_AXIS = 8853.81
PERIAPSIS_ALTITUDE = 338.16
PERIAPSIS_ARGUMENT_ANGLE = 343.48
PERIAPSIS_TIME = 2013-10-30T01:49:14.000Z
SPACECRAFT_ORIENTATION = (0.0,1.0,0.0)
^MEX_ORIENTATION_DESC = "MEX_ORIENTATION_DESC.TXT"
SPACECRAFT_POINTING_MODE = ACROSSTRACK
^MEX_POINTING_DESC = "MEX_POINTING_DESC.TXT"
RIGHT_ASCENSION = -1e+32
DECLINATION = -1e+32
OFFSET_ANGLE = -1.6
SPACECRAFT_SOLAR_DISTANCE = 2.46148e+08
TARGET_NAME = MARS
/* CAMERA DATA ELEMENTS */
DETECTOR_TEMPERATURE = 17.9627
FOCAL_PLANE_TEMPERATURE = 8.7872
INST_CMPRS_NAME = "DISCRETE COSINE TRANSFORMATION (DCT)"
INST_CMPRS_RATIO = 5.3441
INST_CMPRS_QUALITY = 0
INST_CMPRS_QUANTZ_TBL_ID = 0
INSTRUMENT_TEMPERATURE = 12.0496
LENS_TEMPERATURE = 8.9911
MACROPIXEL_SIZE = 2
MISSING_FRAMES = 0
PIXEL_SUBSAMPLING_FLAG = N
SIGNAL_CHAIN_ID = 3
/* RADIOMETRIC DATA ELEMENTS */
BANDWIDTH = 174.0
CENTER_FILTER_WAVELENGTH = 675.0
RADIANCE_OFFSET = 1.38291
RADIANCE_SCALING_FACTOR = 0.0157272
REFLECTANCE_SCALING_FACTOR = 0.000512545
MEX:REFLECTANCE_OFFSET = 0.0450686
/* IMAGE OBJECT DEFINITIONS */
OBJECT = IMAGE
  INTERCHANGE_FORMAT = BINARY
  LINES = 11104
  LINE_SAMPLES = 4084
  SAMPLE_TYPE = UNSIGNED_INTEGER
  SAMPLE_BITS = 8
  BANDS = 1
  BAND_STORAGE_TYPE = BAND_SEQUENTIAL
  MAXIMUM = 255
  MEAN = 94.2054
  MINIMUM = 1
  STANDARD_DEVIATION = 25.5268
END_OBJECT = IMAGE
/* MAP OBJECT DEFINITIONS */
OBJECT = IMAGE_MAP_PROJECTION
  ^DATA_SET_MAP_PROJECTION_CATALOG= "DSMAP.CAT"
  A_AXIS_RADIUS = 3396.0
  B_AXIS_RADIUS = 3396.0
  C_AXIS_RADIUS = 3396.0
  CENTER_LATITUDE = 0.0
  CENTER_LONGITUDE = 236.0
  COORDINATE_SYSTEM_NAME = PLANETOGRAPHIC
  COORDINATE_SYSTEM_TYPE = "BODY-FIXED ROTATING"
  EASTERNMOST_LONGITUDE = 237.24
  FIRST_STANDARD_PARALLEL = "N/A"
  LINE_FIRST_PIXEL = 1
  LINE_LAST_PIXEL = 11104
  LINE_PROJECTION_OFFSET = 21672.25
  MAP_PROJECTION_ROTATION = 0.0
  MAP_PROJECTION_TYPE = SINUSOIDAL
  MAP_RESOLUTION = 2370.85521546667
  MAP_SCALE = 0.025
  MAXIMUM_LATITUDE = 9.185460000000001
  MINIMUM_LATITUDE = 4.42221
  POSITIVE_LONGITUDE_DIRECTION = EAST
  REFERENCE_LATITUDE = "N/A"
  REFERENCE_LONGITUDE = "N/A"
  SAMPLE_FIRST_PIXEL = 1
  SAMPLE_LAST_PIXEL = 4084
  SAMPLE_PROJECTION_OFFSET = 1295.75
  SECOND_STANDARD_PARALLEL = "N/A"
  WESTERNMOST_LONGITUDE = 235.413
END_OBJECT = IMAGE_MAP_PROJECTION
END
