PDS_VERSION_ID = PDS3
/* FILE DATA ELEMENTS */
RECORD_TYPE = UNDEFINED
/* POINTERS TO DATA OBJECTS */
^IMAGE = ("HC483_0000_S24.TIF")
/* IDENTIFICATION DATA ELEMENTS */
DATA_SET_ID = "MEX-M-HRSC-4-REFDR-MAPPROJECT-EXT4-V4.0"
DATA_SET_NAME = "MARS EXPRESS HRSC MAP PROJECTED REFDR EXTENSION4 V4.0"
DETECTOR_ID = MEX_HRSC_S2
EVENT_TYPE = "MARS-REGIONAL-MAPPING-Fl-Mw"
INSTRUMENT_HOST_ID = MEX
INSTRUMENT_HOST_NAME = "MARS EXPRESS"
INSTRUMENT_ID = HRSC
INSTRUMENT_NAME = "HIGH RESOLUTION STEREO CAMERA"
MISSION_NAME = "MARS EXPRESS"
MISSION_PHASE_NAME = ME_Phase_29
PROCESSING_LEVEL_ID = 4
PRODUCT_CREATION_TIME = 2023-01-31T04:25:47.000Z
PRODUCT_ID = "HC483_0000_S24.TIF"
RELEASE_ID = 0002
REVISION_ID = 0000
/* QUALITY DATA ELEMENTS */
DATA_QUALITY_ID = 1
DATA_QUALITY_DESC = "Data calculated based on original SPICE kernels"
/* TIME DATA ELEMENTS */
SPACECRAFT_CLOCK_START_COUNT = "1/0330976585.07290"
SPACECRAFT_CLOCK_STOP_COUNT = "1/0330976749.00355"
START_TIME = 2013-10-27T17:56:29.533Z
STOP_TIME = 2013-10-27T17:58:02.148Z
/* ORBITAL DATA ELEMENTS */
ASCENDING_NODE_LONGITUDE = 339.43
MAXIMUM_RESOLUTION = 0.0149
FOOTPRINT_POINT_LATITUDE = (-7.4629,-7.46438,-7.46573,-7.46741, -7.46843,-7.46945,-7.47014,-7.47053, -7.47054,-7.43959,-7.31785,-7.1961, -7.01409,-6.89259,-6.70936,-6.58722, -6.46391,-6.28102,-6.15713,-5.91583, -5.79216,-5.60808,-5.48541,-5.30245, -5.18035,-5.05899,-4.87835,-4.75733, -4.63267,-4.50959,-4.32741,-4.20284, -4.08057,-3.95873,-3.83642,-3.596, -3.47377,-3.34854,-3.22661,-2.98725, -2.80582,-2.62658,-2.50515,-2.38281, -2.26076,-2.07748,-1.88615,-1.708, -1.52685,-1.40506,-1.34408,-1.34276, -1.34089,-1.34021,-1.33857,-1.33733, -1.33507,-1.33239,-1.33037,-1.3302, -1.33034,-1.57302,-1.75471,-2.05326, -2.24034,-2.36273,-2.54414,-2.72627, -2.85302,-3.04007,-3.21969,-3.39895, -3.52147,-3.6455,-3.76826,-3.89018, -4.01327,-4.19615,-4.44012,-4.62455, -4.74625,-4.9277,-5.04967,-5.17378, -5.29754,-5.53902,-5.66235,-5.84558, -6.0291,-6.15181,-6.27774,-6.52415, -6.70064,-6.82212,-7.00378,-7.12534, -7.25094,-7.382,-7.4407,-7.4629)
FOOTPRINT_POINT_LONGITUDE = (333.022,332.889,332.757,332.563, 332.419,332.226,332.032,331.815,331.803 ,331.788,331.786,331.785,331.783, 331.782,331.78,331.779,331.777,331.775, 331.773,331.771,331.769,331.767,331.765 ,331.763,331.761,331.76,331.758,331.757 ,331.755,331.753,331.75,331.748,331.746 ,331.745,331.743,331.741,331.739, 331.736,331.734,331.732,331.73,331.728, 331.727,331.725,331.723,331.72,331.714, 331.713,331.711,331.709,331.708,331.708 ,331.938,332.079,332.284,332.502, 332.695,332.836,332.99,333.003,333.009, 333.01,333.011,333.013,333.013,333.013, 333.014,333.015,333.014,333.013,333.015 ,333.016,333.017,333.016,333.017, 333.017,333.017,333.018,333.019,333.019 ,333.02,333.021,333.021,333.021,333.021 ,333.023,333.023,333.024,333.024, 333.025,333.024,333.025,333.027,333.028 ,333.029,333.03,333.029,333.027,333.028 ,333.022)
ORBIT_NUMBER = 12483
ORBITAL_ECCENTRICITY = 0.578
ORBITAL_INCLINATION = 86.9
ORBITAL_SEMIMAJOR_AXIS = 8842.32
PERIAPSIS_ALTITUDE = 339.24
PERIAPSIS_ARGUMENT_ANGLE = 344.88
PERIAPSIS_TIME = 2013-10-27T17:55:04.000Z
SPACECRAFT_ORIENTATION = (0.0,1.0,0.0)
^MEX_ORIENTATION_DESC = "MEX_ORIENTATION_DESC.TXT"
SPACECRAFT_POINTING_MODE = NADIR
^MEX_POINTING_DESC = "MEX_POINTING_DESC.TXT"
RIGHT_ASCENSION = -1e+32
DECLINATION = -1e+32
OFFSET_ANGLE = -1e+32
SPACECRAFT_SOLAR_DISTANCE = 2.45927e+08
TARGET_NAME = MARS
/* CAMERA DATA ELEMENTS */
DETECTOR_TEMPERATURE = 18.9822
FOCAL_PLANE_TEMPERATURE = 8.9911
INST_CMPRS_NAME = "DISCRETE COSINE TRANSFORMATION (DCT)"
INST_CMPRS_RATIO = 7.27722
INST_CMPRS_QUALITY = 0
INST_CMPRS_QUANTZ_TBL_ID = 0
INSTRUMENT_TEMPERATURE = 12.2535
LENS_TEMPERATURE = 10.0106
MACROPIXEL_SIZE = 1
MISSING_FRAMES = 0
PIXEL_SUBSAMPLING_FLAG = N
SIGNAL_CHAIN_ID = 1
/* RADIOMETRIC DATA ELEMENTS */
BANDWIDTH = 178.0
CENTER_FILTER_WAVELENGTH = 679.0
RADIANCE_OFFSET = 1.03672
RADIANCE_SCALING_FACTOR = 0.00695081
REFLECTANCE_SCALING_FACTOR = 0.000222627
MEX:REFLECTANCE_OFFSET = 0.033205
/* IMAGE OBJECT DEFINITIONS */
OBJECT = IMAGE
  INTERCHANGE_FORMAT = BINARY
  LINES = 29040
  LINE_SAMPLES = 6320
  SAMPLE_TYPE = UNSIGNED_INTEGER
  SAMPLE_BITS = 8
  BANDS = 1
  BAND_STORAGE_TYPE = BAND_SEQUENTIAL
  MAXIMUM = 255
  MEAN = 97.1944
  MINIMUM = 1
  STANDARD_DEVIATION = 30.1821
END_OBJECT = IMAGE
/* MAP OBJECT DEFINITIONS */
OBJECT = IMAGE_MAP_PROJECTION
  ^DATA_SET_MAP_PROJECTION_CATALOG= "DSMAP.CAT"
  A_AXIS_RADIUS = 3396.0
  B_AXIS_RADIUS = 3396.0
  C_AXIS_RADIUS = 3396.0
  CENTER_LATITUDE = 0.0
  CENTER_LONGITUDE = 332.0
  COORDINATE_SYSTEM_NAME = PLANETOGRAPHIC
  COORDINATE_SYSTEM_TYPE = "BODY-FIXED ROTATING"
  EASTERNMOST_LONGITUDE = 333.03
  FIRST_STANDARD_PARALLEL = "N/A"
  LINE_FIRST_PIXEL = 1
  LINE_LAST_PIXEL = 29040
  LINE_PROJECTION_OFFSET = -6392.0
  MAP_PROJECTION_ROTATION = 0.0
  MAP_PROJECTION_TYPE = SINUSOIDAL
  MAP_RESOLUTION = 4741.71043093333
  MAP_SCALE = 0.0125
  MAXIMUM_LATITUDE = -1.3302
  MINIMUM_LATITUDE = -7.47054
  POSITIVE_LONGITUDE_DIRECTION = EAST
  REFERENCE_LATITUDE = "N/A"
  REFERENCE_LONGITUDE = "N/A"
  SAMPLE_FIRST_PIXEL = 1
  SAMPLE_LAST_PIXEL = 6320
  SAMPLE_PROJECTION_OFFSET = 1444.0
  SECOND_STANDARD_PARALLEL = "N/A"
  WESTERNMOST_LONGITUDE = 331.708
END_OBJECT = IMAGE_MAP_PROJECTION
END
