PDS_VERSION_ID = PDS3
/* FILE DATA ELEMENTS */
RECORD_TYPE = UNDEFINED
/* POINTERS TO DATA OBJECTS */
^IMAGE = ("HC483_0000_P24.TIF")
/* IDENTIFICATION DATA ELEMENTS */
DATA_SET_ID = "MEX-M-HRSC-4-REFDR-MAPPROJECT-EXT4-V4.0"
DATA_SET_NAME = "MARS EXPRESS HRSC MAP PROJECTED REFDR EXTENSION4 V4.0"
DETECTOR_ID = MEX_HRSC_P2
EVENT_TYPE = "MARS-REGIONAL-MAPPING-Fl-Mw"
INSTRUMENT_HOST_ID = MEX
INSTRUMENT_HOST_NAME = "MARS EXPRESS"
INSTRUMENT_ID = HRSC
INSTRUMENT_NAME = "HIGH RESOLUTION STEREO CAMERA"
MISSION_NAME = "MARS EXPRESS"
MISSION_PHASE_NAME = ME_Phase_29
PROCESSING_LEVEL_ID = 4
PRODUCT_CREATION_TIME = 2023-01-31T04:25:47.000Z
PRODUCT_ID = "HC483_0000_P24.TIF"
RELEASE_ID = 0002
REVISION_ID = 0000
/* QUALITY DATA ELEMENTS */
DATA_QUALITY_ID = 1
DATA_QUALITY_DESC = "Data calculated based on original SPICE kernels"
/* TIME DATA ELEMENTS */
SPACECRAFT_CLOCK_START_COUNT = "1/0330976585.07290"
SPACECRAFT_CLOCK_STOP_COUNT = "1/0330976749.00355"
START_TIME = 2013-10-27T17:56:40.060Z
STOP_TIME = 2013-10-27T17:58:13.281Z
/* ORBITAL DATA ELEMENTS */
ASCENDING_NODE_LONGITUDE = 339.43
MAXIMUM_RESOLUTION = 0.0289 <m/pixel>
FOOTPRINT_POINT_LATITUDE = (-7.46366,-7.46507,-7.46724,-7.46842, -7.46978,-7.4708,-7.47221,-7.47224, -7.45154,-7.2696,-7.14834,-6.96694, -6.84582,-6.72441,-6.54162,-6.4199, -6.29956,-6.17685,-6.05619,-5.8748, -5.75192,-5.62989,-5.44818,-5.32651, -5.14449,-5.02392,-4.78363,-4.66148, -4.47793,-4.2967,-4.17384,-4.05251, -3.93167,-3.81013,-3.57027,-3.44903, -3.32581,-3.20479,-2.96575,-2.8442, -2.60622,-2.4856,-2.3646,-2.24333, -2.12239,-2.0006,-1.757,-1.57709, -1.45632,-1.39596,-1.35531,-1.35445, -1.35291,-1.35109,-1.34943,-1.34601, -1.34261,-1.34246,-1.34283,-1.46395, -1.58373,-1.76406,-1.94173,-2.06232, -2.18584,-2.36779,-2.60688,-2.72912, -2.85593,-3.09714,-3.27501,-3.45688, -3.57856,-3.76166,-3.94394,-4.06555, -4.18632,-4.30672,-4.42869,-4.61143, -4.79259,-4.97385,-5.15723,-5.27967, -5.52059,-5.64279,-5.76419,-5.88448, -6.00707,-6.19135,-6.31634,-6.43946, -6.67519,-6.79625,-6.97748,-7.09862, -7.22244,-7.34901,-7.41095,-7.46366)
FOOTPRINT_POINT_LONGITUDE = (333.023,332.892,332.667,332.525, 332.335,332.157,331.813,331.802,331.789 ,331.787,331.785,331.784,331.782, 331.781,331.779,331.777,331.776,331.774 ,331.773,331.771,331.769,331.767, 331.765,331.763,331.76,331.759,331.757, 331.755,331.752,331.749,331.747,331.745 ,331.744,331.742,331.739,331.737, 331.735,331.733,331.731,331.729,331.727 ,331.725,331.723,331.721,331.719, 331.717,331.712,331.709,331.707,331.706 ,331.706,331.832,332.009,332.236, 332.439,332.742,332.995,333.008,333.013 ,333.013,333.013,333.014,333.016, 333.017,333.016,333.016,333.018,333.017 ,333.015,333.016,333.018,333.019, 333.019,333.019,333.019,333.019,333.02, 333.021,333.021,333.021,333.022,333.023 ,333.023,333.023,333.024,333.024, 333.025,333.026,333.026,333.025,333.024 ,333.024,333.028,333.029,333.03,333.03, 333.03,333.028,333.028,333.023)
ORBIT_NUMBER = 12483
ORBITAL_ECCENTRICITY = 0.578
ORBITAL_INCLINATION = 86.9
ORBITAL_SEMIMAJOR_AXIS = 8842.32
PERIAPSIS_ALTITUDE = 339.24
PERIAPSIS_ARGUMENT_ANGLE = 344.88
PERIAPSIS_TIME = 2013-10-27T17:55:04.000Z
SPACECRAFT_ORIENTATION = (0.0,1.0,0.0)
^MEX_ORIENTATION_DESC = "MEX_ORIENTATION_DESC.TXT"
SPACECRAFT_POINTING_MODE = NADIR
^MEX_POINTING_DESC = "MEX_POINTING_DESC.TXT"
RIGHT_ASCENSION = -1e+32
DECLINATION = -1e+32
OFFSET_ANGLE = -1e+32
SPACECRAFT_SOLAR_DISTANCE = 2.45927e+08
TARGET_NAME = MARS
/* CAMERA DATA ELEMENTS */
DETECTOR_TEMPERATURE = 18.9822 <degC>
FOCAL_PLANE_TEMPERATURE = 8.9911 <degC>
INST_CMPRS_NAME = "DISCRETE COSINE TRANSFORMATION (DCT)"
INST_CMPRS_RATIO = 8.8927
INST_CMPRS_QUALITY = 0
INST_CMPRS_QUANTZ_TBL_ID = 0
INSTRUMENT_TEMPERATURE = 12.2535 <degC>
LENS_TEMPERATURE = 10.0106 <degC>
MACROPIXEL_SIZE = 2
MISSING_FRAMES = 0
PIXEL_SUBSAMPLING_FLAG = N
SIGNAL_CHAIN_ID = 3
/* RADIOMETRIC DATA ELEMENTS */
BANDWIDTH = 177.0 <nm>
CENTER_FILTER_WAVELENGTH = 676.5 <nm>
RADIANCE_OFFSET = 1.09721 <W*m**-2*sr**-1>
RADIANCE_SCALING_FACTOR = 0.00639899 <W*m**-2*sr**-1>
REFLECTANCE_SCALING_FACTOR = 0.000205201
MEX:REFLECTANCE_OFFSET = 0.0351849
/* IMAGE OBJECT DEFINITIONS */
OBJECT = IMAGE
  INTERCHANGE_FORMAT = BINARY
  LINES = 14520
  LINE_SAMPLES = 3160
  SAMPLE_TYPE = UNSIGNED_INTEGER
  SAMPLE_BITS = 8
  BANDS = 1
  BAND_STORAGE_TYPE = BAND_SEQUENTIAL
  MAXIMUM = 255
  MEAN = 82.0579
  MINIMUM = 1
  STANDARD_DEVIATION = 30.1073
END_OBJECT = IMAGE
/* MAP OBJECT DEFINITIONS */
OBJECT = IMAGE_MAP_PROJECTION
  ^DATA_SET_MAP_PROJECTION_CATALOG= "DSMAP.CAT"
  A_AXIS_RADIUS = 3396.0 <km>
  B_AXIS_RADIUS = 3396.0 <km>
  C_AXIS_RADIUS = 3396.0 <km>
  CENTER_LATITUDE = 0.0
  CENTER_LONGITUDE = 332.0
  COORDINATE_SYSTEM_NAME = PLANETOGRAPHIC
  COORDINATE_SYSTEM_TYPE = "BODY-FIXED ROTATING"
  EASTERNMOST_LONGITUDE = 333.03
  FIRST_STANDARD_PARALLEL = "N/A"
  LINE_FIRST_PIXEL = 1
  LINE_LAST_PIXEL = 14520
  LINE_PROJECTION_OFFSET = -3196.25
  MAP_PROJECTION_ROTATION = 0.0
  MAP_PROJECTION_TYPE = SINUSOIDAL
  MAP_RESOLUTION = 2370.85521546667 <pixel/degree>
  MAP_SCALE = 0.025 <km/pixel>
  MAXIMUM_LATITUDE = -1.34246
  MINIMUM_LATITUDE = -7.47224
  POSITIVE_LONGITUDE_DIRECTION = EAST
  REFERENCE_LATITUDE = "N/A"
  REFERENCE_LONGITUDE = "N/A"
  SAMPLE_FIRST_PIXEL = 1
  SAMPLE_LAST_PIXEL = 3160
  SAMPLE_PROJECTION_OFFSET = 721.75
  SECOND_STANDARD_PARALLEL = "N/A"
  WESTERNMOST_LONGITUDE = 331.706
END_OBJECT = IMAGE_MAP_PROJECTION
END
