PDS_VERSION_ID = PDS3
/* FILE DATA ELEMENTS */
RECORD_TYPE = UNDEFINED
/* POINTERS TO DATA OBJECTS */
^IMAGE = ("HC468_0000_IR4.TIF")
/* IDENTIFICATION DATA ELEMENTS */
DATA_SET_ID = "MEX-M-HRSC-4-REFDR-MAPPROJECT-EXT4-V4.0"
DATA_SET_NAME = "MARS EXPRESS HRSC MAP PROJECTED REFDR EXTENSION4 V4.0"
DETECTOR_ID = MEX_HRSC_IR
EVENT_TYPE = "MARS-REGIONAL-MAPPING-Vo-Eo"
INSTRUMENT_HOST_ID = MEX
INSTRUMENT_HOST_NAME = "MARS EXPRESS"
INSTRUMENT_ID = HRSC
INSTRUMENT_NAME = "HIGH RESOLUTION STEREO CAMERA"
MISSION_NAME = "MARS EXPRESS"
MISSION_PHASE_NAME = ME_Phase_29
PROCESSING_LEVEL_ID = 4
PRODUCT_CREATION_TIME = 2023-01-31T04:25:47.000Z
PRODUCT_ID = "HC468_0000_IR4.TIF"
RELEASE_ID = 0002
REVISION_ID = 0000
/* QUALITY DATA ELEMENTS */
DATA_QUALITY_ID = 1
DATA_QUALITY_DESC = "Data calculated based on original SPICE kernels"
/* TIME DATA ELEMENTS */
SPACECRAFT_CLOCK_START_COUNT = "1/0330599480.08252"
SPACECRAFT_CLOCK_STOP_COUNT = "1/0330599662.20486"
START_TIME = 2013-10-23T09:12:42.272Z
STOP_TIME = 2013-10-23T09:14:15.043Z
/* ORBITAL DATA ELEMENTS */
ASCENDING_NODE_LONGITUDE = 339.71
MAXIMUM_RESOLUTION = 0.1563
FOOTPRINT_POINT_LATITUDE = (9.98316,9.9898,9.99553,10.0011,10.0065 ,10.0118,10.0169,10.0219,10.0267, 10.0313,10.0358,10.0401,10.0443,10.0483 ,10.0488,10.0615,10.3597,10.6077, 10.7586,10.9103,11.0621,11.2646,11.4661 ,11.6712,11.8764,12.0301,12.2347, 12.4426,12.5986,12.8064,12.9622,13.0666 ,13.2237,13.3296,13.4366,13.542,13.6475 ,13.7534,13.861,14.0216,14.1287,14.2887 ,14.3953,14.5029,14.6116,14.7201, 14.8283,14.9905,15.0986,15.2085,15.2635 ,15.2875,15.2834,15.2791,15.2747, 15.2701,15.2654,15.2592,15.2531,15.2482 ,15.2423,15.2329,15.2271,15.2169,15.216 ,15.2129,15.1031,14.9402,14.8321, 14.7238,14.6154,14.5069,14.3448,14.185, 14.0784,13.9716,13.8647,13.7574,13.5983 ,13.4404,13.3352,13.1772,13.0719, 12.9662,12.7587,12.6031,12.3952,12.1872 ,11.9828,11.7272,11.5735,11.3187, 11.1675,10.9659,10.8143,10.5618,10.3136 ,10.0651,10.0152,9.98316)
FOOTPRINT_POINT_LONGITUDE = (67.1259,66.9779,66.8473,66.7174, 66.5882,66.4596,66.3317,66.2045,66.0781 ,65.9523,65.8272,65.7026,65.5785, 65.4551,65.4397,65.4304,65.422,65.415, 65.4107,65.4063,65.4019,65.3959,65.39, 65.3839,65.3778,65.3732,65.367,65.3606, 65.3559,65.3495,65.3446,65.3414,65.3366 ,65.3332,65.3297,65.3264,65.323,65.3196 ,65.3161,65.311,65.3075,65.3023,65.2989 ,65.2953,65.2917,65.2882,65.2846, 65.2792,65.2756,65.2719,65.2701,65.2693 ,65.4099,65.5541,65.699,65.8443,65.9901 ,66.1735,66.3395,66.4694,66.6184, 66.8433,66.9753,67.2031,67.2222,67.2349 ,67.2318,67.2271,67.2242,67.2213, 67.2184,67.2156,67.2114,67.2071,67.2043 ,67.2014,67.1988,67.1962,67.1923, 67.1885,67.1859,67.182,67.1792,67.1768, 67.1722,67.1685,67.1638,67.1593,67.1549 ,67.1493,67.1459,67.1409,67.138,67.134, 67.1311,67.1266,67.1223,67.1179,67.1171 ,67.1259)
ORBIT_NUMBER = 12468
ORBITAL_ECCENTRICITY = 0.578
ORBITAL_INCLINATION = 86.9
ORBITAL_SEMIMAJOR_AXIS = 8852.73
PERIAPSIS_ALTITUDE = 339.39
PERIAPSIS_ARGUMENT_ANGLE = 347.48
PERIAPSIS_TIME = 2013-10-23T09:06:14.000Z
SPACECRAFT_ORIENTATION = (0.0,1.0,0.0)
^MEX_ORIENTATION_DESC = "MEX_ORIENTATION_DESC.TXT"
SPACECRAFT_POINTING_MODE = ACROSSTRACK
^MEX_POINTING_DESC = "MEX_POINTING_DESC.TXT"
RIGHT_ASCENSION = -1e+32
DECLINATION = -1e+32
OFFSET_ANGLE = -1.1
SPACECRAFT_SOLAR_DISTANCE = 2.45492e+08
TARGET_NAME = MARS
/* CAMERA DATA ELEMENTS */
DETECTOR_TEMPERATURE = 18.1666
FOCAL_PLANE_TEMPERATURE = 8.7872
INST_CMPRS_NAME = "DISCRETE COSINE TRANSFORMATION (DCT)"
INST_CMPRS_RATIO = 19.5387
INST_CMPRS_QUALITY = 0
INST_CMPRS_QUANTZ_TBL_ID = 0
INSTRUMENT_TEMPERATURE = 11.8457
LENS_TEMPERATURE = 8.9911
MACROPIXEL_SIZE = 8
MISSING_FRAMES = 0
PIXEL_SUBSAMPLING_FLAG = N
SIGNAL_CHAIN_ID = 2
/* RADIOMETRIC DATA ELEMENTS */
BANDWIDTH = 81.0
CENTER_FILTER_WAVELENGTH = 955.5
RADIANCE_OFFSET = 0.168629
RADIANCE_SCALING_FACTOR = 0.0013871
REFLECTANCE_SCALING_FACTOR = 0.000180347
MEX:REFLECTANCE_OFFSET = 0.0219248
/* IMAGE OBJECT DEFINITIONS */
OBJECT = IMAGE
  INTERCHANGE_FORMAT = BINARY
  LINES = 3105
  LINE_SAMPLES = 1062
  SAMPLE_TYPE = UNSIGNED_INTEGER
  SAMPLE_BITS = 8
  BANDS = 1
  BAND_STORAGE_TYPE = BAND_SEQUENTIAL
  MAXIMUM = 254
  MEAN = 94.1363
  MINIMUM = 1
  STANDARD_DEVIATION = 28.0504
END_OBJECT = IMAGE
/* MAP OBJECT DEFINITIONS */
OBJECT = IMAGE_MAP_PROJECTION
  ^DATA_SET_MAP_PROJECTION_CATALOG= "DSMAP.CAT"
  A_AXIS_RADIUS = 3396.0
  B_AXIS_RADIUS = 3396.0
  C_AXIS_RADIUS = 3396.0
  CENTER_LATITUDE = 0.0
  CENTER_LONGITUDE = 66.0
  COORDINATE_SYSTEM_NAME = PLANETOGRAPHIC
  COORDINATE_SYSTEM_TYPE = "BODY-FIXED ROTATING"
  EASTERNMOST_LONGITUDE = 67.2349
  FIRST_STANDARD_PARALLEL = "N/A"
  LINE_FIRST_PIXEL = 1
  LINE_LAST_PIXEL = 3105
  LINE_PROJECTION_OFFSET = 9037.6875
  MAP_PROJECTION_ROTATION = 0.0
  MAP_PROJECTION_TYPE = SINUSOIDAL
  MAP_RESOLUTION = 592.713803866667
  MAP_SCALE = 0.1
  MAXIMUM_LATITUDE = 15.2875
  MINIMUM_LATITUDE = 9.98316
  POSITIVE_LONGITUDE_DIRECTION = EAST
  REFERENCE_LATITUDE = "N/A"
  REFERENCE_LONGITUDE = "N/A"
  SAMPLE_FIRST_PIXEL = 1
  SAMPLE_LAST_PIXEL = 1062
  SAMPLE_PROJECTION_OFFSET = 395.1875
  SECOND_STANDARD_PARALLEL = "N/A"
  WESTERNMOST_LONGITUDE = 65.2693
END_OBJECT = IMAGE_MAP_PROJECTION
END
