PDS_VERSION_ID = PDS3
/* FILE DATA ELEMENTS */
RECORD_TYPE = UNDEFINED
/* POINTERS TO DATA OBJECTS */
^IMAGE = ("HC458_0000_S14.TIF")
/* IDENTIFICATION DATA ELEMENTS */
DATA_SET_ID = "MEX-M-HRSC-4-REFDR-MAPPROJECT-EXT4-V4.0"
DATA_SET_NAME = "MARS EXPRESS HRSC MAP PROJECTED REFDR EXTENSION4 V4.0"
DETECTOR_ID = MEX_HRSC_S1
EVENT_TYPE = "MARS-LOCAL-CARTOGRAPHY-Tc-Ot-Ts"
INSTRUMENT_HOST_ID = MEX
INSTRUMENT_HOST_NAME = "MARS EXPRESS"
INSTRUMENT_ID = HRSC
INSTRUMENT_NAME = "HIGH RESOLUTION STEREO CAMERA"
MISSION_NAME = "MARS EXPRESS"
MISSION_PHASE_NAME = ME_Phase_29
PROCESSING_LEVEL_ID = 4
PRODUCT_CREATION_TIME = 2023-01-31T04:25:47.000Z
PRODUCT_ID = "HC458_0000_S14.TIF"
RELEASE_ID = 0002
REVISION_ID = 0000
/* QUALITY DATA ELEMENTS */
DATA_QUALITY_ID = 1
DATA_QUALITY_DESC = "Data calculated based on original SPICE kernels"
/* TIME DATA ELEMENTS */
SPACECRAFT_CLOCK_START_COUNT = "1/0330347765.07289"
SPACECRAFT_CLOCK_STOP_COUNT = "1/0330347876.32070"
START_TIME = 2013-10-20T11:17:16.989Z
STOP_TIME = 2013-10-20T11:17:58.884Z
/* ORBITAL DATA ELEMENTS */
ASCENDING_NODE_LONGITUDE = 339.91
MAXIMUM_RESOLUTION = 0.0163
FOOTPRINT_POINT_LATITUDE = (0.995484,0.992131,0.988709,0.985254, 0.98172,0.978106,0.974396,0.970616, 0.966753,0.964792,0.962815,0.960802, 0.958763,0.956708,0.954649,0.952566, 0.950456,0.948327,0.947789,0.93974, 1.04266,1.17124,1.24824,1.32522,1.40222 ,1.50488,1.58185,1.71022,1.81262,1.8893 ,2.017,2.09369,2.22115,2.34886,2.42563, 2.50211,2.6041,2.73134,2.8584,2.95977, 3.08697,3.16311,3.23918,3.36601,3.46782 ,3.49316,3.4965,3.50034,3.5028,3.50492, 3.50695,3.50917,3.51145,3.51369,3.51744 ,3.51957,3.52151,3.52347,3.52657, 3.52977,3.53312,3.53481,3.53651,3.53827 ,3.54008,3.54233,3.54405,3.5468,3.54697 ,3.54694,3.47075,3.36912,3.26741,3.166, 3.03851,2.96194,2.85993,2.78315,2.70645 ,2.60461,2.52853,2.45222,2.37581, 2.27426,2.19755,2.12015,2.01772,1.94108 ,1.86416,1.76132,1.68378,1.60639, 1.52914,1.42612,1.27189,1.16917,1.09233 ,1.01589,0.99014,0.995484)
FOOTPRINT_POINT_LONGITUDE = (7.34854,7.24393,7.13907,7.03395, 6.92854,6.82281,6.71677,6.61054,6.50409 ,6.45075,6.3973,6.34376,6.29012,6.2364, 6.18259,6.12871,6.07474,6.02068,6.00715 ,5.99674,5.99469,5.99211,5.99051, 5.98891,5.98732,5.98523,5.98366,5.9811, 5.97893,5.97726,5.97444,5.9728,5.96992, 5.96719,5.96564,5.96395,5.96173,5.95886 ,5.95593,5.95348,5.95068,5.94893, 5.94715,5.94424,5.94211,5.94152,5.94144 ,6.04047,6.09723,6.15376,6.21018, 6.26659,6.32294,6.37919,6.47733,6.53328 ,6.58912,6.64493,6.7286,6.81213,6.90931 ,6.96471,7.02005,7.07531,7.13051, 7.18562,7.24068,7.33689,7.35065,7.35738 ,7.35707,7.35667,7.35628,7.35586, 7.35541,7.35516,7.3548,7.35457,7.35433, 7.35396,7.35365,7.35337,7.3531,7.3527, 7.35246,7.35231,7.35201,7.35177,7.35156 ,7.35131,7.35117,7.35102,7.35084, 7.35062,7.35025,7.35,7.34979,7.34954, 7.34948,7.34854)
ORBIT_NUMBER = 12458
ORBITAL_ECCENTRICITY = 0.578
ORBITAL_INCLINATION = 86.88
ORBITAL_SEMIMAJOR_AXIS = 8850.16
PERIAPSIS_ALTITUDE = 340.98
PERIAPSIS_ARGUMENT_ANGLE = 349.21
PERIAPSIS_TIME = 2013-10-20T11:13:41.000Z
SPACECRAFT_ORIENTATION = (0.0,1.0,0.0)
^MEX_ORIENTATION_DESC = "MEX_ORIENTATION_DESC.TXT"
SPACECRAFT_POINTING_MODE = ACROSSTRACK
^MEX_POINTING_DESC = "MEX_POINTING_DESC.TXT"
RIGHT_ASCENSION = -1e+32
DECLINATION = -1e+32
OFFSET_ANGLE = 0.45
SPACECRAFT_SOLAR_DISTANCE = 2.45188e+08
TARGET_NAME = MARS
/* CAMERA DATA ELEMENTS */
DETECTOR_TEMPERATURE = 16.1276
FOCAL_PLANE_TEMPERATURE = 8.1755
INST_CMPRS_NAME = "DISCRETE COSINE TRANSFORMATION (DCT)"
INST_CMPRS_RATIO = 6.02525
INST_CMPRS_QUALITY = 0
INST_CMPRS_QUANTZ_TBL_ID = 0
INSTRUMENT_TEMPERATURE = 11.0301
LENS_TEMPERATURE = 8.9911
MACROPIXEL_SIZE = 1
MISSING_FRAMES = 0
PIXEL_SUBSAMPLING_FLAG = N
SIGNAL_CHAIN_ID = 2
/* RADIOMETRIC DATA ELEMENTS */
BANDWIDTH = 180.0
CENTER_FILTER_WAVELENGTH = 677.0
RADIANCE_OFFSET = 0.971861
RADIANCE_SCALING_FACTOR = 0.00496178
REFLECTANCE_SCALING_FACTOR = 0.000155625
MEX:REFLECTANCE_OFFSET = 0.0304822
/* IMAGE OBJECT DEFINITIONS */
OBJECT = IMAGE
  INTERCHANGE_FORMAT = BINARY
  LINES = 12179
  LINE_SAMPLES = 6412
  SAMPLE_TYPE = UNSIGNED_INTEGER
  SAMPLE_BITS = 8
  BANDS = 1
  BAND_STORAGE_TYPE = BAND_SEQUENTIAL
  MAXIMUM = 255
  MEAN = 98.8252
  MINIMUM = 1
  STANDARD_DEVIATION = 31.2235
END_OBJECT = IMAGE
/* MAP OBJECT DEFINITIONS */
OBJECT = IMAGE_MAP_PROJECTION
  ^DATA_SET_MAP_PROJECTION_CATALOG= "DSMAP.CAT"
  A_AXIS_RADIUS = 3396.0
  B_AXIS_RADIUS = 3396.0
  C_AXIS_RADIUS = 3396.0
  CENTER_LATITUDE = 0.0
  CENTER_LONGITUDE = 7.0
  COORDINATE_SYSTEM_NAME = PLANETOGRAPHIC
  COORDINATE_SYSTEM_TYPE = "BODY-FIXED ROTATING"
  EASTERNMOST_LONGITUDE = 7.35738
  FIRST_STANDARD_PARALLEL = "N/A"
  LINE_FIRST_PIXEL = 1
  LINE_LAST_PIXEL = 12179
  LINE_PROJECTION_OFFSET = 16780.0
  MAP_PROJECTION_ROTATION = 0.0
  MAP_PROJECTION_TYPE = SINUSOIDAL
  MAP_RESOLUTION = 4741.71043093333
  MAP_SCALE = 0.0125
  MAXIMUM_LATITUDE = 3.54697
  MINIMUM_LATITUDE = 0.93974
  POSITIVE_LONGITUDE_DIRECTION = EAST
  REFERENCE_LATITUDE = "N/A"
  REFERENCE_LONGITUDE = "N/A"
  SAMPLE_FIRST_PIXEL = 1
  SAMPLE_LAST_PIXEL = 6412
  SAMPLE_PROJECTION_OFFSET = 4849.0
  SECOND_STANDARD_PARALLEL = "N/A"
  WESTERNMOST_LONGITUDE = 5.94144
END_OBJECT = IMAGE_MAP_PROJECTION
END
