PDS_VERSION_ID = PDS3
/* FILE DATA ELEMENTS */
RECORD_TYPE = UNDEFINED
/* POINTERS TO DATA OBJECTS */
^IMAGE = ("HC453_0000_S24.TIF")
/* IDENTIFICATION DATA ELEMENTS */
DATA_SET_ID = "MEX-M-HRSC-4-REFDR-MAPPROJECT-EXT4-V4.0"
DATA_SET_NAME = "MARS EXPRESS HRSC MAP PROJECTED REFDR EXTENSION4 V4.0"
DETECTOR_ID = MEX_HRSC_S2
EVENT_TYPE = "MARS-LOCAL-STEREO-Vo-Te-Fl"
INSTRUMENT_HOST_ID = MEX
INSTRUMENT_HOST_NAME = "MARS EXPRESS"
INSTRUMENT_ID = HRSC
INSTRUMENT_NAME = "HIGH RESOLUTION STEREO CAMERA"
MISSION_NAME = "MARS EXPRESS"
MISSION_PHASE_NAME = ME_Phase_29
PROCESSING_LEVEL_ID = 4
PRODUCT_CREATION_TIME = 2023-01-31T04:25:47.000Z
PRODUCT_ID = "HC453_0000_S24.TIF"
RELEASE_ID = 0002
REVISION_ID = 0000
/* QUALITY DATA ELEMENTS */
DATA_QUALITY_ID = 1
DATA_QUALITY_DESC = "Data calculated based on original SPICE kernels"
/* TIME DATA ELEMENTS */
SPACECRAFT_CLOCK_START_COUNT = "1/0330222078.09065"
SPACECRAFT_CLOCK_STOP_COUNT = "1/0330222264.32880"
START_TIME = 2013-10-19T00:21:22.516Z
STOP_TIME = 2013-10-19T00:22:57.287Z
/* ORBITAL DATA ELEMENTS */
ASCENDING_NODE_LONGITUDE = 339.99
MAXIMUM_RESOLUTION = 0.0168
FOOTPRINT_POINT_LATITUDE = (7.57411,7.58415,7.59449,7.60518, 7.61629,7.62778,7.64265,7.64341,7.66791 ,7.84953,8.09166,8.2732,8.45463,8.69653 ,8.93829,9.11974,9.24084,9.48258, 9.72382,9.96526,10.1464,10.3311,10.455, 10.579,10.7646,10.8885,11.0123,11.1361, 11.2598,11.3836,11.5075,11.6338,11.7607 ,11.8877,12.0145,12.1413,12.3315, 12.4583,12.5851,12.7754,12.9046,13.0346 ,13.1646,13.2945,13.4893,13.6841, 13.8138,13.8788,13.8815,13.8744,13.8638 ,13.8513,13.8459,13.8405,13.8354, 13.8305,13.8256,13.8208,13.8157,13.8151 ,13.8145,13.6198,13.4899,13.3599, 13.2301,13.0351,12.9051,12.775,12.6474, 12.5206,12.3938,12.2668,12.1398,11.9495 ,11.8226,11.6955,11.5685,11.4423, 11.3185,11.1948,11.071,10.9468,10.7608, 10.5748,10.4507,10.3266,10.2025,10.0799 ,9.83785,9.59661,9.47545,9.23336, 8.87058,8.62842,8.38637,8.08366,7.90245 ,7.66044,7.59988,7.57411)
FOOTPRINT_POINT_LONGITUDE = (157.695,157.477,157.257,157.034, 156.808,156.58,156.29,156.275,156.25, 156.246,156.24,156.236,156.231,156.225, 156.219,156.214,156.211,156.204,156.198 ,156.192,156.187,156.182,156.178, 156.175,156.17,156.166,156.163,156.159, 156.156,156.152,156.149,156.145,156.141 ,156.137,156.134,156.13,156.124,156.12, 156.117,156.111,156.107,156.102,156.098 ,156.094,156.088,156.082,156.077, 156.075,156.075,156.258,156.489,156.799 ,156.928,157.056,157.184,157.311, 157.437,157.563,157.688,157.703,157.711 ,157.71,157.709,157.709,157.708,157.707 ,157.706,157.706,157.705,157.704, 157.704,157.703,157.703,157.702,157.701 ,157.701,157.701,157.7,157.7,157.699, 157.699,157.698,157.698,157.697,157.697 ,157.696,157.696,157.696,157.695, 157.695,157.694,157.694,157.693,157.693 ,157.692,157.692,157.692,157.691, 157.691,157.695)
ORBIT_NUMBER = 12453
ORBITAL_ECCENTRICITY = 0.578
ORBITAL_INCLINATION = 86.89
ORBITAL_SEMIMAJOR_AXIS = 8847.6
PERIAPSIS_ALTITUDE = 341.48
PERIAPSIS_ARGUMENT_ANGLE = 350.11
PERIAPSIS_TIME = 2013-10-19T00:17:28.000Z
SPACECRAFT_ORIENTATION = (0.0,1.0,0.0)
^MEX_ORIENTATION_DESC = "MEX_ORIENTATION_DESC.TXT"
SPACECRAFT_POINTING_MODE = ACROSSTRACK
^MEX_POINTING_DESC = "MEX_POINTING_DESC.TXT"
RIGHT_ASCENSION = -1e+32
DECLINATION = -1e+32
OFFSET_ANGLE = 1.0
SPACECRAFT_SOLAR_DISTANCE = 2.45032e+08
TARGET_NAME = MARS
/* CAMERA DATA ELEMENTS */
DETECTOR_TEMPERATURE = 18.7783
FOCAL_PLANE_TEMPERATURE = 8.1755
INST_CMPRS_NAME = "DISCRETE COSINE TRANSFORMATION (DCT)"
INST_CMPRS_RATIO = 6.45126
INST_CMPRS_QUALITY = 0
INST_CMPRS_QUANTZ_TBL_ID = 0
INSTRUMENT_TEMPERATURE = 11.8457
LENS_TEMPERATURE = 8.7872
MACROPIXEL_SIZE = 1
MISSING_FRAMES = 0
PIXEL_SUBSAMPLING_FLAG = N
SIGNAL_CHAIN_ID = 1
/* RADIOMETRIC DATA ELEMENTS */
BANDWIDTH = 178.0
CENTER_FILTER_WAVELENGTH = 679.0
RADIANCE_OFFSET = 1.39962
RADIANCE_SCALING_FACTOR = 0.00650511
REFLECTANCE_SCALING_FACTOR = 0.000206838
MEX:REFLECTANCE_OFFSET = 0.0445024
/* IMAGE OBJECT DEFINITIONS */
OBJECT = IMAGE
  INTERCHANGE_FORMAT = BINARY
  LINES = 29530
  LINE_SAMPLES = 7846
  SAMPLE_TYPE = UNSIGNED_INTEGER
  SAMPLE_BITS = 8
  BANDS = 1
  BAND_STORAGE_TYPE = BAND_SEQUENTIAL
  MAXIMUM = 255
  MEAN = 122.444
  MINIMUM = 1
  STANDARD_DEVIATION = 26.1711
END_OBJECT = IMAGE
/* MAP OBJECT DEFINITIONS */
OBJECT = IMAGE_MAP_PROJECTION
  ^DATA_SET_MAP_PROJECTION_CATALOG= "DSMAP.CAT"
  A_AXIS_RADIUS = 3396.0
  B_AXIS_RADIUS = 3396.0
  C_AXIS_RADIUS = 3396.0
  CENTER_LATITUDE = 0.0
  CENTER_LONGITUDE = 157.0
  COORDINATE_SYSTEM_NAME = PLANETOGRAPHIC
  COORDINATE_SYSTEM_TYPE = "BODY-FIXED ROTATING"
  EASTERNMOST_LONGITUDE = 157.711
  FIRST_STANDARD_PARALLEL = "N/A"
  LINE_FIRST_PIXEL = 1
  LINE_LAST_PIXEL = 29530
  LINE_PROJECTION_OFFSET = 65617.0
  MAP_PROJECTION_ROTATION = 0.0
  MAP_PROJECTION_TYPE = SINUSOIDAL
  MAP_RESOLUTION = 4741.71043093333
  MAP_SCALE = 0.0125
  MAXIMUM_LATITUDE = 13.8815
  MINIMUM_LATITUDE = 7.57411
  POSITIVE_LONGITUDE_DIRECTION = EAST
  REFERENCE_LATITUDE = "N/A"
  REFERENCE_LONGITUDE = "N/A"
  SAMPLE_FIRST_PIXEL = 1
  SAMPLE_LAST_PIXEL = 7846
  SAMPLE_PROJECTION_OFFSET = 4354.0
  SECOND_STANDARD_PARALLEL = "N/A"
  WESTERNMOST_LONGITUDE = 156.075
END_OBJECT = IMAGE_MAP_PROJECTION
END
