PDS_VERSION_ID = PDS3
/* FILE DATA ELEMENTS */
RECORD_TYPE = UNDEFINED
/* POINTERS TO DATA OBJECTS */
^IMAGE = ("HC442_0000_ND4.TIF")
/* IDENTIFICATION DATA ELEMENTS */
DATA_SET_ID = "MEX-M-HRSC-4-REFDR-MAPPROJECT-EXT4-V4.0"
DATA_SET_NAME = "MARS EXPRESS HRSC MAP PROJECTED REFDR EXTENSION4 V4.0"
DETECTOR_ID = MEX_HRSC_NADIR
EVENT_TYPE = "MARS-REGIONAL-MAPPING-Vo-Im-Pf"
INSTRUMENT_HOST_ID = MEX
INSTRUMENT_HOST_NAME = "MARS EXPRESS"
INSTRUMENT_ID = HRSC
INSTRUMENT_NAME = "HIGH RESOLUTION STEREO CAMERA"
MISSION_NAME = "MARS EXPRESS"
MISSION_PHASE_NAME = ME_Phase_29
PROCESSING_LEVEL_ID = 4
PRODUCT_CREATION_TIME = 2023-01-31T04:25:47.000Z
PRODUCT_ID = "HC442_0000_ND4.TIF"
RELEASE_ID = 0002
REVISION_ID = 0000
/* QUALITY DATA ELEMENTS */
DATA_QUALITY_ID = 1
DATA_QUALITY_DESC = "Data calculated based on original SPICE kernels"
/* TIME DATA ELEMENTS */
SPACECRAFT_CLOCK_START_COUNT = "1/0329945430.09037"
SPACECRAFT_CLOCK_STOP_COUNT = "1/0329945886.17460"
START_TIME = 2013-10-15T19:31:15.522Z
STOP_TIME = 2013-10-15T19:36:35.500Z
/* ORBITAL DATA ELEMENTS */
ASCENDING_NODE_LONGITUDE = 340.21
MAXIMUM_RESOLUTION = 0.0184
FOOTPRINT_POINT_LATITUDE = (15.173,15.1705,15.1665,15.1614,15.1612 ,15.1619,15.7779,16.3994,17.1911, 17.8338,18.3196,18.9751,19.3088,19.642, 20.1484,20.4869,20.8309,21.1749,21.5234 ,21.8728,22.2261,22.5809,22.9397, 23.2997,23.6647,24.2154,24.5858,24.961, 25.5281,26.1021,26.6833,27.0743,27.4703 ,27.8693,28.2711,28.6766,29.0868, 29.5001,29.9172,30.3379,30.7626,31.1919 ,31.6251,32.0625,32.504,32.9499,33.4001 ,33.6263,33.6271,33.631,33.6332,33.6337 ,33.6324,33.6273,33.6215,33.6211, 33.6204,32.9456,32.5008,32.0602,31.6237 ,31.1914,30.7629,30.3389,29.9189, 29.5025,29.0899,28.6803,28.2753,27.874, 27.4756,27.08,26.6895,26.1089,25.5355, 24.969,24.5941,24.224,23.6737,23.3089, 22.9492,22.5906,22.2361,21.883,21.5337, 21.1854,20.8416,20.4978,20.1595,19.6532 ,19.3202,18.9865,18.3313,17.8456,17.203 ,16.4116,15.7901,15.3266,15.1742, 15.173)
FOOTPRINT_POINT_LONGITUDE = (203.005,202.469,201.917,201.381, 201.365,201.346,201.327,201.308,201.283 ,201.262,201.246,201.223,201.212,201.2, 201.182,201.17,201.157,201.144,201.131, 201.118,201.105,201.091,201.077,201.063 ,201.048,201.026,201.011,200.995, 200.971,200.946,200.92,200.903,200.885, 200.867,200.848,200.829,200.809,200.789 ,200.769,200.748,200.726,200.704, 200.681,200.658,200.635,200.61,200.585, 200.573,200.573,201.029,201.515,201.939 ,202.424,203.123,203.609,203.639, 203.654,203.613,203.587,203.562,203.538 ,203.514,203.492,203.471,203.45,203.43, 203.411,203.393,203.375,203.358,203.341 ,203.325,203.31,203.288,203.267,203.248 ,203.235,203.223,203.206,203.194, 203.184,203.173,203.163,203.154,203.145 ,203.136,203.127,203.119,203.111, 203.099,203.092,203.084,203.071,203.061 ,203.05,203.036,203.026,203.019,203.016 ,203.005)
ORBIT_NUMBER = 12442
ORBITAL_ECCENTRICITY = 0.578
ORBITAL_INCLINATION = 86.89
ORBITAL_SEMIMAJOR_AXIS = 8849.04
PERIAPSIS_ALTITUDE = 341.9
PERIAPSIS_ARGUMENT_ANGLE = 351.97
PERIAPSIS_TIME = 2013-10-15T19:25:13.000Z
SPACECRAFT_ORIENTATION = (0.0,1.0,0.0)
^MEX_ORIENTATION_DESC = "MEX_ORIENTATION_DESC.TXT"
SPACECRAFT_POINTING_MODE = NADIR
^MEX_POINTING_DESC = "MEX_POINTING_DESC.TXT"
RIGHT_ASCENSION = -1e+32
DECLINATION = -1e+32
OFFSET_ANGLE = -1e+32
SPACECRAFT_SOLAR_DISTANCE = 2.44679e+08
TARGET_NAME = MARS
/* CAMERA DATA ELEMENTS */
DETECTOR_TEMPERATURE = 18.7783
FOCAL_PLANE_TEMPERATURE = 8.5833
INST_CMPRS_NAME = "DISCRETE COSINE TRANSFORMATION (DCT)"
INST_CMPRS_RATIO = 6.62515
INST_CMPRS_QUALITY = 0
INST_CMPRS_QUANTZ_TBL_ID = 0
INSTRUMENT_TEMPERATURE = 11.6418
LENS_TEMPERATURE = 8.7872
MACROPIXEL_SIZE = 1
MISSING_FRAMES = 0
PIXEL_SUBSAMPLING_FLAG = N
SIGNAL_CHAIN_ID = 0
/* RADIOMETRIC DATA ELEMENTS */
BANDWIDTH = 177.0
CENTER_FILTER_WAVELENGTH = 677.5
RADIANCE_OFFSET = 1.22208
RADIANCE_SCALING_FACTOR = 0.00630588
REFLECTANCE_SCALING_FACTOR = 0.000200551
MEX:REFLECTANCE_OFFSET = 0.0388668
/* IMAGE OBJECT DEFINITIONS */
OBJECT = IMAGE
  INTERCHANGE_FORMAT = BINARY
  LINES = 87589
  LINE_SAMPLES = 12166
  SAMPLE_TYPE = UNSIGNED_INTEGER
  SAMPLE_BITS = 8
  BANDS = 1
  BAND_STORAGE_TYPE = BAND_SEQUENTIAL
  MAXIMUM = 255
  MEAN = 112.409
  MINIMUM = 1
  STANDARD_DEVIATION = 32.5884
END_OBJECT = IMAGE
/* MAP OBJECT DEFINITIONS */
OBJECT = IMAGE_MAP_PROJECTION
  ^DATA_SET_MAP_PROJECTION_CATALOG= "DSMAP.CAT"
  A_AXIS_RADIUS = 3396.0
  B_AXIS_RADIUS = 3396.0
  C_AXIS_RADIUS = 3396.0
  CENTER_LATITUDE = 0.0
  CENTER_LONGITUDE = 202.0
  COORDINATE_SYSTEM_NAME = PLANETOGRAPHIC
  COORDINATE_SYSTEM_TYPE = "BODY-FIXED ROTATING"
  EASTERNMOST_LONGITUDE = 203.654
  FIRST_STANDARD_PARALLEL = "N/A"
  LINE_FIRST_PIXEL = 1
  LINE_LAST_PIXEL = 87589
  LINE_PROJECTION_OFFSET = 159479.0
  MAP_PROJECTION_ROTATION = 0.0
  MAP_PROJECTION_TYPE = SINUSOIDAL
  MAP_RESOLUTION = 4741.71043093333
  MAP_SCALE = 0.0125
  MAXIMUM_LATITUDE = 33.6337
  MINIMUM_LATITUDE = 15.1612
  POSITIVE_LONGITUDE_DIRECTION = EAST
  REFERENCE_LATITUDE = "N/A"
  REFERENCE_LONGITUDE = "N/A"
  SAMPLE_FIRST_PIXEL = 1
  SAMPLE_LAST_PIXEL = 12166
  SAMPLE_PROJECTION_OFFSET = 5634.0
  SECOND_STANDARD_PARALLEL = "N/A"
  WESTERNMOST_LONGITUDE = 200.573
END_OBJECT = IMAGE_MAP_PROJECTION
END
