PDS_VERSION_ID = PDS3
/* FILE DATA ELEMENTS */
RECORD_TYPE = UNDEFINED
/* POINTERS TO DATA OBJECTS */
^IMAGE = ("HC435_0000_P24.TIF")
/* IDENTIFICATION DATA ELEMENTS */
DATA_SET_ID = "MEX-M-HRSC-4-REFDR-MAPPROJECT-EXT4-V4.0"
DATA_SET_NAME = "MARS EXPRESS HRSC MAP PROJECTED REFDR EXTENSION4 V4.0"
DETECTOR_ID = MEX_HRSC_P2
EVENT_TYPE = "MARS-REGIONAL-MAPPING-Vo-Im-Pf"
INSTRUMENT_HOST_ID = MEX
INSTRUMENT_HOST_NAME = "MARS EXPRESS"
INSTRUMENT_ID = HRSC
INSTRUMENT_NAME = "HIGH RESOLUTION STEREO CAMERA"
MISSION_NAME = "MARS EXPRESS"
MISSION_PHASE_NAME = ME_Phase_29
PROCESSING_LEVEL_ID = 4
PRODUCT_CREATION_TIME = 2023-01-31T04:25:47.000Z
PRODUCT_ID = "HC435_0000_P24.TIF"
RELEASE_ID = 0002
REVISION_ID = 0000
/* QUALITY DATA ELEMENTS */
DATA_QUALITY_ID = 1
DATA_QUALITY_DESC = "Data calculated based on original SPICE kernels"
/* TIME DATA ELEMENTS */
SPACECRAFT_CLOCK_START_COUNT = "1/0329769380.08272"
SPACECRAFT_CLOCK_STOP_COUNT = "1/0329769782.35162"
START_TIME = 2013-10-13T18:36:39.629Z
STOP_TIME = 2013-10-13T18:40:42.595Z
/* ORBITAL DATA ELEMENTS */
ASCENDING_NODE_LONGITUDE = 340.34
MAXIMUM_RESOLUTION = 0.0796
FOOTPRINT_POINT_LATITUDE = (20.1408,20.128,20.1179,20.1075,20.1072 ,20.1373,20.5172,21.0267,21.4139, 21.9325,22.1957,22.4599,22.7239,23.1254 ,23.3941,23.8,24.0736,24.347,24.763, 25.041,25.3216,25.6045,25.8869,26.1742, 26.605,26.8968,27.1885,27.6312,27.9274, 28.2274,28.5281,28.9842,29.2891,29.5987 ,29.9081,30.2218,30.6949,31.0132, 31.3339,31.6565,31.9823,32.309,32.6399, 33.1398,33.6452,34.1565,34.6736,34.8476 ,34.9966,35.0008,35.0042,35.0066, 35.0083,35.009,35.0079,35.0078,35.0061, 34.6593,34.3155,33.9729,33.6344,33.1305 ,32.6321,32.3023,31.9763,31.6514, 31.3295,30.8508,30.5333,30.2202,29.9074 ,29.5985,29.2899,28.9853,28.6804, 28.3803,27.931,27.6352,27.3391,27.048, 26.6113,26.3245,25.8945,25.6123,25.3298 ,24.911,24.6331,24.3569,24.0838,23.8104 ,23.4053,23.1367,22.8678,22.6042, 22.3402,21.9455,21.1678,20.4045,20.2772 ,20.1408)
FOOTPRINT_POINT_LONGITUDE = (199.012,198.308,197.777,197.251, 197.235,197.225,197.214,197.2,197.188, 197.173,197.166,197.158,197.15,197.138, 197.13,197.117,197.109,197.1,197.087, 197.078,197.07,197.06,197.051,197.042, 197.028,197.018,197.008,196.993,196.983 ,196.972,196.962,196.946,196.935, 196.924,196.913,196.901,196.884,196.872 ,196.86,196.848,196.835,196.823,196.81, 196.79,196.77,196.749,196.728,196.721, 196.715,197.15,197.588,198.027,198.468, 198.883,199.635,199.663,199.672,199.649 ,199.626,199.604,199.583,199.552, 199.522,199.503,199.485,199.467,199.449 ,199.424,199.408,199.392,199.377, 199.362,199.347,199.333,199.319,199.306 ,199.287,199.274,199.262,199.25,199.233 ,199.222,199.206,199.196,199.186, 199.171,199.162,199.153,199.144,199.135 ,199.122,199.114,199.106,199.099, 199.091,199.08,199.059,199.04,199.037, 199.012)
ORBIT_NUMBER = 12435
ORBITAL_ECCENTRICITY = 0.578
ORBITAL_INCLINATION = 86.89
ORBITAL_SEMIMAJOR_AXIS = 8848.78
PERIAPSIS_ALTITUDE = 342.5
PERIAPSIS_ARGUMENT_ANGLE = 353.18
PERIAPSIS_TIME = 2013-10-13T18:30:05.000Z
SPACECRAFT_ORIENTATION = (0.0,1.0,0.0)
^MEX_ORIENTATION_DESC = "MEX_ORIENTATION_DESC.TXT"
SPACECRAFT_POINTING_MODE = ACROSSTRACK
^MEX_POINTING_DESC = "MEX_POINTING_DESC.TXT"
RIGHT_ASCENSION = -1e+32
DECLINATION = -1e+32
OFFSET_ANGLE = -0.5
SPACECRAFT_SOLAR_DISTANCE = 2.44448e+08
TARGET_NAME = MARS
/* CAMERA DATA ELEMENTS */
DETECTOR_TEMPERATURE = 18.9822
FOCAL_PLANE_TEMPERATURE = 8.5833
INST_CMPRS_NAME = "DISCRETE COSINE TRANSFORMATION (DCT)"
INST_CMPRS_RATIO = 10.4909
INST_CMPRS_QUALITY = 0
INST_CMPRS_QUANTZ_TBL_ID = 0
INSTRUMENT_TEMPERATURE = 11.6418
LENS_TEMPERATURE = 8.5833
MACROPIXEL_SIZE = 4
MISSING_FRAMES = 0
PIXEL_SUBSAMPLING_FLAG = N
SIGNAL_CHAIN_ID = 3
/* RADIOMETRIC DATA ELEMENTS */
BANDWIDTH = 177.0
CENTER_FILTER_WAVELENGTH = 676.5
RADIANCE_OFFSET = 1.37512
RADIANCE_SCALING_FACTOR = 0.00500744
REFLECTANCE_SCALING_FACTOR = 0.000158652
MEX:REFLECTANCE_OFFSET = 0.0435684
/* IMAGE OBJECT DEFINITIONS */
OBJECT = IMAGE
  INTERCHANGE_FORMAT = BINARY
  LINES = 8807
  LINE_SAMPLES = 1534
  SAMPLE_TYPE = UNSIGNED_INTEGER
  SAMPLE_BITS = 8
  BANDS = 1
  BAND_STORAGE_TYPE = BAND_SEQUENTIAL
  MAXIMUM = 255
  MEAN = 115.226
  MINIMUM = 1
  STANDARD_DEVIATION = 35.009
END_OBJECT = IMAGE
/* MAP OBJECT DEFINITIONS */
OBJECT = IMAGE_MAP_PROJECTION
  ^DATA_SET_MAP_PROJECTION_CATALOG= "DSMAP.CAT"
  A_AXIS_RADIUS = 3396.0
  B_AXIS_RADIUS = 3396.0
  C_AXIS_RADIUS = 3396.0
  CENTER_LATITUDE = 0.0
  CENTER_LONGITUDE = 198.0
  COORDINATE_SYSTEM_NAME = PLANETOGRAPHIC
  COORDINATE_SYSTEM_TYPE = "BODY-FIXED ROTATING"
  EASTERNMOST_LONGITUDE = 199.672
  FIRST_STANDARD_PARALLEL = "N/A"
  LINE_FIRST_PIXEL = 1
  LINE_LAST_PIXEL = 8807
  LINE_PROJECTION_OFFSET = 20737.375
  MAP_PROJECTION_ROTATION = 0.0
  MAP_PROJECTION_TYPE = SINUSOIDAL
  MAP_RESOLUTION = 592.713803866667
  MAP_SCALE = 0.1
  MAXIMUM_LATITUDE = 35.009
  MINIMUM_LATITUDE = 20.1072
  POSITIVE_LONGITUDE_DIRECTION = EAST
  REFERENCE_LATITUDE = "N/A"
  REFERENCE_LONGITUDE = "N/A"
  SAMPLE_FIRST_PIXEL = 1
  SAMPLE_LAST_PIXEL = 1534
  SAMPLE_PROJECTION_OFFSET = 673.625
  SECOND_STANDARD_PARALLEL = "N/A"
  WESTERNMOST_LONGITUDE = 196.715
END_OBJECT = IMAGE_MAP_PROJECTION
END
