PDS_VERSION_ID = PDS3
/* FILE DATA ELEMENTS */
RECORD_TYPE = UNDEFINED
/* POINTERS TO DATA OBJECTS */
^IMAGE = ("HC416_0000_P24.TIF")
/* IDENTIFICATION DATA ELEMENTS */
DATA_SET_ID = "MEX-M-HRSC-4-REFDR-MAPPROJECT-EXT4-V4.0"
DATA_SET_NAME = "MARS EXPRESS HRSC MAP PROJECTED REFDR EXTENSION4 V4.0"
DETECTOR_ID = MEX_HRSC_P2
EVENT_TYPE = "MARS-CLOUD-VARIABLE-At"
INSTRUMENT_HOST_ID = MEX
INSTRUMENT_HOST_NAME = "MARS EXPRESS"
INSTRUMENT_ID = HRSC
INSTRUMENT_NAME = "HIGH RESOLUTION STEREO CAMERA"
MISSION_NAME = "MARS EXPRESS"
MISSION_PHASE_NAME = ME_Phase_29
PROCESSING_LEVEL_ID = 4
PRODUCT_CREATION_TIME = 2023-01-31T04:25:47.000Z
PRODUCT_ID = "HC416_0000_P24.TIF"
RELEASE_ID = 0002
REVISION_ID = 0000
/* QUALITY DATA ELEMENTS */
DATA_QUALITY_ID = 1
DATA_QUALITY_DESC = "Data calculated based on original SPICE kernels"
/* TIME DATA ELEMENTS */
SPACECRAFT_CLOCK_START_COUNT = "1/0329290917.07336"
SPACECRAFT_CLOCK_STOP_COUNT = "1/0329291497.40635"
START_TIME = 2013-10-08T05:42:12.522Z
STOP_TIME = 2013-10-08T05:50:12.119Z
/* ORBITAL DATA ELEMENTS */
ASCENDING_NODE_LONGITUDE = 340.71
MAXIMUM_RESOLUTION = 0.0572
FOOTPRINT_POINT_LATITUDE = (-6.27307,-6.2819,-6.28193,-6.26826, -5.44831,-4.89707,-4.0705,-3.51744, -2.96434,-2.41108,-1.85723,-1.29647, -0.196582,0.363894,0.925715,1.47868, 2.034,2.58981,3.14873,3.98333,4.53971, 5.09192,5.64932,6.20773,6.76624,7.32929 ,7.88164,8.43587,8.9962,9.65984,10.6537 ,11.3226,11.985,12.6401,13.3017,13.961, 14.6239,15.2813,16.2823,17.3041,17.9913 ,18.6931,19.399,20.1214,20.8503,21.5893 ,22.3431,23.1063,24.2732,24.671,24.7899 ,24.793,24.7936,24.7937,24.7924,24.0044 ,23.2283,22.4569,21.7078,20.9656, 20.2326,19.5115,18.803,18.0994,17.4103, 16.7271,16.0528,15.0559,14.396,13.4149, 12.7503,11.7525,10.7603,10.0987,9.43388 ,8.80516,8.24888,7.41515,6.8626,6.30042 ,5.73995,5.18147,4.62466,4.07122, 3.51555,2.95915,2.12551,1.56813,1.01181 ,0.171926,-0.382059,-0.934578,-1.76561, -2.32059,-3.15116,-4.25106,-4.80657, -5.90355,-6.17767,-6.27307)
FOOTPRINT_POINT_LONGITUDE = (340.282,339.073,339.061,339.053, 339.052,339.049,339.045,339.041,339.037 ,339.033,339.029,339.022,339.016, 339.009,339.0,338.995,338.99,338.983, 338.975,338.965,338.958,338.952,338.944 ,338.935,338.925,338.914,338.906, 338.898,338.888,338.876,338.858,338.842 ,338.829,338.818,338.804,338.79,338.774 ,338.759,338.736,338.709,338.693, 338.674,338.656,338.636,338.616,338.595 ,338.571,338.549,338.513,338.501, 338.495,339.521,340.402,340.42,340.426, 340.406,340.388,340.367,340.352,340.336 ,340.321,340.308,340.297,340.286, 340.276,340.267,340.259,340.248,340.241 ,340.236,340.23,340.221,340.217,340.214 ,340.212,340.21,340.209,340.209,340.211 ,340.209,340.208,340.208,340.209, 340.212,340.214,340.216,340.22,340.223, 340.225,340.228,340.232,340.237,340.243 ,340.247,340.254,340.267,340.271, 340.284,340.287,340.282)
ORBIT_NUMBER = 12416
ORBITAL_ECCENTRICITY = 0.577
ORBITAL_INCLINATION = 86.89
ORBITAL_SEMIMAJOR_AXIS = 8849.0
PERIAPSIS_ALTITUDE = 344.3
PERIAPSIS_ARGUMENT_ANGLE = 356.43
PERIAPSIS_TIME = 2013-10-08T05:43:15.000Z
SPACECRAFT_ORIENTATION = (0.0,1.0,0.0)
^MEX_ORIENTATION_DESC = "MEX_ORIENTATION_DESC.TXT"
SPACECRAFT_POINTING_MODE = NADIR
^MEX_POINTING_DESC = "MEX_POINTING_DESC.TXT"
RIGHT_ASCENSION = -1e+32
DECLINATION = -1e+32
OFFSET_ANGLE = -1e+32
SPACECRAFT_SOLAR_DISTANCE = 2.43794e+08
TARGET_NAME = MARS
/* CAMERA DATA ELEMENTS */
DETECTOR_TEMPERATURE = 18.7783
FOCAL_PLANE_TEMPERATURE = 8.5833
INST_CMPRS_NAME = "DISCRETE COSINE TRANSFORMATION (DCT)"
INST_CMPRS_RATIO = 28.1043
INST_CMPRS_QUALITY = 0
INST_CMPRS_QUANTZ_TBL_ID = 0
INSTRUMENT_TEMPERATURE = 11.6418
LENS_TEMPERATURE = 8.7872
MACROPIXEL_SIZE = 4
MISSING_FRAMES = 0
PIXEL_SUBSAMPLING_FLAG = N
SIGNAL_CHAIN_ID = 1
/* RADIOMETRIC DATA ELEMENTS */
BANDWIDTH = 177.0
CENTER_FILTER_WAVELENGTH = 676.5
RADIANCE_OFFSET = 0.299747
RADIANCE_SCALING_FACTOR = 0.00568148
REFLECTANCE_SCALING_FACTOR = 0.000179046
MEX:REFLECTANCE_OFFSET = 0.00944621
/* IMAGE OBJECT DEFINITIONS */
OBJECT = IMAGE
  INTERCHANGE_FORMAT = BINARY
  LINES = 36833
  LINE_SAMPLES = 2158
  SAMPLE_TYPE = UNSIGNED_INTEGER
  SAMPLE_BITS = 8
  BANDS = 1
  BAND_STORAGE_TYPE = BAND_SEQUENTIAL
  MAXIMUM = 255
  MEAN = 103.151
  MINIMUM = 1
  STANDARD_DEVIATION = 39.1014
END_OBJECT = IMAGE
/* MAP OBJECT DEFINITIONS */
OBJECT = IMAGE_MAP_PROJECTION
  ^DATA_SET_MAP_PROJECTION_CATALOG= "DSMAP.CAT"
  A_AXIS_RADIUS = 3396.0
  B_AXIS_RADIUS = 3396.0
  C_AXIS_RADIUS = 3396.0
  CENTER_LATITUDE = 0.0
  CENTER_LONGITUDE = 340.0
  COORDINATE_SYSTEM_NAME = PLANETOGRAPHIC
  COORDINATE_SYSTEM_TYPE = "BODY-FIXED ROTATING"
  EASTERNMOST_LONGITUDE = 340.426
  FIRST_STANDARD_PARALLEL = "N/A"
  LINE_FIRST_PIXEL = 1
  LINE_LAST_PIXEL = 36833
  LINE_PROJECTION_OFFSET = 29375.0
  MAP_PROJECTION_ROTATION = 0.0
  MAP_PROJECTION_TYPE = SINUSOIDAL
  MAP_RESOLUTION = 1185.42760773333
  MAP_SCALE = 0.05
  MAXIMUM_LATITUDE = 24.7937
  MINIMUM_LATITUDE = -6.28193
  POSITIVE_LONGITUDE_DIRECTION = EAST
  REFERENCE_LATITUDE = "N/A"
  REFERENCE_LONGITUDE = "N/A"
  SAMPLE_FIRST_PIXEL = 1
  SAMPLE_LAST_PIXEL = 2158
  SAMPLE_PROJECTION_OFFSET = 1653.0
  SECOND_STANDARD_PARALLEL = "N/A"
  WESTERNMOST_LONGITUDE = 338.495
END_OBJECT = IMAGE_MAP_PROJECTION
END
