PDS_VERSION_ID = PDS3
/* FILE DATA ELEMENTS */
RECORD_TYPE = UNDEFINED
/* POINTERS TO DATA OBJECTS */
^IMAGE = ("HC416_0000_IR4.TIF")
/* IDENTIFICATION DATA ELEMENTS */
DATA_SET_ID = "MEX-M-HRSC-4-REFDR-MAPPROJECT-EXT4-V4.0"
DATA_SET_NAME = "MARS EXPRESS HRSC MAP PROJECTED REFDR EXTENSION4 V4.0"
DETECTOR_ID = MEX_HRSC_IR
EVENT_TYPE = "MARS-CLOUD-VARIABLE-At"
INSTRUMENT_HOST_ID = MEX
INSTRUMENT_HOST_NAME = "MARS EXPRESS"
INSTRUMENT_ID = HRSC
INSTRUMENT_NAME = "HIGH RESOLUTION STEREO CAMERA"
MISSION_NAME = "MARS EXPRESS"
MISSION_PHASE_NAME = ME_Phase_29
PROCESSING_LEVEL_ID = 4
PRODUCT_CREATION_TIME = 2023-01-31T04:25:47.000Z
PRODUCT_ID = "HC416_0000_IR4.TIF"
RELEASE_ID = 0002
REVISION_ID = 0000
/* QUALITY DATA ELEMENTS */
DATA_QUALITY_ID = 1
DATA_QUALITY_DESC = "Data calculated based on original SPICE kernels"
/* TIME DATA ELEMENTS */
SPACECRAFT_CLOCK_START_COUNT = "1/0329290917.07336"
SPACECRAFT_CLOCK_STOP_COUNT = "1/0329291497.40635"
START_TIME = 2013-10-08T05:42:58.759Z
STOP_TIME = 2013-10-08T05:51:29.402Z
/* ORBITAL DATA ELEMENTS */
ASCENDING_NODE_LONGITUDE = 340.71
MAXIMUM_RESOLUTION = 0.1159
FOOTPRINT_POINT_LATITUDE = (-6.26826,-6.27671,-6.2768,-6.29059, -5.73169,-5.17052,-4.61502,-4.05836, -3.22706,-2.67338,-2.12094,-1.29853, -0.461867,0.0895056,0.627317,1.17389, 1.99736,2.54346,3.08556,3.63003,4.17062 ,4.7132,5.52567,6.12378,6.76024,7.39051 ,8.03153,8.66643,9.29633,10.2322, 10.8646,11.4801,12.1026,12.7415,13.3732 ,14.0202,14.9944,15.9863,16.6541, 17.3284,18.022,18.7175,19.4218,20.1342, 20.8587,21.5938,22.3364,23.0902,24.2443 ,24.6369,24.7459,24.7486,24.7485, 24.7459,23.967,22.8211,22.0736,20.9646, 20.2407,19.5266,18.8216,18.1249,17.4351 ,16.7574,16.0858,15.4201,14.7666, 14.1188,13.1428,12.5228,11.5836,10.6473 ,10.0195,9.39379,8.76296,7.81292, 7.17704,6.21978,5.0741,4.25886,3.44407, 2.90057,2.35309,1.80996,1.26345, 0.723376,0.174095,-0.377388,-0.931123, -1.48557,-2.03581,-2.5865,-3.14154, -3.69542,-4.25759,-4.80887,-5.3665, -5.92711,-6.20668,-6.26826)
FOOTPRINT_POINT_LONGITUDE = (340.276,339.091,339.08,339.068,339.066 ,339.063,339.059,339.055,339.048, 339.043,339.037,339.026,339.021,339.015 ,339.004,338.997,338.987,338.98,338.971 ,338.963,338.954,338.946,338.934, 338.923,338.911,338.896,338.886,338.874 ,338.861,338.839,338.827,338.811, 338.797,338.783,338.767,338.751,338.724 ,338.697,338.677,338.655,338.637, 338.615,338.592,338.569,338.545,338.52, 338.492,338.464,338.42,338.404,338.399, 340.504,340.524,340.538,340.511,340.473 ,340.45,340.421,340.402,340.385,340.37, 340.355,340.342,340.329,340.318,340.308 ,340.298,340.288,340.281,340.27,340.26, 340.253,340.25,340.245,340.241,340.237, 340.235,340.232,340.228,340.23,340.231, 340.232,340.234,340.234,340.236,340.234 ,340.237,340.24,340.243,340.247,340.249 ,340.252,340.256,340.259,340.266, 340.268,340.273,340.279,340.282, 340.276)
ORBIT_NUMBER = 12416
ORBITAL_ECCENTRICITY = 0.577
ORBITAL_INCLINATION = 86.89
ORBITAL_SEMIMAJOR_AXIS = 8849.0
PERIAPSIS_ALTITUDE = 344.3
PERIAPSIS_ARGUMENT_ANGLE = 356.43
PERIAPSIS_TIME = 2013-10-08T05:43:15.000Z
SPACECRAFT_ORIENTATION = (0.0,1.0,0.0)
^MEX_ORIENTATION_DESC = "MEX_ORIENTATION_DESC.TXT"
SPACECRAFT_POINTING_MODE = NADIR
^MEX_POINTING_DESC = "MEX_POINTING_DESC.TXT"
RIGHT_ASCENSION = -1e+32
DECLINATION = -1e+32
OFFSET_ANGLE = -1e+32
SPACECRAFT_SOLAR_DISTANCE = 2.43794e+08
TARGET_NAME = MARS
/* CAMERA DATA ELEMENTS */
DETECTOR_TEMPERATURE = 17.1471
FOCAL_PLANE_TEMPERATURE = 8.5833
INST_CMPRS_NAME = "DISCRETE COSINE TRANSFORMATION (DCT)"
INST_CMPRS_RATIO = 34.3265
INST_CMPRS_QUALITY = 0
INST_CMPRS_QUANTZ_TBL_ID = 0
INSTRUMENT_TEMPERATURE = 11.6418
LENS_TEMPERATURE = 8.7872
MACROPIXEL_SIZE = 8
MISSING_FRAMES = 0
PIXEL_SUBSAMPLING_FLAG = N
SIGNAL_CHAIN_ID = 2
/* RADIOMETRIC DATA ELEMENTS */
BANDWIDTH = 81.0
CENTER_FILTER_WAVELENGTH = 955.5
RADIANCE_OFFSET = 0.00743007
RADIANCE_SCALING_FACTOR = 0.0013986
REFLECTANCE_SCALING_FACTOR = 0.000179336
MEX:REFLECTANCE_OFFSET = 0.000952722
/* IMAGE OBJECT DEFINITIONS */
OBJECT = IMAGE
  INTERCHANGE_FORMAT = BINARY
  LINES = 18417
  LINE_SAMPLES = 1079
  SAMPLE_TYPE = UNSIGNED_INTEGER
  SAMPLE_BITS = 8
  BANDS = 1
  BAND_STORAGE_TYPE = BAND_SEQUENTIAL
  MAXIMUM = 255
  MEAN = 109.146
  MINIMUM = 1
  STANDARD_DEVIATION = 38.3763
END_OBJECT = IMAGE
/* MAP OBJECT DEFINITIONS */
OBJECT = IMAGE_MAP_PROJECTION
  ^DATA_SET_MAP_PROJECTION_CATALOG= "DSMAP.CAT"
  A_AXIS_RADIUS = 3396.0
  B_AXIS_RADIUS = 3396.0
  C_AXIS_RADIUS = 3396.0
  CENTER_LATITUDE = 0.0
  CENTER_LONGITUDE = 340.0
  COORDINATE_SYSTEM_NAME = PLANETOGRAPHIC
  COORDINATE_SYSTEM_TYPE = "BODY-FIXED ROTATING"
  EASTERNMOST_LONGITUDE = 340.538
  FIRST_STANDARD_PARALLEL = "N/A"
  LINE_FIRST_PIXEL = 1
  LINE_LAST_PIXEL = 18417
  LINE_PROJECTION_OFFSET = 14687.25
  MAP_PROJECTION_ROTATION = 0.0
  MAP_PROJECTION_TYPE = SINUSOIDAL
  MAP_RESOLUTION = 592.713803866667
  MAP_SCALE = 0.1
  MAXIMUM_LATITUDE = 24.7486
  MINIMUM_LATITUDE = -6.29059
  POSITIVE_LONGITUDE_DIRECTION = EAST
  REFERENCE_LATITUDE = "N/A"
  REFERENCE_LONGITUDE = "N/A"
  SAMPLE_FIRST_PIXEL = 1
  SAMPLE_LAST_PIXEL = 1079
  SAMPLE_PROJECTION_OFFSET = 826.25
  SECOND_STANDARD_PARALLEL = "N/A"
  WESTERNMOST_LONGITUDE = 338.399
END_OBJECT = IMAGE_MAP_PROJECTION
END
