PDS_VERSION_ID = PDS3
/* FILE DATA ELEMENTS */
RECORD_TYPE = UNDEFINED
/* POINTERS TO DATA OBJECTS */
^IMAGE = ("HC334_0000_S14.TIF")
/* IDENTIFICATION DATA ELEMENTS */
DATA_SET_ID = "MEX-M-HRSC-4-REFDR-MAPPROJECT-EXT4-V4.0"
DATA_SET_NAME = "MARS EXPRESS HRSC MAP PROJECTED REFDR EXTENSION4 V4.0"
DETECTOR_ID = MEX_HRSC_S1
EVENT_TYPE = "MARS-TERMINATOR-VARIABLE-Gl-Ot-At"
INSTRUMENT_HOST_ID = MEX
INSTRUMENT_HOST_NAME = "MARS EXPRESS"
INSTRUMENT_ID = HRSC
INSTRUMENT_NAME = "HIGH RESOLUTION STEREO CAMERA"
MISSION_NAME = "MARS EXPRESS"
MISSION_PHASE_NAME = ME_Phase_28
PROCESSING_LEVEL_ID = 4
PRODUCT_CREATION_TIME = 2023-01-31T04:25:47.000Z
PRODUCT_ID = "HC334_0000_S14.TIF"
RELEASE_ID = 0002
REVISION_ID = 0000
/* QUALITY DATA ELEMENTS */
DATA_QUALITY_ID = 1
DATA_QUALITY_DESC = "Data calculated based on original SPICE kernels"
/* TIME DATA ELEMENTS */
SPACECRAFT_CLOCK_START_COUNT = "1/0327229234.09063"
SPACECRAFT_CLOCK_STOP_COUNT = "1/0327231815.13518"
START_TIME = 2013-09-14T09:09:47.120Z
STOP_TIME = 2013-09-14T09:42:38.259Z
/* ORBITAL DATA ELEMENTS */
ASCENDING_NODE_LONGITUDE = 342.27
MAXIMUM_RESOLUTION = 0.3608
FOOTPRINT_POINT_LATITUDE = (78.3125,78.6779,78.916,79.1294,79.3166 ,79.4763,79.6071,79.7079,79.7776, 79.8155,79.8208,79.7932,79.6522,79.6386 ,79.4043,80.1909,80.9412,81.6546, 82.3227,82.9483,83.5257,84.0492,84.5117 ,84.9071,85.228,85.4671,85.618,85.6832, 85.6576,85.5556,85.3863,84.8908,84.2621 ,83.5561,82.9967,82.2364,81.4696, 80.7049,79.9469,79.1987,78.4593,77.7293 ,76.8296,76.1204,75.4171,74.7198, 73.6824,73.5102,73.3387,73.9649,74.5907 ,75.2027,75.8008,76.386,76.956,77.5115, 78.0509,78.5739,79.0795,79.5651,80.0301 ,80.4685,80.8839,81.2694,81.6039, 81.9176,82.1287,82.3579,82.579,82.7188, 82.76,82.737,82.6498,82.5004,82.2295, 82.1644,82.142,81.8185,81.9242,82.1647, 82.6842,83.0061,83.155,83.2546,83.2789, 83.1995,82.9882,82.6206,82.3729,82.0807 ,81.7431,81.3602,80.93,80.4546,79.9333, 79.3669,78.7556,78.4332,78.3125)
FOOTPRINT_POINT_LONGITUDE = (102.067,98.7734,96.2445,93.607,90.8648 ,88.0249,85.0975,82.0984,79.0423, 75.9427,72.8158,69.682,63.8561,63.4724, 63.1,61.3075,59.2456,56.8644,54.0992, 50.8854,47.1445,42.7966,37.7718,32.0237 ,25.5569,18.4574,10.9217,3.17783, 355.645,348.52,342.026,331.321,323.215, 317.284,313.826,310.43,307.947,306.145, 304.854,303.981,303.385,303.024,302.849 ,302.922,303.102,303.396,304.023, 304.146,304.276,302.633,300.892,299.071 ,297.162,295.164,293.042,290.797, 288.408,285.862,283.144,280.224,277.089 ,273.693,270.049,266.115,261.823, 257.286,253.686,248.602,241.881,234.82, 229.013,223.159,217.347,211.658,204.821 ,203.499,203.062,199.76,193.977,189.796 ,180.727,173.076,167.781,161.732, 154.956,147.592,139.879,132.133,128.357 ,124.695,121.177,117.83,114.66,111.688, 108.912,106.334,103.946,102.822, 102.067)
ORBIT_NUMBER = 12334
ORBITAL_ECCENTRICITY = 0.577
ORBITAL_INCLINATION = 86.9
ORBITAL_SEMIMAJOR_AXIS = 8854.87
PERIAPSIS_ALTITUDE = 350.82
PERIAPSIS_ARGUMENT_ANGLE = 10.63
PERIAPSIS_TIME = 2013-09-14T08:42:21.000Z
SPACECRAFT_ORIENTATION = (0.0,1.0,0.0)
^MEX_ORIENTATION_DESC = "MEX_ORIENTATION_DESC.TXT"
SPACECRAFT_POINTING_MODE = ACROSSTRACK
^MEX_POINTING_DESC = "MEX_POINTING_DESC.TXT"
RIGHT_ASCENSION = -1e+32
DECLINATION = -1e+32
OFFSET_ANGLE = 0.916
SPACECRAFT_SOLAR_DISTANCE = 2.4056e+08
TARGET_NAME = MARS
/* CAMERA DATA ELEMENTS */
DETECTOR_TEMPERATURE = 17.9627
FOCAL_PLANE_TEMPERATURE = 8.5833
INST_CMPRS_NAME = "DISCRETE COSINE TRANSFORMATION (DCT)"
INST_CMPRS_RATIO = 24.7615
INST_CMPRS_QUALITY = 0
INST_CMPRS_QUANTZ_TBL_ID = 0
INSTRUMENT_TEMPERATURE = 11.8457
LENS_TEMPERATURE = 8.5833
MACROPIXEL_SIZE = 4
MISSING_FRAMES = 0
PIXEL_SUBSAMPLING_FLAG = N
SIGNAL_CHAIN_ID = 1
/* RADIOMETRIC DATA ELEMENTS */
BANDWIDTH = 180.0
CENTER_FILTER_WAVELENGTH = 677.0
RADIANCE_OFFSET = 0.525434
RADIANCE_SCALING_FACTOR = 0.0262446
REFLECTANCE_SCALING_FACTOR = 0.000792381
MEX:REFLECTANCE_OFFSET = 0.015864
/* IMAGE OBJECT DEFINITIONS */
OBJECT = IMAGE
  INTERCHANGE_FORMAT = BINARY
  LINES = 5131
  LINE_SAMPLES = 11340
  SAMPLE_TYPE = UNSIGNED_INTEGER
  SAMPLE_BITS = 8
  BANDS = 1
  BAND_STORAGE_TYPE = BAND_SEQUENTIAL
  MAXIMUM = 203
  MEAN = 71.8566
  MINIMUM = 1
  STANDARD_DEVIATION = 44.9704
END_OBJECT = IMAGE
/* MAP OBJECT DEFINITIONS */
OBJECT = IMAGE_MAP_PROJECTION
  ^DATA_SET_MAP_PROJECTION_CATALOG= "DSMAP.CAT"
  A_AXIS_RADIUS = 3396.0
  B_AXIS_RADIUS = 3396.0
  C_AXIS_RADIUS = 3396.0
  CENTER_LATITUDE = 0.0
  CENTER_LONGITUDE = 231.0
  COORDINATE_SYSTEM_NAME = PLANETOGRAPHIC
  COORDINATE_SYSTEM_TYPE = "BODY-FIXED ROTATING"
  EASTERNMOST_LONGITUDE = 360.0
  FIRST_STANDARD_PARALLEL = "N/A"
  LINE_FIRST_PIXEL = 1
  LINE_LAST_PIXEL = 5131
  LINE_PROJECTION_OFFSET = 26080.75
  MAP_PROJECTION_ROTATION = 0.0
  MAP_PROJECTION_TYPE = SINUSOIDAL
  MAP_RESOLUTION = 296.356901933333
  MAP_SCALE = 0.2
  MAXIMUM_LATITUDE = 90.0
  MINIMUM_LATITUDE = 73.3387
  POSITIVE_LONGITUDE_DIRECTION = EAST
  REFERENCE_LATITUDE = "N/A"
  REFERENCE_LONGITUDE = "N/A"
  SAMPLE_FIRST_PIXEL = 1
  SAMPLE_LAST_PIXEL = 11340
  SAMPLE_PROJECTION_OFFSET = 8576.75
  SECOND_STANDARD_PARALLEL = "N/A"
  WESTERNMOST_LONGITUDE = 0.0
END_OBJECT = IMAGE_MAP_PROJECTION
END
