PDS_VERSION_ID = PDS3
/* FILE DATA ELEMENTS */
RECORD_TYPE = UNDEFINED
/* POINTERS TO DATA OBJECTS */
^IMAGE = ("HC210_0000_BL4.TIF")
/* IDENTIFICATION DATA ELEMENTS */
DATA_SET_ID = "MEX-M-HRSC-4-REFDR-MAPPROJECT-EXT4-V4.0"
DATA_SET_NAME = "MARS EXPRESS HRSC MAP PROJECTED REFDR EXTENSION4 V4.0"
DETECTOR_ID = MEX_HRSC_BLUE
EVENT_TYPE = "MARS-CLOUD-VARIABLE-At"
INSTRUMENT_HOST_ID = MEX
INSTRUMENT_HOST_NAME = "MARS EXPRESS"
INSTRUMENT_ID = HRSC
INSTRUMENT_NAME = "HIGH RESOLUTION STEREO CAMERA"
MISSION_NAME = "MARS EXPRESS"
MISSION_PHASE_NAME = ME_Phase_28
PROCESSING_LEVEL_ID = 4
PRODUCT_CREATION_TIME = 2023-01-31T04:25:47.000Z
PRODUCT_ID = "HC210_0000_BL4.TIF"
RELEASE_ID = 0002
REVISION_ID = 0000
/* QUALITY DATA ELEMENTS */
DATA_QUALITY_ID = 1
DATA_QUALITY_DESC = "Data calculated based on original SPICE kernels"
/* TIME DATA ELEMENTS */
SPACECRAFT_CLOCK_START_COUNT = "1/0324115700.08235"
SPACECRAFT_CLOCK_STOP_COUNT = "1/0324117642.16355"
START_TIME = 2013-08-09T08:08:24.323Z
STOP_TIME = 2013-08-09T08:27:42.383Z
/* ORBITAL DATA ELEMENTS */
ASCENDING_NODE_LONGITUDE = 344.62
MAXIMUM_RESOLUTION = 0.6745 <m/pixel>
FOOTPRINT_POINT_LATITUDE = (13.5288,12.5908,11.8572,11.1374, 10.4301,9.73354,9.04667,8.36926,7.70079 ,7.0401,6.38624,5.73902,5.09805,4.46286 ,3.83288,3.20782,2.58716,1.97013, 1.35624,0.74531,0.136973,-0.469573, -1.07478,-1.67825,-2.27995,-3.03057, -3.18061,-3.22949,-5.06835,-6.12032, -7.17413,-8.50024,-9.5491,-10.6075, -11.67,-12.7349,-13.8027,-15.1643, -17.0279,-18.1145,-19.2051,-20.3014, -21.4042,-22.5132,-23.6293,-24.7533, -25.8867,-27.0279,-28.1775,-30.2141, -30.5087,-30.5313,-29.5833,-28.8278, -28.0737,-27.3193,-26.5764,-25.8509, -25.1242,-24.4016,-23.6824,-22.9652, -22.2507,-21.5372,-20.8245,-20.1147, -19.4045,-18.695,-17.9832,-17.27, -16.5547,-15.8378,-15.1174,-14.3939, -13.6673,-12.9352,-12.0119,-11.8261, -11.7586,-10.7695,-8.79179,-7.06042, -6.07205,-4.09036,-2.10109,-0.592128, 1.41325,2.42027,3.43054,4.44432,5.462, 6.484,7.51012,8.54142,9.57757,10.6195, 11.6671,13.2526,13.5179,13.5288)
FOOTPRINT_POINT_LONGITUDE = (281.517,283.078,284.285,285.46,286.605 ,287.726,288.824,289.901,290.96,292.002 ,293.03,294.045,295.048,296.041,297.025 ,298.0,298.97,299.934,300.894,301.852, 302.808,303.764,304.721,305.679,306.638 ,307.841,308.082,308.162,307.989, 307.898,307.81,307.715,307.622,307.544, 307.471,307.401,307.335,307.276,307.162 ,307.116,307.075,307.039,307.009, 306.986,306.97,306.961,306.961,306.969, 306.986,307.04,307.051,307.052,305.376, 304.063,302.779,301.521,300.29,299.086, 297.9,296.732,295.58,294.441,293.313, 292.195,291.085,289.979,288.878,287.778 ,286.682,285.588,284.491,283.39,282.287 ,281.18,280.06,278.931,277.502,277.214, 277.11,277.383,277.893,278.322,278.572, 279.021,279.43,279.68,280.044,280.214, 280.376,280.53,280.676,280.813,280.942, 281.062,281.174,281.276,281.368,281.485 ,281.503,281.517)
ORBIT_NUMBER = 12210
ORBITAL_ECCENTRICITY = 0.574
ORBITAL_INCLINATION = 86.89
ORBITAL_SEMIMAJOR_AXIS = 8824.03
PERIAPSIS_ALTITUDE = 364.18
PERIAPSIS_ARGUMENT_ANGLE = 32.16
PERIAPSIS_TIME = 2013-08-09T06:12:05.000Z
SPACECRAFT_ORIENTATION = (0.0,1.0,0.0)
^MEX_ORIENTATION_DESC = "MEX_ORIENTATION_DESC.TXT"
SPACECRAFT_POINTING_MODE = INERT
^MEX_POINTING_DESC = "MEX_POINTING_DESC.TXT"
RIGHT_ASCENSION = 197.559
DECLINATION = -17.803
OFFSET_ANGLE = -1e+32
SPACECRAFT_SOLAR_DISTANCE = 2.34594e+08
TARGET_NAME = MARS
/* CAMERA DATA ELEMENTS */
DETECTOR_TEMPERATURE = 18.3705 <degC>
FOCAL_PLANE_TEMPERATURE = 8.5833 <degC>
INST_CMPRS_NAME = "DISCRETE COSINE TRANSFORMATION (DCT)"
INST_CMPRS_RATIO = 8.5397
INST_CMPRS_QUALITY = 0
INST_CMPRS_QUANTZ_TBL_ID = 0
INSTRUMENT_TEMPERATURE = 11.6418 <degC>
LENS_TEMPERATURE = 8.9911 <degC>
MACROPIXEL_SIZE = 2
MISSING_FRAMES = 0
PIXEL_SUBSAMPLING_FLAG = N
SIGNAL_CHAIN_ID = 2
/* RADIOMETRIC DATA ELEMENTS */
BANDWIDTH = 76.0 <nm>
CENTER_FILTER_WAVELENGTH = 444.0 <nm>
RADIANCE_OFFSET = 0.249774 <W*m**-2*sr**-1>
RADIANCE_SCALING_FACTOR = 0.00251495 <W*m**-2*sr**-1>
REFLECTANCE_SCALING_FACTOR = 0.000142224
MEX:REFLECTANCE_OFFSET = 0.0141251
/* IMAGE OBJECT DEFINITIONS */
OBJECT = IMAGE
  INTERCHANGE_FORMAT = BINARY
  LINES = 3266
  LINE_SAMPLES = 2274
  SAMPLE_TYPE = UNSIGNED_INTEGER
  SAMPLE_BITS = 8
  BANDS = 1
  BAND_STORAGE_TYPE = BAND_SEQUENTIAL
  MAXIMUM = 255
  MEAN = 115.903
  MINIMUM = 3
  STANDARD_DEVIATION = 45.591
END_OBJECT = IMAGE
/* MAP OBJECT DEFINITIONS */
OBJECT = IMAGE_MAP_PROJECTION
  ^DATA_SET_MAP_PROJECTION_CATALOG= "DSMAP.CAT"
  A_AXIS_RADIUS = 3396.0 <km>
  B_AXIS_RADIUS = 3396.0 <km>
  C_AXIS_RADIUS = 3396.0 <km>
  CENTER_LATITUDE = 0.0
  CENTER_LONGITUDE = 294.0
  COORDINATE_SYSTEM_NAME = PLANETOGRAPHIC
  COORDINATE_SYSTEM_TYPE = "BODY-FIXED ROTATING"
  EASTERNMOST_LONGITUDE = 308.162
  FIRST_STANDARD_PARALLEL = "N/A"
  LINE_FIRST_PIXEL = 1
  LINE_LAST_PIXEL = 3266
  LINE_PROJECTION_OFFSET = 1003.0
  MAP_PROJECTION_ROTATION = 0.0
  MAP_PROJECTION_TYPE = SINUSOIDAL
  MAP_RESOLUTION = 74.08922548333329 <pixel/degree>
  MAP_SCALE = 0.8 <km/pixel>
  MAXIMUM_LATITUDE = 13.5288
  MINIMUM_LATITUDE = -30.5313
  POSITIVE_LONGITUDE_DIRECTION = EAST
  REFERENCE_LATITUDE = "N/A"
  REFERENCE_LONGITUDE = "N/A"
  SAMPLE_FIRST_PIXEL = 1
  SAMPLE_LAST_PIXEL = 2274
  SAMPLE_PROJECTION_OFFSET = 1225.0
  SECOND_STANDARD_PARALLEL = "N/A"
  WESTERNMOST_LONGITUDE = 277.11
END_OBJECT = IMAGE_MAP_PROJECTION
END
