PDS_VERSION_ID = PDS3
/* FILE DATA ELEMENTS */
RECORD_TYPE = UNDEFINED
/* POINTERS TO DATA OBJECTS */
^IMAGE = ("HC162_0004_SR4.TIF")
/* IDENTIFICATION DATA ELEMENTS */
DATA_SET_ID = "MEX-M-HRSC-4-REFDR-MAPPROJECT-EXT4-V4.0"
DATA_SET_NAME = "MARS EXPRESS HRSC MAP PROJECTED REFDR EXTENSION4 V4.0"
DETECTOR_ID = MEX_HRSC_SRC
EVENT_TYPE = "MARS-CLOUD-VARIABLE-At-Sh"
INSTRUMENT_HOST_ID = MEX
INSTRUMENT_HOST_NAME = "MARS EXPRESS"
INSTRUMENT_ID = HRSC
INSTRUMENT_NAME = "HIGH RESOLUTION STEREO CAMERA"
MISSION_NAME = "MARS EXPRESS"
MISSION_PHASE_NAME = ME_Phase_28
PROCESSING_LEVEL_ID = 4
PRODUCT_CREATION_TIME = 2023-01-31T04:25:47.000Z
PRODUCT_ID = "HC162_0004_SR4.TIF"
RELEASE_ID = 0002
REVISION_ID = 0000
/* QUALITY DATA ELEMENTS */
DATA_QUALITY_ID = 1
DATA_QUALITY_DESC = "Data calculated based on original SPICE kernels"
/* TIME DATA ELEMENTS */
SPACECRAFT_CLOCK_START_COUNT = "1/0322912497.07354"
SPACECRAFT_CLOCK_STOP_COUNT = "1/0322913706.23919"
IMAGE_TIME = 2013-07-26T10:05:13.521Z
START_TIME = 2013-07-26T10:05:13.517Z
STOP_TIME = 2013-07-26T10:05:13.526Z
/* ORBITAL DATA ELEMENTS */
ASCENDING_NODE_LONGITUDE = 345.54
MAXIMUM_RESOLUTION = 0.10176
FOOTPRINT_POINT_LATITUDE = (-5.18274,-5.26711,-5.32325,-5.3793, -5.43528,-5.49117,-5.56234,-5.67367, -5.77429,-5.83116,-5.94519,-6.05544, -6.16538,-6.25291,-6.3623,-6.49344, -6.58339,-6.69183,-6.79997,-6.93932, -6.941,-6.93952,-6.87775,-6.77305, -6.71333,-6.65345,-6.59343,-6.54351, -6.4819,-6.42145,-6.36084,-6.30009, -6.22699,-6.15694,-6.09567,-6.03425, -5.97267,-5.91093,-5.81775,-5.75561, -5.69331,-5.63085,-5.54077,-5.49255, -5.39801,-5.38221,-5.37273,-5.26273, -5.15413,-5.05866,-4.94773,-4.89214, -4.81557,-4.75978,-4.70391,-4.64796, -4.59192,-4.53579,-4.46374,-4.39573, -4.33929,-4.28277,-4.22615,-4.14365, -4.08682,-4.0299,-3.9729,-3.91581, -3.85862,-3.75484,-3.69742,-3.6003, -3.5985,-3.60013,-3.66494,-3.72958, -3.79404,-3.87913,-3.94319,-4.00706, -4.07076,-4.13429,-4.17904,-4.2725, -4.33549,-4.39831,-4.46096,-4.50372, -4.56693,-4.62914,-4.69119,-4.75308, -4.8148,-4.88556,-4.94694,-5.00816, -5.06922,-5.13013,-5.14533,-5.18274)
FOOTPRINT_POINT_LONGITUDE = (138.321,138.277,138.247,138.217, 138.187,138.158,138.121,138.061,138.007 ,137.965,137.903,137.843,137.783, 137.732,137.672,137.6,137.565,137.505, 137.445,137.39,137.389,137.388,137.326, 137.229,137.168,137.107,137.046,136.988 ,136.936,136.875,136.813,136.752, 136.665,136.601,136.539,136.477,136.415 ,136.353,136.26,136.198,136.136,136.074 ,135.982,135.935,135.841,135.826, 135.816,135.876,135.934,135.985,136.045 ,136.075,136.114,136.144,136.174, 136.203,136.233,136.263,136.294,136.321 ,136.351,136.38,136.41,136.454,136.484, 136.513,136.543,136.572,136.602,136.669 ,136.699,136.748,136.749,136.751, 136.814,136.876,136.939,137.029,137.092 ,137.154,137.216,137.279,137.324, 137.417,137.479,137.541,137.603,137.659 ,137.721,137.783,137.845,137.906, 137.968,138.043,138.105,138.166,138.227 ,138.289,138.304,138.321)
ORBIT_NUMBER = 12162
ORBITAL_ECCENTRICITY = 0.574
ORBITAL_INCLINATION = 86.88
ORBITAL_SEMIMAJOR_AXIS = 8813.4
PERIAPSIS_ALTITUDE = 369.37
PERIAPSIS_ARGUMENT_ANGLE = 40.44
PERIAPSIS_TIME = 2013-07-26T06:46:18.000Z
SPACECRAFT_ORIENTATION = (0.0,1.0,0.0)
^MEX_ORIENTATION_DESC = "MEX_ORIENTATION_DESC.TXT"
SPACECRAFT_POINTING_MODE = INERT
^MEX_POINTING_DESC = "MEX_POINTING_DESC.TXT"
RIGHT_ASCENSION = 193.014
DECLINATION = -25.025
OFFSET_ANGLE = -1e+32
SPACECRAFT_SOLAR_DISTANCE = 2.32024e+08
TARGET_NAME = MARS
/* CAMERA DATA ELEMENTS */
BUFFER_MODE_ID = BUFFER_8
EXPOSURE_DURATION = 9.072
INST_CMPRS_NAME = NONE
INST_CMPRS_RATIO = 1.0
INST_CMPRS_QUALITY = -2147483648
INST_CMPRS_QUANTZ_TBL_ID = -2147483648
INSTRUMENT_TEMPERATURE = 17.6796
MISSING_FRAMES = 0
START_BIT = 0
/* RADIOMETRIC DATA ELEMENTS */
BANDWIDTH = 250.0
CENTER_FILTER_WAVELENGTH = 600.0
RADIANCE_OFFSET = -9.99e+31
RADIANCE_SCALING_FACTOR = -9.99e+31
REFLECTANCE_SCALING_FACTOR = -9.99e+31
MEX:REFLECTANCE_OFFSET = -9.99e+31
/* IMAGE OBJECT DEFINITIONS */
OBJECT = IMAGE
  INTERCHANGE_FORMAT = BINARY
  LINES = 2501
  LINE_SAMPLES = 1893
  SAMPLE_TYPE = UNSIGNED_INTEGER
  SAMPLE_BITS = 8
  BANDS = 1
  BAND_STORAGE_TYPE = BAND_SEQUENTIAL
  MAXIMUM = 253
  MEAN = 136.473
  MINIMUM = 1
  STANDARD_DEVIATION = 49.0742
END_OBJECT = IMAGE
/* MAP OBJECT DEFINITIONS */
OBJECT = IMAGE_MAP_PROJECTION
  ^DATA_SET_MAP_PROJECTION_CATALOG= "DSMAP.CAT"
  A_AXIS_RADIUS = 3396.19
  B_AXIS_RADIUS = 3396.19
  C_AXIS_RADIUS = 3396.19
  CENTER_LATITUDE = 0.0
  CENTER_LONGITUDE = 137.0
  COORDINATE_SYSTEM_NAME = PLANETOGRAPHIC
  COORDINATE_SYSTEM_TYPE = "BODY-FIXED ROTATING"
  EASTERNMOST_LONGITUDE = 138.321
  FIRST_STANDARD_PARALLEL = "N/A"
  LINE_FIRST_PIXEL = 1
  LINE_LAST_PIXEL = 2501
  LINE_PROJECTION_OFFSET = -2653.0
  MAP_PROJECTION_ROTATION = 0.0
  MAP_PROJECTION_TYPE = SINUSOIDAL
  MAP_RESOLUTION = 740.9337064023611
  MAP_SCALE = 0.08
  MAXIMUM_LATITUDE = -3.5985
  MINIMUM_LATITUDE = -6.941
  POSITIVE_LONGITUDE_DIRECTION = EAST
  REFERENCE_LATITUDE = "N/A"
  REFERENCE_LONGITUDE = "N/A"
  SAMPLE_FIRST_PIXEL = 1
  SAMPLE_LAST_PIXEL = 1893
  SAMPLE_PROJECTION_OFFSET = 893.0
  SECOND_STANDARD_PARALLEL = "N/A"
  WESTERNMOST_LONGITUDE = 135.816
END_OBJECT = IMAGE_MAP_PROJECTION
END
