PDS_VERSION_ID = PDS3
/* FILE DATA ELEMENTS */
RECORD_TYPE = UNDEFINED
/* POINTERS TO DATA OBJECTS */
^IMAGE = ("HB738_0000_S24.TIF")
/* IDENTIFICATION DATA ELEMENTS */
DATA_SET_ID = "MEX-M-HRSC-4-REFDR-MAPPROJECT-EXT4-V4.0"
DATA_SET_NAME = "MARS EXPRESS HRSC MAP PROJECTED REFDR EXTENSION4 V4.0"
DETECTOR_ID = MEX_HRSC_S2
EVENT_TYPE = "MARS-REGIONAL-MAPPING-Im-Pf-Eo"
INSTRUMENT_HOST_ID = MEX
INSTRUMENT_HOST_NAME = "MARS EXPRESS"
INSTRUMENT_ID = HRSC
INSTRUMENT_NAME = "HIGH RESOLUTION STEREO CAMERA"
MISSION_NAME = "MARS EXPRESS"
MISSION_PHASE_NAME = ME_Phase_27
PROCESSING_LEVEL_ID = 4
PRODUCT_CREATION_TIME = 2023-01-30T11:30:59.000Z
PRODUCT_ID = "HB738_0000_S24.TIF"
RELEASE_ID = 0001
REVISION_ID = 0000
/* QUALITY DATA ELEMENTS */
DATA_QUALITY_ID = 1
DATA_QUALITY_DESC = "Data calculated based on original SPICE kernels"
/* TIME DATA ELEMENTS */
SPACECRAFT_CLOCK_START_COUNT = "1/0312235094.09054"
SPACECRAFT_CLOCK_STOP_COUNT = "1/0312235359.31978"
START_TIME = 2013-03-24T19:59:34.533Z
STOP_TIME = 2013-03-24T20:02:41.161Z
/* ORBITAL DATA ELEMENTS */
ASCENDING_NODE_LONGITUDE = 353.52
MAXIMUM_RESOLUTION = 0.0368
FOOTPRINT_POINT_LATITUDE = (53.924,53.9112,53.9012,53.8818,53.8695 ,53.8538,53.8529,53.962,53.6585,53.2552 ,52.9533,52.5422,51.9265,51.5172,51.308 ,50.9946,50.6817,50.4738,50.2658, 50.0543,49.8422,49.6304,49.4187,49.2075 ,48.8865,48.6719,48.4564,48.2411,48.027 ,47.7002,47.4815,47.2636,47.046,46.7147 ,46.4933,46.2722,46.0513,45.8272, 45.6027,45.3784,45.1545,44.9276,44.6996 ,44.4724,44.2454,44.0143,43.6685, 43.3223,43.2053,43.1554,43.1647,43.1722 ,43.1779,43.1851,43.1922,43.1924,43.193 ,43.4279,43.6586,43.8901,44.1219, 44.3519,44.5799,44.8082,45.1512,45.4881 ,45.7126,45.938,46.1624,46.4953,46.8286 ,47.0507,47.2688,47.4874,47.7061, 47.9257,48.2509,48.466,48.7899,49.0062, 49.2208,49.5393,49.7515,49.9641,50.1771 ,50.3884,50.5968,50.8057,51.0147, 51.2243,51.434,51.8479,52.1566,52.569, 52.7756,53.0834,53.4875,53.893,53.9945, 53.924)
FOOTPRINT_POINT_LONGITUDE = (317.753,317.203,316.82,316.151,315.769 ,315.315,315.291,315.214,315.246, 315.286,315.315,315.353,315.408,315.442 ,315.459,315.484,315.508,315.523, 315.538,315.553,315.568,315.582,315.596 ,315.61,315.63,315.643,315.656,315.668, 315.68,315.698,315.71,315.721,315.732, 315.747,315.758,315.768,315.777,315.787 ,315.796,315.805,315.813,315.822,315.83 ,315.838,315.845,315.853,315.863, 315.873,315.876,315.877,316.374,316.796 ,317.168,317.739,318.41,318.435,318.444 ,318.434,318.423,318.413,318.403, 318.392,318.382,318.371,318.355,318.339 ,318.327,318.316,318.305,318.288, 318.271,318.259,318.248,318.236,318.224 ,318.212,318.194,318.181,318.163,318.15 ,318.138,318.119,318.106,318.092, 318.079,318.065,318.052,318.038,318.025 ,318.01,317.996,317.968,317.946,317.916 ,317.901,317.878,317.847,317.815, 317.807,317.753)
ORBIT_NUMBER = 11738
ORBITAL_ECCENTRICITY = 0.571
ORBITAL_INCLINATION = 86.91
ORBITAL_SEMIMAJOR_AXIS = 8769.75
PERIAPSIS_ALTITUDE = 383.31
PERIAPSIS_ARGUMENT_ANGLE = 113.59
PERIAPSIS_TIME = 2013-03-24T19:55:42.000Z
SPACECRAFT_ORIENTATION = (0.0,-1.0,0.0)
^MEX_ORIENTATION_DESC = "MEX_ORIENTATION_DESC.TXT"
SPACECRAFT_POINTING_MODE = NADIR
^MEX_POINTING_DESC = "MEX_POINTING_DESC.TXT"
RIGHT_ASCENSION = -1e+32
DECLINATION = -1e+32
OFFSET_ANGLE = -1e+32
SPACECRAFT_SOLAR_DISTANCE = 2.10336e+08
TARGET_NAME = MARS
/* CAMERA DATA ELEMENTS */
DETECTOR_TEMPERATURE = 18.7783
FOCAL_PLANE_TEMPERATURE = 8.3794
INST_CMPRS_NAME = "DISCRETE COSINE TRANSFORMATION (DCT)"
INST_CMPRS_RATIO = 14.2018
INST_CMPRS_QUALITY = 0
INST_CMPRS_QUANTZ_TBL_ID = 0
INSTRUMENT_TEMPERATURE = 11.0301
LENS_TEMPERATURE = 8.5833
MACROPIXEL_SIZE = 2
MISSING_FRAMES = 0
PIXEL_SUBSAMPLING_FLAG = N
SIGNAL_CHAIN_ID = 1
/* RADIOMETRIC DATA ELEMENTS */
BANDWIDTH = 178.0
CENTER_FILTER_WAVELENGTH = 679.0
RADIANCE_OFFSET = 1.60787
RADIANCE_SCALING_FACTOR = 0.0134157
REFLECTANCE_SCALING_FACTOR = 0.000314319
MEX:REFLECTANCE_OFFSET = 0.0376711
/* IMAGE OBJECT DEFINITIONS */
OBJECT = IMAGE
  INTERCHANGE_FORMAT = BINARY
  LINES = 25803
  LINE_SAMPLES = 4739
  SAMPLE_TYPE = UNSIGNED_INTEGER
  SAMPLE_BITS = 8
  BANDS = 1
  BAND_STORAGE_TYPE = BAND_SEQUENTIAL
  MAXIMUM = 255
  MEAN = 116.207
  MINIMUM = 1
  STANDARD_DEVIATION = 55.4832
END_OBJECT = IMAGE
/* MAP OBJECT DEFINITIONS */
OBJECT = IMAGE_MAP_PROJECTION
  ^DATA_SET_MAP_PROJECTION_CATALOG= "DSMAP.CAT"
  A_AXIS_RADIUS = 3396.0
  B_AXIS_RADIUS = 3396.0
  C_AXIS_RADIUS = 3396.0
  CENTER_LATITUDE = 0.0
  CENTER_LONGITUDE = 317.0
  COORDINATE_SYSTEM_NAME = PLANETOGRAPHIC
  COORDINATE_SYSTEM_TYPE = "BODY-FIXED ROTATING"
  EASTERNMOST_LONGITUDE = 318.444
  FIRST_STANDARD_PARALLEL = "N/A"
  LINE_FIRST_PIXEL = 1
  LINE_LAST_PIXEL = 25803
  LINE_PROJECTION_OFFSET = 128033.25
  MAP_PROJECTION_ROTATION = 0.0
  MAP_PROJECTION_TYPE = SINUSOIDAL
  MAP_RESOLUTION = 2370.85521546667
  MAP_SCALE = 0.025
  MAXIMUM_LATITUDE = 53.9945
  MINIMUM_LATITUDE = 43.1554
  POSITIVE_LONGITUDE_DIRECTION = EAST
  REFERENCE_LATITUDE = "N/A"
  REFERENCE_LONGITUDE = "N/A"
  SAMPLE_FIRST_PIXEL = 1
  SAMPLE_LAST_PIXEL = 4739
  SAMPLE_PROJECTION_OFFSET = 2421.25
  SECOND_STANDARD_PARALLEL = "N/A"
  WESTERNMOST_LONGITUDE = 315.214
END_OBJECT = IMAGE_MAP_PROJECTION
END
