PDS_VERSION_ID = PDS3
/* FILE DATA ELEMENTS */
RECORD_TYPE = UNDEFINED
/* POINTERS TO DATA OBJECTS */
^IMAGE = ("HB719_0000_IR4.TIF")
/* IDENTIFICATION DATA ELEMENTS */
DATA_SET_ID = "MEX-M-HRSC-4-REFDR-MAPPROJECT-EXT4-V4.0"
DATA_SET_NAME = "MARS EXPRESS HRSC MAP PROJECTED REFDR EXTENSION4 V4.0"
DETECTOR_ID = MEX_HRSC_IR
EVENT_TYPE = "MARS-REGIONAL-MAPPING-Vo-Pf-Eo"
INSTRUMENT_HOST_ID = MEX
INSTRUMENT_HOST_NAME = "MARS EXPRESS"
INSTRUMENT_ID = HRSC
INSTRUMENT_NAME = "HIGH RESOLUTION STEREO CAMERA"
MISSION_NAME = "MARS EXPRESS"
MISSION_PHASE_NAME = ME_Phase_27
PROCESSING_LEVEL_ID = 4
PRODUCT_CREATION_TIME = 2023-01-30T11:30:59.000Z
PRODUCT_ID = "HB719_0000_IR4.TIF"
RELEASE_ID = 0001
REVISION_ID = 0000
/* QUALITY DATA ELEMENTS */
DATA_QUALITY_ID = 1
DATA_QUALITY_DESC = "Data calculated based on original SPICE kernels"
/* TIME DATA ELEMENTS */
SPACECRAFT_CLOCK_START_COUNT = "1/0311757260.08288"
SPACECRAFT_CLOCK_STOP_COUNT = "1/0311757597.16394"
START_TIME = 2013-03-19T07:14:30.494Z
STOP_TIME = 2013-03-19T07:17:59.191Z
/* ORBITAL DATA ELEMENTS */
ASCENDING_NODE_LONGITUDE = 353.88
MAXIMUM_RESOLUTION = 0.0746 <m/pixel>
FOOTPRINT_POINT_LATITUDE = (43.0926,43.0601,43.0226,42.9652, 42.9637,42.8905,42.3045,41.7092,41.2292 ,40.8699,40.3816,40.1372,39.8922, 39.6475,39.3994,39.1492,38.8993,38.6497 ,38.3988,38.1438,37.8888,37.6339, 37.3796,37.1198,36.8601,36.6004,36.2083 ,35.9434,35.6787,35.4142,35.0107, 34.7413,34.4723,34.1987,33.9246,33.6507 ,33.3733,33.0942,32.8154,32.5342, 32.2505,31.9672,31.6811,31.393,31.105, 30.6668,30.3743,29.9299,29.7813,29.7785 ,29.7958,29.8156,29.838,29.8519,29.8706 ,29.8711,29.8727,30.1711,30.4679, 30.7615,31.2009,31.4896,31.779,32.0662, 32.3505,32.6351,33.057,33.3365,33.6167, 33.8922,34.167,34.5787,34.8489,35.2542, 35.5238,35.789,36.0546,36.453,36.8435, 37.2346,37.4952,37.7505,38.0059,38.2619 ,38.6446,38.8947,39.2702,39.5211, 39.7701,40.0155,40.2613,40.5066,40.7524 ,40.9962,41.3568,41.7177,42.3171, 42.9053,43.023,43.0926)
FOOTPRINT_POINT_LONGITUDE = (98.612,97.9963,97.37,96.5312,96.511, 96.4362,96.4703,96.5015,96.5255,96.543, 96.5652,96.5764,96.5867,96.5968,96.6068 ,96.6165,96.6258,96.635,96.6434,96.6521 ,96.6605,96.6684,96.6763,96.6838, 96.6912,96.6981,96.7078,96.714,96.7199, 96.7254,96.7337,96.7387,96.7435,96.7479 ,96.7523,96.7562,96.7597,96.7629,96.766 ,96.7687,96.7712,96.7735,96.7754, 96.7771,96.7784,96.7797,96.7803,96.7806 ,96.7806,96.7806,97.1146,97.536,98.0846 ,98.4762,99.1007,99.1222,99.1293, 99.1215,99.1136,99.1057,99.0935,99.0853 ,99.077,99.0686,99.0601,99.0514,99.0383 ,99.0294,99.0204,99.0113,99.0022, 98.9881,98.9787,98.9643,98.9545,98.9448 ,98.9348,98.9196,98.9043,98.8887,98.878 ,98.8675,98.8567,98.8458,98.8291,98.818 ,98.801,98.7894,98.7778,98.7661,98.7543 ,98.7423,98.7301,98.7178,98.6993, 98.6804,98.6481,98.6152,98.6085,98.612)
ORBIT_NUMBER = 11719
ORBITAL_ECCENTRICITY = 0.572
ORBITAL_INCLINATION = 86.91
ORBITAL_SEMIMAJOR_AXIS = 8778.92
PERIAPSIS_ALTITUDE = 381.04
PERIAPSIS_ARGUMENT_ANGLE = 116.83
PERIAPSIS_TIME = 2013-03-19T07:09:49.000Z
SPACECRAFT_ORIENTATION = (0.0,-1.0,0.0)
^MEX_ORIENTATION_DESC = "MEX_ORIENTATION_DESC.TXT"
SPACECRAFT_POINTING_MODE = ACROSSTRACK
^MEX_POINTING_DESC = "MEX_POINTING_DESC.TXT"
RIGHT_ASCENSION = -1e+32
DECLINATION = -1e+32
OFFSET_ANGLE = -0.9
SPACECRAFT_SOLAR_DISTANCE = 2.09707e+08
TARGET_NAME = MARS
/* CAMERA DATA ELEMENTS */
DETECTOR_TEMPERATURE = 17.1471 <degC>
FOCAL_PLANE_TEMPERATURE = 7.7677 <degC>
INST_CMPRS_NAME = "DISCRETE COSINE TRANSFORMATION (DCT)"
INST_CMPRS_RATIO = 14.9328
INST_CMPRS_QUALITY = 0
INST_CMPRS_QUANTZ_TBL_ID = 0
INSTRUMENT_TEMPERATURE = 11.234 <degC>
LENS_TEMPERATURE = 8.1755 <degC>
MACROPIXEL_SIZE = 4
MISSING_FRAMES = 0
PIXEL_SUBSAMPLING_FLAG = N
SIGNAL_CHAIN_ID = 2
/* RADIOMETRIC DATA ELEMENTS */
BANDWIDTH = 81.0 <nm>
CENTER_FILTER_WAVELENGTH = 955.5 <nm>
RADIANCE_OFFSET = 0.953802 <W*m**-2*sr**-1>
RADIANCE_SCALING_FACTOR = 0.00457649 <W*m**-2*sr**-1>
REFLECTANCE_SCALING_FACTOR = 0.000434198
MEX:REFLECTANCE_OFFSET = 0.0904927
/* IMAGE OBJECT DEFINITIONS */
OBJECT = IMAGE
  INTERCHANGE_FORMAT = BINARY
  LINES = 15608
  LINE_SAMPLES = 2634
  SAMPLE_TYPE = UNSIGNED_INTEGER
  SAMPLE_BITS = 8
  BANDS = 1
  BAND_STORAGE_TYPE = BAND_SEQUENTIAL
  MAXIMUM = 255
  MEAN = 135.118
  MINIMUM = 1
  STANDARD_DEVIATION = 48.7968
END_OBJECT = IMAGE
/* MAP OBJECT DEFINITIONS */
OBJECT = IMAGE_MAP_PROJECTION
  ^DATA_SET_MAP_PROJECTION_CATALOG= "DSMAP.CAT"
  A_AXIS_RADIUS = 3396.0 <km>
  B_AXIS_RADIUS = 3396.0 <km>
  C_AXIS_RADIUS = 3396.0 <km>
  CENTER_LATITUDE = 0.0
  CENTER_LONGITUDE = 98.0
  COORDINATE_SYSTEM_NAME = PLANETOGRAPHIC
  COORDINATE_SYSTEM_TYPE = "BODY-FIXED ROTATING"
  EASTERNMOST_LONGITUDE = 99.1293
  FIRST_STANDARD_PARALLEL = "N/A"
  LINE_FIRST_PIXEL = 1
  LINE_LAST_PIXEL = 15608
  LINE_PROJECTION_OFFSET = 50975.375
  MAP_PROJECTION_ROTATION = 0.0
  MAP_PROJECTION_TYPE = SINUSOIDAL
  MAP_RESOLUTION = 1185.42760773333 <pixel/degree>
  MAP_SCALE = 0.05 <km/pixel>
  MAXIMUM_LATITUDE = 43.0926
  MINIMUM_LATITUDE = 29.7785
  POSITIVE_LONGITUDE_DIRECTION = EAST
  REFERENCE_LATITUDE = "N/A"
  REFERENCE_LONGITUDE = "N/A"
  SAMPLE_FIRST_PIXEL = 1
  SAMPLE_LAST_PIXEL = 2634
  SAMPLE_PROJECTION_OFFSET = 1396.625
  SECOND_STANDARD_PARALLEL = "N/A"
  WESTERNMOST_LONGITUDE = 96.4362
END_OBJECT = IMAGE_MAP_PROJECTION
END
