PDS_VERSION_ID = PDS3
/* FILE DATA ELEMENTS */
RECORD_TYPE = UNDEFINED
/* POINTERS TO DATA OBJECTS */
^IMAGE = ("HB718_0000_IR4.TIF")
/* IDENTIFICATION DATA ELEMENTS */
DATA_SET_ID = "MEX-M-HRSC-4-REFDR-MAPPROJECT-EXT4-V4.0"
DATA_SET_NAME = "MARS EXPRESS HRSC MAP PROJECTED REFDR EXTENSION4 V4.0"
DETECTOR_ID = MEX_HRSC_IR
EVENT_TYPE = "MARS-REGIONAL-MAPPING-Vo-Pf-Eo"
INSTRUMENT_HOST_ID = MEX
INSTRUMENT_HOST_NAME = "MARS EXPRESS"
INSTRUMENT_ID = HRSC
INSTRUMENT_NAME = "HIGH RESOLUTION STEREO CAMERA"
MISSION_NAME = "MARS EXPRESS"
MISSION_PHASE_NAME = ME_Phase_27
PROCESSING_LEVEL_ID = 4
PRODUCT_CREATION_TIME = 2023-01-30T11:30:59.000Z
PRODUCT_ID = "HB718_0000_IR4.TIF"
RELEASE_ID = 0001
REVISION_ID = 0000
/* QUALITY DATA ELEMENTS */
DATA_QUALITY_ID = 1
DATA_QUALITY_DESC = "Data calculated based on original SPICE kernels"
/* TIME DATA ELEMENTS */
SPACECRAFT_CLOCK_START_COUNT = "1/0311732058.09052"
SPACECRAFT_CLOCK_STOP_COUNT = "1/0311732391.63956"
START_TIME = 2013-03-19T00:14:28.421Z
STOP_TIME = 2013-03-19T00:18:03.108Z
/* ORBITAL DATA ELEMENTS */
ASCENDING_NODE_LONGITUDE = 353.89
MAXIMUM_RESOLUTION = 0.0716
FOOTPRINT_POINT_LATITUDE = (45.7671,45.7712,45.7692,45.763,45.7628 ,45.6893,44.9563,44.2111,43.7108, 43.2108,42.9547,42.699,42.4431,42.1877, 41.9323,41.6726,41.4109,41.1495,40.8884 ,40.6273,40.2277,39.9611,39.6944, 39.4279,39.02,38.7478,38.3396,38.0632, 37.7855,37.508,37.2308,36.8067,36.5238, 36.2414,35.81,35.5218,35.234,34.9407, 34.6474,34.3543,34.0569,33.7583,33.4601 ,33.1576,32.8539,32.5505,32.2419, 32.0875,32.0577,32.0567,32.0544,32.0509 ,32.0459,32.0394,32.0279,32.0273, 32.0285,32.3382,32.6455,32.9497,33.4058 ,33.7048,34.0042,34.303,34.5969,34.891, 35.1854,35.474,35.7629,36.1959,36.621, 36.9046,37.1883,37.4663,37.7444,38.0229 ,38.3004,38.5731,38.8458,39.1189, 39.3918,39.6589,39.9265,40.194,40.5946, 40.8562,41.1181,41.3801,41.6422,42.0315 ,42.2874,42.5437,42.9281,43.3106, 44.0628,44.5648,45.0586,45.548,45.671, 45.7671)
FOOTPRINT_POINT_LONGITUDE = (202.687,201.859,201.236,200.62,200.601 ,200.589,200.614,200.636,200.65,200.663 ,200.669,200.675,200.68,200.686,200.691 ,200.695,200.7,200.704,200.708,200.712, 200.717,200.72,200.723,200.726,200.73, 200.732,200.734,200.736,200.737,200.738 ,200.739,200.739,200.739,200.739, 200.738,200.737,200.736,200.735,200.733 ,200.732,200.729,200.727,200.724, 200.721,200.718,200.715,200.711,200.709 ,200.709,201.106,201.442,201.781,202.12 ,202.461,202.954,202.976,202.983,202.98 ,202.977,202.974,202.969,202.966, 202.963,202.96,202.956,202.953,202.949, 202.946,202.942,202.936,202.931,202.927 ,202.923,202.919,202.915,202.91,202.906 ,202.902,202.898,202.893,202.889, 202.884,202.879,202.874,202.867,202.863 ,202.858,202.852,202.847,202.839, 202.834,202.829,202.821,202.812,202.795 ,202.782,202.77,202.758,202.754, 202.687)
ORBIT_NUMBER = 11718
ORBITAL_ECCENTRICITY = 0.571
ORBITAL_INCLINATION = 86.91
ORBITAL_SEMIMAJOR_AXIS = 8773.21
PERIAPSIS_ALTITUDE = 381.58
PERIAPSIS_ARGUMENT_ANGLE = 117.02
PERIAPSIS_TIME = 2013-03-19T00:10:31.000Z
SPACECRAFT_ORIENTATION = (0.0,-1.0,0.0)
^MEX_ORIENTATION_DESC = "MEX_ORIENTATION_DESC.TXT"
SPACECRAFT_POINTING_MODE = ACROSSTRACK
^MEX_POINTING_DESC = "MEX_POINTING_DESC.TXT"
RIGHT_ASCENSION = -1e+32
DECLINATION = -1e+32
OFFSET_ANGLE = 0.5
SPACECRAFT_SOLAR_DISTANCE = 2.09676e+08
TARGET_NAME = MARS
/* CAMERA DATA ELEMENTS */
DETECTOR_TEMPERATURE = 17.7588
FOCAL_PLANE_TEMPERATURE = 8.3794
INST_CMPRS_NAME = "DISCRETE COSINE TRANSFORMATION (DCT)"
INST_CMPRS_RATIO = 9.20334
INST_CMPRS_QUALITY = 0
INST_CMPRS_QUANTZ_TBL_ID = 0
INSTRUMENT_TEMPERATURE = 11.6418
LENS_TEMPERATURE = 8.7872
MACROPIXEL_SIZE = 4
MISSING_FRAMES = 0
PIXEL_SUBSAMPLING_FLAG = N
SIGNAL_CHAIN_ID = 2
/* RADIOMETRIC DATA ELEMENTS */
BANDWIDTH = 81.0
CENTER_FILTER_WAVELENGTH = 955.5
RADIANCE_OFFSET = 0.937742
RADIANCE_SCALING_FACTOR = 0.00451613
REFLECTANCE_SCALING_FACTOR = 0.000428343
MEX:REFLECTANCE_OFFSET = 0.0889423
/* IMAGE OBJECT DEFINITIONS */
OBJECT = IMAGE
  INTERCHANGE_FORMAT = BINARY
  LINES = 16210
  LINE_SAMPLES = 2425
  SAMPLE_TYPE = UNSIGNED_INTEGER
  SAMPLE_BITS = 8
  BANDS = 1
  BAND_STORAGE_TYPE = BAND_SEQUENTIAL
  MAXIMUM = 255
  MEAN = 117.69
  MINIMUM = 1
  STANDARD_DEVIATION = 56.7237
END_OBJECT = IMAGE
/* MAP OBJECT DEFINITIONS */
OBJECT = IMAGE_MAP_PROJECTION
  ^DATA_SET_MAP_PROJECTION_CATALOG= "DSMAP.CAT"
  A_AXIS_RADIUS = 3396.0
  B_AXIS_RADIUS = 3396.0
  C_AXIS_RADIUS = 3396.0
  CENTER_LATITUDE = 0.0
  CENTER_LONGITUDE = 202.0
  COORDINATE_SYSTEM_NAME = PLANETOGRAPHIC
  COORDINATE_SYSTEM_TYPE = "BODY-FIXED ROTATING"
  EASTERNMOST_LONGITUDE = 202.983
  FIRST_STANDARD_PARALLEL = "N/A"
  LINE_FIRST_PIXEL = 1
  LINE_LAST_PIXEL = 16210
  LINE_PROJECTION_OFFSET = 54216.125
  MAP_PROJECTION_ROTATION = 0.0
  MAP_PROJECTION_TYPE = SINUSOIDAL
  MAP_RESOLUTION = 1185.42760773333
  MAP_SCALE = 0.05
  MAXIMUM_LATITUDE = 45.7712
  MINIMUM_LATITUDE = 32.0273
  POSITIVE_LONGITUDE_DIRECTION = EAST
  REFERENCE_LATITUDE = "N/A"
  REFERENCE_LONGITUDE = "N/A"
  SAMPLE_FIRST_PIXEL = 1
  SAMPLE_LAST_PIXEL = 2425
  SAMPLE_PROJECTION_OFFSET = 1382.125
  SECOND_STANDARD_PARALLEL = "N/A"
  WESTERNMOST_LONGITUDE = 200.589
END_OBJECT = IMAGE_MAP_PROJECTION
END
