PDS_VERSION_ID = PDS3
/* FILE DATA ELEMENTS */
RECORD_TYPE = UNDEFINED
/* POINTERS TO DATA OBJECTS */
^IMAGE = ("HB709_0000_S14.TIF")
/* IDENTIFICATION DATA ELEMENTS */
DATA_SET_ID = "MEX-M-HRSC-4-REFDR-MAPPROJECT-EXT4-V4.0"
DATA_SET_NAME = "MARS EXPRESS HRSC MAP PROJECTED REFDR EXTENSION4 V4.0"
DETECTOR_ID = MEX_HRSC_S1
EVENT_TYPE = "MARS-REGIONAL-MAPPING-Te-Pf-Mw"
INSTRUMENT_HOST_ID = MEX
INSTRUMENT_HOST_NAME = "MARS EXPRESS"
INSTRUMENT_ID = HRSC
INSTRUMENT_NAME = "HIGH RESOLUTION STEREO CAMERA"
MISSION_NAME = "MARS EXPRESS"
MISSION_PHASE_NAME = ME_Phase_27
PROCESSING_LEVEL_ID = 4
PRODUCT_CREATION_TIME = 2023-01-30T11:30:59.000Z
PRODUCT_ID = "HB709_0000_S14.TIF"
RELEASE_ID = 0001
REVISION_ID = 0000
/* QUALITY DATA ELEMENTS */
DATA_QUALITY_ID = 1
DATA_QUALITY_DESC = "Data calculated based on original SPICE kernels"
/* TIME DATA ELEMENTS */
SPACECRAFT_CLOCK_START_COUNT = "1/0311505634.09088"
SPACECRAFT_CLOCK_STOP_COUNT = "1/0311505983.37640"
START_TIME = 2013-03-16T09:20:37.735Z
STOP_TIME = 2013-03-16T09:24:21.245Z
/* ORBITAL DATA ELEMENTS */
ASCENDING_NODE_LONGITUDE = 354.06
MAXIMUM_RESOLUTION = 0.0363
FOOTPRINT_POINT_LATITUDE = (43.7331,43.7725,43.7992,43.8205, 43.8211,43.7482,43.2357,42.7266,42.2115 ,41.9521,41.6865,41.4178,41.1558, 40.8912,40.6259,40.2221,39.9522,39.6802 ,39.4118,39.14,38.7212,38.4409,38.1673, 37.9005,37.6165,37.1918,36.7679,36.4801 ,36.0482,35.7619,35.322,35.0302,34.5769 ,34.2749,33.9753,33.678,33.2333,32.9284 ,32.6203,32.3075,31.9958,31.6852, 31.3694,30.8961,30.5763,30.2522,29.7701 ,29.6057,29.4437,29.4146,29.3817, 29.3599,29.3217,29.3201,29.3203,29.8133 ,30.1358,30.4558,30.7786,31.0904, 31.5681,32.0352,32.503,32.9619,33.2682, 33.5724,33.8716,34.1732,34.473,34.7729, 35.0658,35.3629,35.6546,35.9425,36.2316 ,36.5205,36.807,37.2316,37.515,37.9381, 38.2155,38.491,38.769,39.0465,39.3151, 39.5893,39.8591,40.2591,40.5216,40.9164 ,41.3044,41.5694,41.8352,42.0953, 42.3574,42.6288,42.8887,43.4095,43.5403 ,43.7331)
FOOTPRINT_POINT_LONGITUDE = (43.6658,42.8731,42.2256,41.5945, 41.5751,41.5936,41.5978,41.5989,41.6013 ,41.6025,41.6038,41.6057,41.6055, 41.6059,41.6063,41.6061,41.6055,41.6054 ,41.6041,41.6032,41.6024,41.6018, 41.5994,41.5951,41.5933,41.5901,41.5863 ,41.5832,41.5784,41.5746,41.5693, 41.5649,41.5598,41.5556,41.5508,41.5455 ,41.5355,41.5299,41.5246,41.5188, 41.5126,41.5061,41.4991,41.4884,41.4808 ,41.4734,41.461,41.4569,41.4527,42.1175 ,42.7517,43.1078,43.6947,43.7175, 43.7257,43.7256,43.7261,43.7284,43.7275 ,43.7319,43.7308,43.7313,43.7315,43.732 ,43.7319,43.7323,43.7333,43.7323, 43.7332,43.7332,43.7348,43.7329,43.7336 ,43.7345,43.7344,43.7346,43.7341, 43.7341,43.7339,43.7337,43.7335,43.7351 ,43.7344,43.7343,43.738,43.7349,43.7363 ,43.7435,43.7507,43.7538,43.7645, 43.7649,43.7646,43.7645,43.7613,43.7478 ,43.747,43.7442,43.7424,43.6658)
ORBIT_NUMBER = 11709
ORBITAL_ECCENTRICITY = 0.572
ORBITAL_INCLINATION = 86.9
ORBITAL_SEMIMAJOR_AXIS = 8781.77
PERIAPSIS_ALTITUDE = 381.2
PERIAPSIS_ARGUMENT_ANGLE = 118.58
PERIAPSIS_TIME = 2013-03-16T09:16:40.000Z
SPACECRAFT_ORIENTATION = (0.0,-1.0,0.0)
^MEX_ORIENTATION_DESC = "MEX_ORIENTATION_DESC.TXT"
SPACECRAFT_POINTING_MODE = ACROSSTRACK
^MEX_POINTING_DESC = "MEX_POINTING_DESC.TXT"
RIGHT_ASCENSION = -1e+32
DECLINATION = -1e+32
OFFSET_ANGLE = 1.25
SPACECRAFT_SOLAR_DISTANCE = 2.09398e+08
TARGET_NAME = MARS
/* CAMERA DATA ELEMENTS */
DETECTOR_TEMPERATURE = 17.5549
FOCAL_PLANE_TEMPERATURE = 7.7677
INST_CMPRS_NAME = "DISCRETE COSINE TRANSFORMATION (DCT)"
INST_CMPRS_RATIO = 7.11281
INST_CMPRS_QUALITY = 0
INST_CMPRS_QUANTZ_TBL_ID = 0
INSTRUMENT_TEMPERATURE = 11.4379
LENS_TEMPERATURE = 8.1755
MACROPIXEL_SIZE = 2
MISSING_FRAMES = 1
PIXEL_SUBSAMPLING_FLAG = N
SIGNAL_CHAIN_ID = 1
/* RADIOMETRIC DATA ELEMENTS */
BANDWIDTH = 180.0
CENTER_FILTER_WAVELENGTH = 677.0
RADIANCE_OFFSET = 3.38825
RADIANCE_SCALING_FACTOR = 0.0283002
REFLECTANCE_SCALING_FACTOR = 0.000647408
MEX:REFLECTANCE_OFFSET = 0.0775113
/* IMAGE OBJECT DEFINITIONS */
OBJECT = IMAGE
  INTERCHANGE_FORMAT = BINARY
  LINES = 34026
  LINE_SAMPLES = 5019
  SAMPLE_TYPE = UNSIGNED_INTEGER
  SAMPLE_BITS = 8
  BANDS = 1
  BAND_STORAGE_TYPE = BAND_SEQUENTIAL
  MAXIMUM = 255
  MEAN = 126.487
  MINIMUM = 1
  STANDARD_DEVIATION = 42.9057
END_OBJECT = IMAGE
/* MAP OBJECT DEFINITIONS */
OBJECT = IMAGE_MAP_PROJECTION
  ^DATA_SET_MAP_PROJECTION_CATALOG= "DSMAP.CAT"
  A_AXIS_RADIUS = 3396.0
  B_AXIS_RADIUS = 3396.0
  C_AXIS_RADIUS = 3396.0
  CENTER_LATITUDE = 0.0
  CENTER_LONGITUDE = 43.0
  COORDINATE_SYSTEM_NAME = PLANETOGRAPHIC
  COORDINATE_SYSTEM_TYPE = "BODY-FIXED ROTATING"
  EASTERNMOST_LONGITUDE = 43.7649
  FIRST_STANDARD_PARALLEL = "N/A"
  LINE_FIRST_PIXEL = 1
  LINE_LAST_PIXEL = 34026
  LINE_PROJECTION_OFFSET = 103659.25
  MAP_PROJECTION_ROTATION = 0.0
  MAP_PROJECTION_TYPE = SINUSOIDAL
  MAP_RESOLUTION = 2370.85521546667
  MAP_SCALE = 0.025
  MAXIMUM_LATITUDE = 43.8211
  MINIMUM_LATITUDE = 29.3201
  POSITIVE_LONGITUDE_DIRECTION = EAST
  REFERENCE_LATITUDE = "N/A"
  REFERENCE_LONGITUDE = "N/A"
  SAMPLE_FIRST_PIXEL = 1
  SAMPLE_LAST_PIXEL = 5019
  SAMPLE_PROJECTION_OFFSET = 3410.75
  SECOND_STANDARD_PARALLEL = "N/A"
  WESTERNMOST_LONGITUDE = 41.4527
END_OBJECT = IMAGE_MAP_PROJECTION
END
