PDS_VERSION_ID = PDS3
/* FILE DATA ELEMENTS */
RECORD_TYPE = UNDEFINED
/* POINTERS TO DATA OBJECTS */
^IMAGE = ("HB708_0000_P24.TIF")
/* IDENTIFICATION DATA ELEMENTS */
DATA_SET_ID = "MEX-M-HRSC-4-REFDR-MAPPROJECT-EXT4-V4.0"
DATA_SET_NAME = "MARS EXPRESS HRSC MAP PROJECTED REFDR EXTENSION4 V4.0"
DETECTOR_ID = MEX_HRSC_P2
EVENT_TYPE = "MARS-REGIONAL-MAPPING-Vo-Fl-Pf"
INSTRUMENT_HOST_ID = MEX
INSTRUMENT_HOST_NAME = "MARS EXPRESS"
INSTRUMENT_ID = HRSC
INSTRUMENT_NAME = "HIGH RESOLUTION STEREO CAMERA"
MISSION_NAME = "MARS EXPRESS"
MISSION_PHASE_NAME = ME_Phase_27
PROCESSING_LEVEL_ID = 4
PRODUCT_CREATION_TIME = 2023-01-30T11:30:59.000Z
PRODUCT_ID = "HB708_0000_P24.TIF"
RELEASE_ID = 0001
REVISION_ID = 0000
/* QUALITY DATA ELEMENTS */
DATA_QUALITY_ID = 1
DATA_QUALITY_DESC = "Data calculated based on original SPICE kernels"
/* TIME DATA ELEMENTS */
SPACECRAFT_CLOCK_START_COUNT = "1/0311480444.08310"
SPACECRAFT_CLOCK_STOP_COUNT = "1/0311480738.01128"
START_TIME = 2013-03-16T02:21:53.640Z
STOP_TIME = 2013-03-16T02:25:18.369Z
/* ORBITAL DATA ELEMENTS */
ASCENDING_NODE_LONGITUDE = 354.08
MAXIMUM_RESOLUTION = 0.0366
FOOTPRINT_POINT_LATITUDE = (45.5515,45.5406,45.5319,45.5225, 45.5125,45.5019,45.4905,45.4898,45.5476 ,45.0013,44.5615,44.1232,43.5657, 43.0081,42.6702,42.4429,42.2159,41.763, 41.4169,41.186,40.9559,40.726,40.4919, 40.2574,40.0234,39.7901,39.4338,39.1962 ,38.8402,38.5994,38.3582,38.1174, 37.8759,37.6307,37.3865,37.1425,36.7713 ,36.5229,36.2756,36.0239,35.7725, 35.5217,35.2677,35.0126,34.7583,34.5004 ,34.1136,33.8528,33.722,33.6804,33.687, 33.6948,33.7013,33.706,33.711,33.7111, 33.7118,34.1053,34.3636,34.6232,34.8804 ,35.1354,35.3911,35.6449,35.8967, 36.1491,36.3998,36.648,36.8964,37.2672, 37.512,37.7577,38.0027,38.244,38.4857, 38.7279,39.0867,39.3249,39.5632,39.8018 ,40.0359,40.2704,40.5053,40.7406, 40.9712,41.3179,41.5491,41.7807,42.2349 ,42.4622,42.69,42.9183,43.3652,43.813, 44.1488,44.5881,44.919,45.4693,45.5772, 45.5515)
FOOTPRINT_POINT_LONGITUDE = (144.93,144.46,144.121,143.783,143.449, 143.117,142.786,142.765,142.749,142.765 ,142.776,142.787,142.8,142.811,142.817, 142.821,142.825,142.831,142.836,142.839 ,142.841,142.843,142.845,142.847, 142.849,142.851,142.853,142.854,142.855 ,142.855,142.856,142.856,142.856, 142.856,142.855,142.854,142.853,142.852 ,142.85,142.849,142.847,142.845,142.843 ,142.84,142.838,142.835,142.83,142.827, 142.825,142.824,143.192,143.677,144.166 ,144.635,145.203,145.226,145.235,145.23 ,145.225,145.222,145.218,145.214,145.21 ,145.206,145.202,145.198,145.193, 145.189,145.185,145.178,145.174,145.17, 145.166,145.161,145.157,145.152,145.146 ,145.141,145.137,145.132,145.127, 145.123,145.118,145.113,145.108,145.101 ,145.096,145.091,145.081,145.076,145.07 ,145.066,145.055,145.044,145.036, 145.025,145.017,145.002,144.999,144.93)
ORBIT_NUMBER = 11708
ORBITAL_ECCENTRICITY = 0.571
ORBITAL_INCLINATION = 86.9
ORBITAL_SEMIMAJOR_AXIS = 8780.43
PERIAPSIS_ALTITUDE = 381.6
PERIAPSIS_ARGUMENT_ANGLE = 118.76
PERIAPSIS_TIME = 2013-03-16T02:17:21.000Z
SPACECRAFT_ORIENTATION = (0.0,-1.0,0.0)
^MEX_ORIENTATION_DESC = "MEX_ORIENTATION_DESC.TXT"
SPACECRAFT_POINTING_MODE = ACROSSTRACK
^MEX_POINTING_DESC = "MEX_POINTING_DESC.TXT"
RIGHT_ASCENSION = -1e+32
DECLINATION = -1e+32
OFFSET_ANGLE = 0.6
SPACECRAFT_SOLAR_DISTANCE = 2.09368e+08
TARGET_NAME = MARS
/* CAMERA DATA ELEMENTS */
DETECTOR_TEMPERATURE = 18.9822
FOCAL_PLANE_TEMPERATURE = 8.3794
INST_CMPRS_NAME = "DISCRETE COSINE TRANSFORMATION (DCT)"
INST_CMPRS_RATIO = 6.04561
INST_CMPRS_QUALITY = 0
INST_CMPRS_QUANTZ_TBL_ID = 0
INSTRUMENT_TEMPERATURE = 11.8457
LENS_TEMPERATURE = 8.5833
MACROPIXEL_SIZE = 2
MISSING_FRAMES = 0
PIXEL_SUBSAMPLING_FLAG = N
SIGNAL_CHAIN_ID = 3
/* RADIOMETRIC DATA ELEMENTS */
BANDWIDTH = 177.0
CENTER_FILTER_WAVELENGTH = 676.5
RADIANCE_OFFSET = 4.08205
RADIANCE_SCALING_FACTOR = 0.0140611
REFLECTANCE_SCALING_FACTOR = 0.00032681
MEX:REFLECTANCE_OFFSET = 0.0948755
/* IMAGE OBJECT DEFINITIONS */
OBJECT = IMAGE
  INTERCHANGE_FORMAT = BINARY
  LINES = 28222
  LINE_SAMPLES = 4502
  SAMPLE_TYPE = UNSIGNED_INTEGER
  SAMPLE_BITS = 8
  BANDS = 1
  BAND_STORAGE_TYPE = BAND_SEQUENTIAL
  MAXIMUM = 255
  MEAN = 112.717
  MINIMUM = 1
  STANDARD_DEVIATION = 48.4459
END_OBJECT = IMAGE
/* MAP OBJECT DEFINITIONS */
OBJECT = IMAGE_MAP_PROJECTION
  ^DATA_SET_MAP_PROJECTION_CATALOG= "DSMAP.CAT"
  A_AXIS_RADIUS = 3396.0
  B_AXIS_RADIUS = 3396.0
  C_AXIS_RADIUS = 3396.0
  CENTER_LATITUDE = 0.0
  CENTER_LONGITUDE = 144.0
  COORDINATE_SYSTEM_NAME = PLANETOGRAPHIC
  COORDINATE_SYSTEM_TYPE = "BODY-FIXED ROTATING"
  EASTERNMOST_LONGITUDE = 145.235
  FIRST_STANDARD_PARALLEL = "N/A"
  LINE_FIRST_PIXEL = 1
  LINE_LAST_PIXEL = 28222
  LINE_PROJECTION_OFFSET = 108070.75
  MAP_PROJECTION_ROTATION = 0.0
  MAP_PROJECTION_TYPE = SINUSOIDAL
  MAP_RESOLUTION = 2370.85521546667
  MAP_SCALE = 0.025
  MAXIMUM_LATITUDE = 45.5772
  MINIMUM_LATITUDE = 33.6804
  POSITIVE_LONGITUDE_DIRECTION = EAST
  REFERENCE_LATITUDE = "N/A"
  REFERENCE_LONGITUDE = "N/A"
  SAMPLE_FIRST_PIXEL = 1
  SAMPLE_LAST_PIXEL = 4502
  SAMPLE_PROJECTION_OFFSET = 2204.75
  SECOND_STANDARD_PARALLEL = "N/A"
  WESTERNMOST_LONGITUDE = 142.749
END_OBJECT = IMAGE_MAP_PROJECTION
END
