PDS_VERSION_ID = PDS3
/* FILE DATA ELEMENTS */
RECORD_TYPE = UNDEFINED
/* POINTERS TO DATA OBJECTS */
^IMAGE = ("HB705_0000_ND4.TIF")
/* IDENTIFICATION DATA ELEMENTS */
DATA_SET_ID = "MEX-M-HRSC-4-REFDR-MAPPROJECT-EXT4-V4.0"
DATA_SET_NAME = "MARS EXPRESS HRSC MAP PROJECTED REFDR EXTENSION4 V4.0"
DETECTOR_ID = MEX_HRSC_NADIR
EVENT_TYPE = "MARS-REGIONAL-MAPPING-Vo-Im-Pf"
INSTRUMENT_HOST_ID = MEX
INSTRUMENT_HOST_NAME = "MARS EXPRESS"
INSTRUMENT_ID = HRSC
INSTRUMENT_NAME = "HIGH RESOLUTION STEREO CAMERA"
MISSION_NAME = "MARS EXPRESS"
MISSION_PHASE_NAME = ME_Phase_27
PROCESSING_LEVEL_ID = 4
PRODUCT_CREATION_TIME = 2023-01-30T11:30:59.000Z
PRODUCT_ID = "HB705_0000_ND4.TIF"
RELEASE_ID = 0001
REVISION_ID = 0000
/* QUALITY DATA ELEMENTS */
DATA_QUALITY_ID = 1
DATA_QUALITY_DESC = "Data calculated based on original SPICE kernels"
/* TIME DATA ELEMENTS */
SPACECRAFT_CLOCK_START_COUNT = "1/0311405026.09048"
SPACECRAFT_CLOCK_STOP_COUNT = "1/0311405351.12997"
START_TIME = 2013-03-15T05:24:30.969Z
STOP_TIME = 2013-03-15T05:28:03.976Z
/* ORBITAL DATA ELEMENTS */
ASCENDING_NODE_LONGITUDE = 354.14
MAXIMUM_RESOLUTION = 0.0184
FOOTPRINT_POINT_LATITUDE = (40.8919,40.8909,40.8891,40.8863, 40.8826,40.8781,40.8718,40.8715,40.8721 ,40.5326,39.8414,39.3802,38.7941, 38.3246,37.9676,37.7283,37.4894,37.2507 ,37.0079,36.7646,36.5216,36.2789, 35.9082,35.6611,35.4143,35.0388,34.7877 ,34.5369,34.1552,33.9001,33.6455, 33.3868,33.1278,32.8692,32.6072,32.3442 ,32.0818,31.8157,31.549,31.1474,30.8768 ,30.6067,30.196,29.9221,29.5062,29.2285 ,28.8071,28.3835,28.2407,28.2123, 28.2128,28.2111,28.2087,28.2036,28.199, 28.1987,28.1989,28.4852,28.7674,29.1906 ,29.4691,29.8867,30.2989,30.5737, 30.8446,31.1159,31.3856,31.7866,32.0539 ,32.317,32.5806,32.8439,33.1032,33.3629 ,33.6228,33.878,34.1337,34.517,34.7684, 35.0201,35.3971,35.6445,35.8922,36.1403 ,36.5076,36.7512,36.9951,37.239,37.4782 ,37.7178,37.9576,38.316,38.7866,39.0223 ,39.3746,39.8369,40.3001,40.7571, 40.8706,40.8919)
FOOTPRINT_POINT_LONGITUDE = (91.6464,91.2697,90.9374,90.6071, 90.2793,89.9533,89.5884,89.5682,89.5518 ,89.5559,89.5628,89.5666,89.5702, 89.5721,89.5732,89.5737,89.5739,89.574, 89.574,89.5737,89.5732,89.5725,89.5712, 89.5701,89.5688,89.5664,89.5646,89.5626 ,89.5592,89.5567,89.554,89.5511,89.548, 89.5447,89.5412,89.5375,89.5335,89.5294 ,89.525,89.5181,89.5132,89.5081,89.5, 89.4943,89.4854,89.4792,89.4694,89.459, 89.4554,89.4547,89.9922,90.5563,90.9349 ,91.4591,91.8187,91.8428,91.8545, 91.8521,91.8498,91.8461,91.8436,91.8397 ,91.836,91.8334,91.8308,91.8283,91.8258 ,91.8217,91.8191,91.8162,91.8133, 91.8107,91.8081,91.8053,91.8025,91.7996 ,91.7967,91.792,91.7894,91.7863,91.7816 ,91.778,91.775,91.7724,91.7675,91.7641, 91.7608,91.7575,91.7541,91.7506,91.7472 ,91.7419,91.7348,91.7311,91.7255, 91.7181,91.7104,91.7027,91.7007, 91.6464)
ORBIT_NUMBER = 11705
ORBITAL_ECCENTRICITY = 0.572
ORBITAL_INCLINATION = 86.91
ORBITAL_SEMIMAJOR_AXIS = 8783.7
PERIAPSIS_ALTITUDE = 379.8
PERIAPSIS_ARGUMENT_ANGLE = 119.25
PERIAPSIS_TIME = 2013-03-15T05:19:18.000Z
SPACECRAFT_ORIENTATION = (0.0,-1.0,0.0)
^MEX_ORIENTATION_DESC = "MEX_ORIENTATION_DESC.TXT"
SPACECRAFT_POINTING_MODE = ACROSSTRACK
^MEX_POINTING_DESC = "MEX_POINTING_DESC.TXT"
RIGHT_ASCENSION = -1e+32
DECLINATION = -1e+32
OFFSET_ANGLE = 0.6
SPACECRAFT_SOLAR_DISTANCE = 2.09278e+08
TARGET_NAME = MARS
/* CAMERA DATA ELEMENTS */
DETECTOR_TEMPERATURE = 18.3705
FOCAL_PLANE_TEMPERATURE = 9.6028
INST_CMPRS_NAME = "DISCRETE COSINE TRANSFORMATION (DCT)"
INST_CMPRS_RATIO = 6.36071
INST_CMPRS_QUALITY = 0
INST_CMPRS_QUANTZ_TBL_ID = 0
INSTRUMENT_TEMPERATURE = 11.6418
LENS_TEMPERATURE = 8.7872
MACROPIXEL_SIZE = 1
MISSING_FRAMES = 0
PIXEL_SUBSAMPLING_FLAG = N
SIGNAL_CHAIN_ID = 0
/* RADIOMETRIC DATA ELEMENTS */
BANDWIDTH = 177.0
CENTER_FILTER_WAVELENGTH = 677.5
RADIANCE_OFFSET = 3.57268
RADIANCE_SCALING_FACTOR = 0.0191536
REFLECTANCE_SCALING_FACTOR = 0.000445642
MEX:REFLECTANCE_OFFSET = 0.0831246
/* IMAGE OBJECT DEFINITIONS */
OBJECT = IMAGE
  INTERCHANGE_FORMAT = BINARY
  LINES = 60194
  LINE_SAMPLES = 10028
  SAMPLE_TYPE = UNSIGNED_INTEGER
  SAMPLE_BITS = 8
  BANDS = 1
  BAND_STORAGE_TYPE = BAND_SEQUENTIAL
  MAXIMUM = 255
  MEAN = 121.016
  MINIMUM = 1
  STANDARD_DEVIATION = 41.7678
END_OBJECT = IMAGE
/* MAP OBJECT DEFINITIONS */
OBJECT = IMAGE_MAP_PROJECTION
  ^DATA_SET_MAP_PROJECTION_CATALOG= "DSMAP.CAT"
  A_AXIS_RADIUS = 3396.0
  B_AXIS_RADIUS = 3396.0
  C_AXIS_RADIUS = 3396.0
  CENTER_LATITUDE = 0.0
  CENTER_LONGITUDE = 91.0
  COORDINATE_SYSTEM_NAME = PLANETOGRAPHIC
  COORDINATE_SYSTEM_TYPE = "BODY-FIXED ROTATING"
  EASTERNMOST_LONGITUDE = 91.8545
  FIRST_STANDARD_PARALLEL = "N/A"
  LINE_FIRST_PIXEL = 1
  LINE_LAST_PIXEL = 60194
  LINE_PROJECTION_OFFSET = 193903.0
  MAP_PROJECTION_ROTATION = 0.0
  MAP_PROJECTION_TYPE = SINUSOIDAL
  MAP_RESOLUTION = 4741.71043093333
  MAP_SCALE = 0.0125
  MAXIMUM_LATITUDE = 40.8919
  MINIMUM_LATITUDE = 28.1987
  POSITIVE_LONGITUDE_DIRECTION = EAST
  REFERENCE_LATITUDE = "N/A"
  REFERENCE_LONGITUDE = "N/A"
  SAMPLE_FIRST_PIXEL = 1
  SAMPLE_LAST_PIXEL = 10028
  SAMPLE_PROJECTION_OFFSET = 6456.0
  SECOND_STANDARD_PARALLEL = "N/A"
  WESTERNMOST_LONGITUDE = 89.4547
END_OBJECT = IMAGE_MAP_PROJECTION
END
