PDS_VERSION_ID = PDS3
/* FILE DATA ELEMENTS */
RECORD_TYPE = UNDEFINED
/* POINTERS TO DATA OBJECTS */
^IMAGE = ("HB702_0000_P24.TIF")
/* IDENTIFICATION DATA ELEMENTS */
DATA_SET_ID = "MEX-M-HRSC-4-REFDR-MAPPROJECT-EXT4-V4.0"
DATA_SET_NAME = "MARS EXPRESS HRSC MAP PROJECTED REFDR EXTENSION4 V4.0"
DETECTOR_ID = MEX_HRSC_P2
EVENT_TYPE = "MARS-REGIONAL-MAPPING-Te-Gl-Pf"
INSTRUMENT_HOST_ID = MEX
INSTRUMENT_HOST_NAME = "MARS EXPRESS"
INSTRUMENT_ID = HRSC
INSTRUMENT_NAME = "HIGH RESOLUTION STEREO CAMERA"
MISSION_NAME = "MARS EXPRESS"
MISSION_PHASE_NAME = ME_Phase_27
PROCESSING_LEVEL_ID = 4
PRODUCT_CREATION_TIME = 2023-01-30T11:30:59.000Z
PRODUCT_ID = "HB702_0000_P24.TIF"
RELEASE_ID = 0001
REVISION_ID = 0000
/* QUALITY DATA ELEMENTS */
DATA_QUALITY_ID = 1
DATA_QUALITY_DESC = "Data calculated based on original SPICE kernels"
/* TIME DATA ELEMENTS */
SPACECRAFT_CLOCK_START_COUNT = "1/0311329504.08286"
SPACECRAFT_CLOCK_STOP_COUNT = "1/0311329777.06452"
START_TIME = 2013-03-14T08:26:15.374Z
STOP_TIME = 2013-03-14T08:29:17.527Z
/* ORBITAL DATA ELEMENTS */
ASCENDING_NODE_LONGITUDE = 354.19
MAXIMUM_RESOLUTION = 0.0373
FOOTPRINT_POINT_LATITUDE = (42.8417,42.8362,42.828,42.8215,42.8144 ,42.7998,42.7992,42.848,42.4532,42.1605 ,41.7718,41.3773,41.0809,40.7817,40.584 ,40.3841,40.082,39.8789,39.6778,39.4758 ,39.2702,38.963,38.6568,38.3477,38.1395 ,37.8273,37.6204,37.4083,37.0927, 36.7774,36.4576,36.2436,35.9227,35.6, 35.2785,35.063,34.843,34.6229,34.4034, 34.1773,33.9547,33.7305,33.5069,33.2809 ,33.0563,32.7166,32.4881,32.3741, 32.3579,32.3618,32.366,32.3693,32.3702, 32.3698,32.3697,32.3703,32.5995,32.8283 ,33.0595,33.2874,33.5124,33.8475, 34.1791,34.4016,34.7323,34.9529,35.1723 ,35.3891,35.6067,35.933,36.1467,36.3611 ,36.5755,36.7881,36.9974,37.2108, 37.4237,37.6348,37.8436,38.0503,38.2588 ,38.4681,38.7775,39.0854,39.2911, 39.5988,39.9024,40.2052,40.4086,40.6073 ,40.8077,41.1077,41.3068,41.5052, 41.8951,42.1886,42.3846,42.776,42.8717, 42.8417)
FOOTPRINT_POINT_LONGITUDE = (37.7086,37.3366,36.8634,36.5351, 36.2077,35.6152,35.5948,35.5635,35.5772 ,35.5849,35.5941,35.604,35.6097,35.6167 ,35.6205,35.6242,35.6292,35.6333, 35.6364,35.6399,35.6431,35.6471,35.6506 ,35.654,35.6561,35.6591,35.6606,35.6628 ,35.6643,35.6656,35.6667,35.6673, 35.6681,35.6673,35.6655,35.6648,35.6642 ,35.6636,35.6628,35.6639,35.6625, 35.6619,35.6606,35.659,35.6566,35.6534, 35.651,35.6498,35.6496,36.0583,36.5817, 37.1523,37.6096,37.9763,37.9993,38.0075 ,38.003,37.9977,37.9962,37.9926,37.9868 ,37.9795,37.9698,37.9651,37.9582, 37.9532,37.9484,37.9433,37.9384,37.9312 ,37.926,37.921,37.9157,37.9098,37.9035, 37.8998,37.8954,37.8902,37.8856,37.8793 ,37.874,37.8689,37.862,37.854,37.8487, 37.8412,37.8335,37.8247,37.8196,37.8123 ,37.8079,37.8005,37.7946,37.7879, 37.7739,37.765,37.7589,37.7455,37.7419, 37.7086)
ORBIT_NUMBER = 11702
ORBITAL_ECCENTRICITY = 0.572
ORBITAL_INCLINATION = 86.9
ORBITAL_SEMIMAJOR_AXIS = 8783.23
PERIAPSIS_ALTITUDE = 380.7
PERIAPSIS_ARGUMENT_ANGLE = 119.79
PERIAPSIS_TIME = 2013-03-14T08:21:15.000Z
SPACECRAFT_ORIENTATION = (0.0,-1.0,0.0)
^MEX_ORIENTATION_DESC = "MEX_ORIENTATION_DESC.TXT"
SPACECRAFT_POINTING_MODE = ACROSSTRACK
^MEX_POINTING_DESC = "MEX_POINTING_DESC.TXT"
RIGHT_ASCENSION = -1e+32
DECLINATION = -1e+32
OFFSET_ANGLE = 0.2
SPACECRAFT_SOLAR_DISTANCE = 2.0919e+08
TARGET_NAME = MARS
/* CAMERA DATA ELEMENTS */
DETECTOR_TEMPERATURE = 18.7783
FOCAL_PLANE_TEMPERATURE = 8.3794
INST_CMPRS_NAME = "DISCRETE COSINE TRANSFORMATION (DCT)"
INST_CMPRS_RATIO = 6.38129
INST_CMPRS_QUALITY = 0
INST_CMPRS_QUANTZ_TBL_ID = 0
INSTRUMENT_TEMPERATURE = 11.234
LENS_TEMPERATURE = 8.7872
MACROPIXEL_SIZE = 2
MISSING_FRAMES = 0
PIXEL_SUBSAMPLING_FLAG = N
SIGNAL_CHAIN_ID = 3
/* RADIOMETRIC DATA ELEMENTS */
BANDWIDTH = 177.0
CENTER_FILTER_WAVELENGTH = 676.5
RADIANCE_OFFSET = 3.10913
RADIANCE_SCALING_FACTOR = 0.0229163
REFLECTANCE_SCALING_FACTOR = 0.000531722
MEX:REFLECTANCE_OFFSET = 0.0721404
/* IMAGE OBJECT DEFINITIONS */
OBJECT = IMAGE
  INTERCHANGE_FORMAT = BINARY
  LINES = 24933
  LINE_SAMPLES = 4465
  SAMPLE_TYPE = UNSIGNED_INTEGER
  SAMPLE_BITS = 8
  BANDS = 1
  BAND_STORAGE_TYPE = BAND_SEQUENTIAL
  MAXIMUM = 255
  MEAN = 116.385
  MINIMUM = 1
  STANDARD_DEVIATION = 44.2493
END_OBJECT = IMAGE
/* MAP OBJECT DEFINITIONS */
OBJECT = IMAGE_MAP_PROJECTION
  ^DATA_SET_MAP_PROJECTION_CATALOG= "DSMAP.CAT"
  A_AXIS_RADIUS = 3396.0
  B_AXIS_RADIUS = 3396.0
  C_AXIS_RADIUS = 3396.0
  CENTER_LATITUDE = 0.0
  CENTER_LONGITUDE = 37.0
  COORDINATE_SYSTEM_NAME = PLANETOGRAPHIC
  COORDINATE_SYSTEM_TYPE = "BODY-FIXED ROTATING"
  EASTERNMOST_LONGITUDE = 38.0075
  FIRST_STANDARD_PARALLEL = "N/A"
  LINE_FIRST_PIXEL = 1
  LINE_LAST_PIXEL = 24933
  LINE_PROJECTION_OFFSET = 101669.25
  MAP_PROJECTION_ROTATION = 0.0
  MAP_PROJECTION_TYPE = SINUSOIDAL
  MAP_RESOLUTION = 2370.85521546667
  MAP_SCALE = 0.025
  MAXIMUM_LATITUDE = 42.8717
  MINIMUM_LATITUDE = 32.3579
  POSITIVE_LONGITUDE_DIRECTION = EAST
  REFERENCE_LATITUDE = "N/A"
  REFERENCE_LONGITUDE = "N/A"
  SAMPLE_FIRST_PIXEL = 1
  SAMPLE_LAST_PIXEL = 4465
  SAMPLE_PROJECTION_OFFSET = 2583.75
  SECOND_STANDARD_PARALLEL = "N/A"
  WESTERNMOST_LONGITUDE = 35.5635
END_OBJECT = IMAGE_MAP_PROJECTION
END
