PDS_VERSION_ID = PDS3
/* FILE DATA ELEMENTS */
RECORD_TYPE = UNDEFINED
/* POINTERS TO DATA OBJECTS */
^IMAGE = ("HB698_0000_RE4.TIF")
/* IDENTIFICATION DATA ELEMENTS */
DATA_SET_ID = "MEX-M-HRSC-4-REFDR-MAPPROJECT-EXT4-V4.0"
DATA_SET_NAME = "MARS EXPRESS HRSC MAP PROJECTED REFDR EXTENSION4 V4.0"
DETECTOR_ID = MEX_HRSC_RED
EVENT_TYPE = "MARS-REGIONAL-MAPPING-Vo-Im-Pf"
INSTRUMENT_HOST_ID = MEX
INSTRUMENT_HOST_NAME = "MARS EXPRESS"
INSTRUMENT_ID = HRSC
INSTRUMENT_NAME = "HIGH RESOLUTION STEREO CAMERA"
MISSION_NAME = "MARS EXPRESS"
MISSION_PHASE_NAME = ME_Phase_27
PROCESSING_LEVEL_ID = 4
PRODUCT_CREATION_TIME = 2023-01-30T11:30:59.000Z
PRODUCT_ID = "HB698_0000_RE4.TIF"
RELEASE_ID = 0001
REVISION_ID = 0000
/* QUALITY DATA ELEMENTS */
DATA_QUALITY_ID = 1
DATA_QUALITY_DESC = "Data calculated based on original SPICE kernels"
/* TIME DATA ELEMENTS */
SPACECRAFT_CLOCK_START_COUNT = "1/0311228854.09040"
SPACECRAFT_CLOCK_STOP_COUNT = "1/0311229170.29156"
START_TIME = 2013-03-13T04:28:52.426Z
STOP_TIME = 2013-03-13T04:32:40.581Z
/* ORBITAL DATA ELEMENTS */
ASCENDING_NODE_LONGITUDE = 354.27
MAXIMUM_RESOLUTION = 0.0758 <m/pixel>
FOOTPRINT_POINT_LATITUDE = (42.7966,42.7705,42.7484,42.7244, 42.7236,42.7874,42.4329,41.844,41.4889, 41.0099,40.5322,40.2888,40.0455,39.8025 ,39.5602,39.3147,39.0679,38.8211,38.575 ,38.3258,38.0751,37.8251,37.5755, 37.3213,37.0674,36.8141,36.4292,36.1716 ,35.9149,35.6542,35.3935,35.1332, 34.8691,34.6048,34.2074,33.9397,33.6725 ,33.4026,33.1314,32.7237,32.4491, 32.1753,31.8975,31.6201,31.1996,30.9194 ,30.4935,30.0655,29.9219,29.909,29.916, 29.923,29.9295,29.9354,29.9439,29.9498, 29.9501,29.9515,30.3831,30.6678,30.9528 ,31.2337,31.6556,31.9337,32.2125, 32.4871,32.7621,33.1713,33.4429,33.7142 ,33.9822,34.2509,34.6494,34.9142, 35.1793,35.4402,35.7014,35.963,36.2204, 36.4786,36.865,37.1188,37.3731,37.7536, 38.1297,38.3804,38.6305,38.8773,39.1242 ,39.372,39.6185,39.8617,40.2265,40.8321 ,41.3107,41.7907,42.2623,42.7356, 42.8541,42.7966)
FOOTPRINT_POINT_LONGITUDE = (87.4863,86.6346,85.9996,85.3748, 85.3555,85.3523,85.3566,85.3627,85.3658 ,85.3693,85.3718,85.3728,85.3737, 85.3743,85.3747,85.3749,85.3749,85.3747 ,85.3743,85.3736,85.3728,85.3718, 85.3706,85.3692,85.3676,85.3658,85.3626 ,85.3603,85.3577,85.3549,85.352,85.3488 ,85.3454,85.3417,85.3359,85.3317, 85.3273,85.3227,85.3179,85.3102,85.3048 ,85.2992,85.2933,85.2872,85.2776, 85.2709,85.2603,85.2492,85.2454,85.245, 85.6046,85.9675,86.3326,86.7004,87.2572 ,87.6795,87.7031,87.711,87.7068,87.7039 ,87.7009,87.6977,87.6936,87.6907, 87.6878,87.6849,87.6819,87.6775,87.6745 ,87.6719,87.6691,87.6662,87.6618, 87.6587,87.6558,87.6529,87.6497,87.6466 ,87.6437,87.641,87.6367,87.6336,87.6305 ,87.626,87.6218,87.6183,87.615,87.6121, 87.6088,87.6058,87.6026,87.5996,87.5941 ,87.5861,87.5783,87.5725,87.5654, 87.5583,87.5564,87.4863)
ORBIT_NUMBER = 11698
ORBITAL_ECCENTRICITY = 0.572
ORBITAL_INCLINATION = 86.91
ORBITAL_SEMIMAJOR_AXIS = 8785.43
PERIAPSIS_ALTITUDE = 379.22
PERIAPSIS_ARGUMENT_ANGLE = 120.46
PERIAPSIS_TIME = 2013-03-13T04:23:55.000Z
SPACECRAFT_ORIENTATION = (0.0,-1.0,0.0)
^MEX_ORIENTATION_DESC = "MEX_ORIENTATION_DESC.TXT"
SPACECRAFT_POINTING_MODE = ACROSSTRACK
^MEX_POINTING_DESC = "MEX_POINTING_DESC.TXT"
RIGHT_ASCENSION = -1e+32
DECLINATION = -1e+32
OFFSET_ANGLE = 0.85
SPACECRAFT_SOLAR_DISTANCE = 2.09075e+08
TARGET_NAME = MARS
/* CAMERA DATA ELEMENTS */
DETECTOR_TEMPERATURE = 18.1666 <degC>
FOCAL_PLANE_TEMPERATURE = 8.9911 <degC>
INST_CMPRS_NAME = "DISCRETE COSINE TRANSFORMATION (DCT)"
INST_CMPRS_RATIO = 17.9128
INST_CMPRS_QUALITY = 0
INST_CMPRS_QUANTZ_TBL_ID = 0
INSTRUMENT_TEMPERATURE = 11.8457 <degC>
LENS_TEMPERATURE = 8.5833 <degC>
MACROPIXEL_SIZE = 4
MISSING_FRAMES = 0
PIXEL_SUBSAMPLING_FLAG = N
SIGNAL_CHAIN_ID = 2
/* RADIOMETRIC DATA ELEMENTS */
BANDWIDTH = 48.0 <nm>
CENTER_FILTER_WAVELENGTH = 748.0 <nm>
RADIANCE_OFFSET = 0.84154 <W*m**-2*sr**-1>
RADIANCE_SCALING_FACTOR = 0.00608695 <W*m**-2*sr**-1>
REFLECTANCE_SCALING_FACTOR = 0.000607197
MEX:REFLECTANCE_OFFSET = 0.0839469
/* IMAGE OBJECT DEFINITIONS */
OBJECT = IMAGE
  INTERCHANGE_FORMAT = BINARY
  LINES = 15308
  LINE_SAMPLES = 2353
  SAMPLE_TYPE = UNSIGNED_INTEGER
  SAMPLE_BITS = 8
  BANDS = 1
  BAND_STORAGE_TYPE = BAND_SEQUENTIAL
  MAXIMUM = 255
  MEAN = 117.133
  MINIMUM = 1
  STANDARD_DEVIATION = 56.2579
END_OBJECT = IMAGE
/* MAP OBJECT DEFINITIONS */
OBJECT = IMAGE_MAP_PROJECTION
  ^DATA_SET_MAP_PROJECTION_CATALOG= "DSMAP.CAT"
  A_AXIS_RADIUS = 3396.0 <km>
  B_AXIS_RADIUS = 3396.0 <km>
  C_AXIS_RADIUS = 3396.0 <km>
  CENTER_LATITUDE = 0.0
  CENTER_LONGITUDE = 86.0
  COORDINATE_SYSTEM_NAME = PLANETOGRAPHIC
  COORDINATE_SYSTEM_TYPE = "BODY-FIXED ROTATING"
  EASTERNMOST_LONGITUDE = 87.711
  FIRST_STANDARD_PARALLEL = "N/A"
  LINE_FIRST_PIXEL = 1
  LINE_LAST_PIXEL = 15308
  LINE_PROJECTION_OFFSET = 50776.625
  MAP_PROJECTION_ROTATION = 0.0
  MAP_PROJECTION_TYPE = SINUSOIDAL
  MAP_RESOLUTION = 1185.42760773333 <pixel/degree>
  MAP_SCALE = 0.05 <km/pixel>
  MAXIMUM_LATITUDE = 42.8541
  MINIMUM_LATITUDE = 29.909
  POSITIVE_LONGITUDE_DIRECTION = EAST
  REFERENCE_LATITUDE = "N/A"
  REFERENCE_LONGITUDE = "N/A"
  SAMPLE_FIRST_PIXEL = 1
  SAMPLE_LAST_PIXEL = 2353
  SAMPLE_PROJECTION_OFFSET = 700.625
  SECOND_STANDARD_PARALLEL = "N/A"
  WESTERNMOST_LONGITUDE = 85.245
END_OBJECT = IMAGE_MAP_PROJECTION
END
