PDS_VERSION_ID = PDS3
/* FILE DATA ELEMENTS */
RECORD_TYPE = UNDEFINED
/* POINTERS TO DATA OBJECTS */
^IMAGE = ("HB693_0000_P24.TIF")
/* IDENTIFICATION DATA ELEMENTS */
DATA_SET_ID = "MEX-M-HRSC-4-REFDR-MAPPROJECT-EXT4-V4.0"
DATA_SET_NAME = "MARS EXPRESS HRSC MAP PROJECTED REFDR EXTENSION4 V4.0"
DETECTOR_ID = MEX_HRSC_P2
EVENT_TYPE = "MARS-LOCAL-STEREO-Vo"
INSTRUMENT_HOST_ID = MEX
INSTRUMENT_HOST_NAME = "MARS EXPRESS"
INSTRUMENT_ID = HRSC
INSTRUMENT_NAME = "HIGH RESOLUTION STEREO CAMERA"
MISSION_NAME = "MARS EXPRESS"
MISSION_PHASE_NAME = ME_Phase_27
PROCESSING_LEVEL_ID = 4
PRODUCT_CREATION_TIME = 2023-01-30T11:30:59.000Z
PRODUCT_ID = "HB693_0000_P24.TIF"
RELEASE_ID = 0001
REVISION_ID = 0000
/* QUALITY DATA ELEMENTS */
DATA_QUALITY_ID = 1
DATA_QUALITY_DESC = "Data calculated based on original SPICE kernels"
/* TIME DATA ELEMENTS */
SPACECRAFT_CLOCK_START_COUNT = "1/0311103078.09052"
SPACECRAFT_CLOCK_STOP_COUNT = "1/0311103304.57096"
START_TIME = 2013-03-11T17:32:31.459Z
STOP_TIME = 2013-03-11T17:34:45.999Z
/* ORBITAL DATA ELEMENTS */
ASCENDING_NODE_LONGITUDE = 354.37
MAXIMUM_RESOLUTION = 0.0379
FOOTPRINT_POINT_LATITUDE = (39.9751,39.977,39.9782,39.9789,39.9789 ,39.9784,39.9765,39.9764,40.0061, 39.6395,39.2746,38.905,38.6072,38.236, 38.0113,37.8601,37.7092,37.5583,37.3323 ,37.1817,36.9527,36.7994,36.6463, 36.4933,36.3401,36.1874,36.0315,35.7981 ,35.6429,35.4876,35.3325,35.0959, 34.9382,34.7806,34.6233,34.4661,34.3057 ,34.1456,33.9857,33.8261,33.6668, 33.5047,33.2617,33.0998,32.9381,32.6924 ,32.5282,32.3641,32.282,32.2663,32.2631 ,32.2601,32.258,32.2558,32.2508,32.2446 ,32.2359,32.2354,32.2359,32.4001, 32.5653,32.7301,32.8947,33.0569,33.2193 ,33.3821,33.5451,33.7065,33.8662, 34.1067,34.2673,34.5073,34.6652,34.9026 ,35.0608,35.2194,35.3762,35.5317, 35.7656,35.9217,36.0774,36.3098,36.4631 ,36.6167,36.7707,37.0017,37.2307, 37.3815,37.5324,37.6835,37.8349,37.9868 ,38.287,38.5847,38.8082,39.1803,39.4729 ,39.913,39.9864,39.9751)
FOOTPRINT_POINT_LONGITUDE = (236.232,235.913,235.591,235.266, 234.938,234.607,234.146,234.125,234.077 ,234.093,234.108,234.122,234.133, 234.146,234.154,234.159,234.164,234.168 ,234.175,234.179,234.186,234.19,234.193 ,234.197,234.201,234.205,234.209, 234.214,234.217,234.221,234.224,234.229 ,234.231,234.234,234.237,234.239, 234.242,234.245,234.247,234.249,234.251 ,234.253,234.255,234.257,234.259, 234.261,234.262,234.263,234.264,234.264 ,234.605,234.897,235.076,235.254, 235.609,236.025,236.524,236.546,236.554 ,236.548,236.542,236.536,236.53,236.525 ,236.519,236.513,236.507,236.501, 236.495,236.486,236.48,236.471,236.465, 236.455,236.449,236.443,236.437,236.43, 236.421,236.415,236.408,236.398,236.392 ,236.386,236.379,236.369,236.359, 236.352,236.346,236.339,236.332,236.325 ,236.312,236.298,236.287,236.269, 236.255,236.233,236.23,236.232)
ORBIT_NUMBER = 11693
ORBITAL_ECCENTRICITY = 0.572
ORBITAL_INCLINATION = 86.91
ORBITAL_SEMIMAJOR_AXIS = 8783.14
PERIAPSIS_ALTITUDE = 378.98
PERIAPSIS_ARGUMENT_ANGLE = 121.32
PERIAPSIS_TIME = 2013-03-11T17:27:10.000Z
SPACECRAFT_ORIENTATION = (0.0,-1.0,0.0)
^MEX_ORIENTATION_DESC = "MEX_ORIENTATION_DESC.TXT"
SPACECRAFT_POINTING_MODE = ACROSSTRACK
^MEX_POINTING_DESC = "MEX_POINTING_DESC.TXT"
RIGHT_ASCENSION = -1e+32
DECLINATION = -1e+32
OFFSET_ANGLE = -0.916
SPACECRAFT_SOLAR_DISTANCE = 2.08934e+08
TARGET_NAME = MARS
/* CAMERA DATA ELEMENTS */
DETECTOR_TEMPERATURE = 18.7783
FOCAL_PLANE_TEMPERATURE = 8.5833
INST_CMPRS_NAME = "DISCRETE COSINE TRANSFORMATION (DCT)"
INST_CMPRS_RATIO = 4.86995
INST_CMPRS_QUALITY = 0
INST_CMPRS_QUANTZ_TBL_ID = 0
INSTRUMENT_TEMPERATURE = 11.8457
LENS_TEMPERATURE = 8.7872
MACROPIXEL_SIZE = 2
MISSING_FRAMES = 0
PIXEL_SUBSAMPLING_FLAG = N
SIGNAL_CHAIN_ID = 3
/* RADIOMETRIC DATA ELEMENTS */
BANDWIDTH = 177.0
CENTER_FILTER_WAVELENGTH = 676.5
RADIANCE_OFFSET = 3.7834
RADIANCE_SCALING_FACTOR = 0.0230632
REFLECTANCE_SCALING_FACTOR = 0.000533821
MEX:REFLECTANCE_OFFSET = 0.0875705
/* IMAGE OBJECT DEFINITIONS */
OBJECT = IMAGE
  INTERCHANGE_FORMAT = BINARY
  LINES = 18490
  LINE_SAMPLES = 4601
  SAMPLE_TYPE = UNSIGNED_INTEGER
  SAMPLE_BITS = 8
  BANDS = 1
  BAND_STORAGE_TYPE = BAND_SEQUENTIAL
  MAXIMUM = 255
  MEAN = 114.796
  MINIMUM = 1
  STANDARD_DEVIATION = 31.4671
END_OBJECT = IMAGE
/* MAP OBJECT DEFINITIONS */
OBJECT = IMAGE_MAP_PROJECTION
  ^DATA_SET_MAP_PROJECTION_CATALOG= "DSMAP.CAT"
  A_AXIS_RADIUS = 3396.0
  B_AXIS_RADIUS = 3396.0
  C_AXIS_RADIUS = 3396.0
  CENTER_LATITUDE = 0.0
  CENTER_LONGITUDE = 235.0
  COORDINATE_SYSTEM_NAME = PLANETOGRAPHIC
  COORDINATE_SYSTEM_TYPE = "BODY-FIXED ROTATING"
  EASTERNMOST_LONGITUDE = 236.554
  FIRST_STANDARD_PARALLEL = "N/A"
  LINE_FIRST_PIXEL = 1
  LINE_LAST_PIXEL = 18490
  LINE_PROJECTION_OFFSET = 94926.75
  MAP_PROJECTION_ROTATION = 0.0
  MAP_PROJECTION_TYPE = SINUSOIDAL
  MAP_RESOLUTION = 2370.85521546667
  MAP_SCALE = 0.025
  MAXIMUM_LATITUDE = 40.0061
  MINIMUM_LATITUDE = 32.2354
  POSITIVE_LONGITUDE_DIRECTION = EAST
  REFERENCE_LATITUDE = "N/A"
  REFERENCE_LONGITUDE = "N/A"
  SAMPLE_FIRST_PIXEL = 1
  SAMPLE_LAST_PIXEL = 4601
  SAMPLE_PROJECTION_OFFSET = 1598.25
  SECOND_STANDARD_PARALLEL = "N/A"
  WESTERNMOST_LONGITUDE = 234.077
END_OBJECT = IMAGE_MAP_PROJECTION
END
