PDS_VERSION_ID = PDS3
/* FILE DATA ELEMENTS */
RECORD_TYPE = UNDEFINED
/* POINTERS TO DATA OBJECTS */
^IMAGE = ("HB660_0000_ND4.TIF")
/* IDENTIFICATION DATA ELEMENTS */
DATA_SET_ID = "MEX-M-HRSC-4-REFDR-MAPPROJECT-EXT4-V4.0"
DATA_SET_NAME = "MARS EXPRESS HRSC MAP PROJECTED REFDR EXTENSION4 V4.0"
DETECTOR_ID = MEX_HRSC_NADIR
EVENT_TYPE = "MARS-REGIONAL-MAPPING-Im-Eo-La"
INSTRUMENT_HOST_ID = MEX
INSTRUMENT_HOST_NAME = "MARS EXPRESS"
INSTRUMENT_ID = HRSC
INSTRUMENT_NAME = "HIGH RESOLUTION STEREO CAMERA"
MISSION_NAME = "MARS EXPRESS"
MISSION_PHASE_NAME = ME_Phase_27
PROCESSING_LEVEL_ID = 4
PRODUCT_CREATION_TIME = 2023-01-30T11:30:59.000Z
PRODUCT_ID = "HB660_0000_ND4.TIF"
RELEASE_ID = 0001
REVISION_ID = 0000
/* QUALITY DATA ELEMENTS */
DATA_QUALITY_ID = 1
DATA_QUALITY_DESC = "Data calculated based on original SPICE kernels"
/* TIME DATA ELEMENTS */
SPACECRAFT_CLOCK_START_COUNT = "1/0310272746.09053"
SPACECRAFT_CLOCK_STOP_COUNT = "1/0310273049.47217"
START_TIME = 2013-03-02T02:53:07.822Z
STOP_TIME = 2013-03-02T02:56:31.823Z
/* ORBITAL DATA ELEMENTS */
ASCENDING_NODE_LONGITUDE = 355.0
MAXIMUM_RESOLUTION = 0.0171 <m/pixel>
FOOTPRINT_POINT_LATITUDE = (37.0871,37.0809,37.0717,37.0649, 37.0574,37.057,37.0569,36.6056,36.155, 35.694,35.2334,34.7737,34.5385,34.0686, 33.5996,33.362,33.1224,32.883,32.644, 32.4051,32.0407,31.7968,31.5533,31.3101 ,30.9394,30.6912,30.4433,30.1958, 29.9433,29.5646,29.3125,29.0578,28.8009 ,28.5443,28.2881,27.897,27.6361,27.3757 ,27.1107,26.8455,26.5807,26.3128, 26.0434,25.7744,25.5023,25.2287,24.8182 ,24.6792,24.676,24.6779,24.6793,24.6791 ,24.6781,24.6758,24.6756,24.6759, 24.9531,25.227,25.5014,25.7743,26.0441, 26.314,26.5828,26.8484,27.1143,27.3801, 27.6413,27.9028,28.2951,28.552,28.809, 29.0666,29.3221,29.5748,29.9545,30.2077 ,30.4559,30.7043,30.9531,31.3248, 31.5686,31.8127,32.0572,32.4227,32.662, 32.9017,33.1416,33.3817,33.62,34.0901, 34.3255,34.5611,34.797,35.2578,35.7195, 36.1817,36.6334,36.9727,37.0859, 37.0871)
FOOTPRINT_POINT_LONGITUDE = (9.93819,9.38225,8.80432,8.45918, 8.13013,8.11181,8.07053,8.08192,8.0897, 8.10055,8.10907,8.11827,8.12266,8.12951 ,8.13569,8.13877,8.14206,8.14466, 8.14518,8.14812,8.15144,8.15311,8.15392 ,8.15419,8.15547,8.15627,8.15683, 8.15774,8.15875,8.15945,8.16045,8.1597, 8.15893,8.15766,8.15684,8.15392,8.15343 ,8.15124,8.14877,8.14624,8.14384, 8.14085,8.13743,8.13429,8.13244,8.12844 ,8.12265,8.12078,8.12073,8.45338, 8.99167,9.42425,9.7321,10.182,10.2024, 10.2124,10.208,10.2041,10.2003,10.1959, 10.1919,10.1857,10.1812,10.1774,10.1733 ,10.1686,10.1643,10.1599,10.1529, 10.1481,10.1419,10.137,10.1331,10.1279, 10.1211,10.1163,10.1113,10.1061,10.1009 ,10.0931,10.0872,10.0819,10.0768,10.069 ,10.0634,10.0575,10.052,10.0463,10.0405 ,10.0291,10.0233,10.0173,10.0114, 9.99947,9.9878,9.97498,9.96247,9.95291, 9.94976,9.93819)
ORBIT_NUMBER = 11660
ORBITAL_ECCENTRICITY = 0.572
ORBITAL_INCLINATION = 86.9
ORBITAL_SEMIMAJOR_AXIS = 8792.14
PERIAPSIS_ALTITUDE = 377.19
PERIAPSIS_ARGUMENT_ANGLE = 127.03
PERIAPSIS_TIME = 2013-03-02T02:48:59.000Z
SPACECRAFT_ORIENTATION = (0.0,-1.0,0.0)
^MEX_ORIENTATION_DESC = "MEX_ORIENTATION_DESC.TXT"
SPACECRAFT_POINTING_MODE = ACROSSTRACK
^MEX_POINTING_DESC = "MEX_POINTING_DESC.TXT"
RIGHT_ASCENSION = -1e+32
DECLINATION = -1e+32
OFFSET_ANGLE = -0.35
SPACECRAFT_SOLAR_DISTANCE = 2.08105e+08
TARGET_NAME = MARS
/* CAMERA DATA ELEMENTS */
DETECTOR_TEMPERATURE = 18.5744 <degC>
FOCAL_PLANE_TEMPERATURE = 8.5833 <degC>
INST_CMPRS_NAME = "DISCRETE COSINE TRANSFORMATION (DCT)"
INST_CMPRS_RATIO = 6.21791
INST_CMPRS_QUALITY = 0
INST_CMPRS_QUANTZ_TBL_ID = 0
INSTRUMENT_TEMPERATURE = 11.6418 <degC>
LENS_TEMPERATURE = 9.195 <degC>
MACROPIXEL_SIZE = 1
MISSING_FRAMES = 0
PIXEL_SUBSAMPLING_FLAG = N
SIGNAL_CHAIN_ID = 0
/* RADIOMETRIC DATA ELEMENTS */
BANDWIDTH = 177.0 <nm>
CENTER_FILTER_WAVELENGTH = 677.5 <nm>
RADIANCE_OFFSET = 3.33856 <W*m**-2*sr**-1>
RADIANCE_SCALING_FACTOR = 0.0209745 <W*m**-2*sr**-1>
REFLECTANCE_SCALING_FACTOR = 0.000482552
MEX:REFLECTANCE_OFFSET = 0.0768088
/* IMAGE OBJECT DEFINITIONS */
OBJECT = IMAGE
  INTERCHANGE_FORMAT = BINARY
  LINES = 58858
  LINE_SAMPLES = 9013
  SAMPLE_TYPE = UNSIGNED_INTEGER
  SAMPLE_BITS = 8
  BANDS = 1
  BAND_STORAGE_TYPE = BAND_SEQUENTIAL
  MAXIMUM = 255
  MEAN = 128.074
  MINIMUM = 1
  STANDARD_DEVIATION = 53.5662
END_OBJECT = IMAGE
/* MAP OBJECT DEFINITIONS */
OBJECT = IMAGE_MAP_PROJECTION
  ^DATA_SET_MAP_PROJECTION_CATALOG= "DSMAP.CAT"
  A_AXIS_RADIUS = 3396.0 <km>
  B_AXIS_RADIUS = 3396.0 <km>
  C_AXIS_RADIUS = 3396.0 <km>
  CENTER_LATITUDE = 0.0
  CENTER_LONGITUDE = 9.0
  COORDINATE_SYSTEM_NAME = PLANETOGRAPHIC
  COORDINATE_SYSTEM_TYPE = "BODY-FIXED ROTATING"
  EASTERNMOST_LONGITUDE = 10.2124
  FIRST_STANDARD_PARALLEL = "N/A"
  LINE_FIRST_PIXEL = 1
  LINE_LAST_PIXEL = 58858
  LINE_PROJECTION_OFFSET = 175862.0
  MAP_PROJECTION_ROTATION = 0.0
  MAP_PROJECTION_TYPE = SINUSOIDAL
  MAP_RESOLUTION = 4741.71043093333 <pixel/degree>
  MAP_SCALE = 0.0125 <km/pixel>
  MAXIMUM_LATITUDE = 37.0871
  MINIMUM_LATITUDE = 24.6756
  POSITIVE_LONGITUDE_DIRECTION = EAST
  REFERENCE_LATITUDE = "N/A"
  REFERENCE_LONGITUDE = "N/A"
  SAMPLE_FIRST_PIXEL = 1
  SAMPLE_LAST_PIXEL = 9013
  SAMPLE_PROJECTION_OFFSET = 3788.0
  SECOND_STANDARD_PARALLEL = "N/A"
  WESTERNMOST_LONGITUDE = 8.07053
END_OBJECT = IMAGE_MAP_PROJECTION
END
