PDS_VERSION_ID = PDS3
/* FILE DATA ELEMENTS */
RECORD_TYPE = UNDEFINED
/* POINTERS TO DATA OBJECTS */
^IMAGE = ("HB659_0000_P24.TIF")
/* IDENTIFICATION DATA ELEMENTS */
DATA_SET_ID = "MEX-M-HRSC-4-REFDR-MAPPROJECT-EXT4-V4.0"
DATA_SET_NAME = "MARS EXPRESS HRSC MAP PROJECTED REFDR EXTENSION4 V4.0"
DETECTOR_ID = MEX_HRSC_P2
EVENT_TYPE = "MARS-REGIONAL-MAPPING-Lc-Pf-Mw"
INSTRUMENT_HOST_ID = MEX
INSTRUMENT_HOST_NAME = "MARS EXPRESS"
INSTRUMENT_ID = HRSC
INSTRUMENT_NAME = "HIGH RESOLUTION STEREO CAMERA"
MISSION_NAME = "MARS EXPRESS"
MISSION_PHASE_NAME = ME_Phase_27
PROCESSING_LEVEL_ID = 4
PRODUCT_CREATION_TIME = 2023-01-30T11:30:59.000Z
PRODUCT_ID = "HB659_0000_P24.TIF"
RELEASE_ID = 0001
REVISION_ID = 0000
/* QUALITY DATA ELEMENTS */
DATA_QUALITY_ID = 1
DATA_QUALITY_DESC = "Data calculated based on original SPICE kernels"
/* TIME DATA ELEMENTS */
SPACECRAFT_CLOCK_START_COUNT = "1/0310247582.09040"
SPACECRAFT_CLOCK_STOP_COUNT = "1/0310247942.55713"
START_TIME = 2013-03-01T19:54:10.387Z
STOP_TIME = 2013-03-01T19:58:40.305Z
/* ORBITAL DATA ELEMENTS */
ASCENDING_NODE_LONGITUDE = 355.01
MAXIMUM_RESOLUTION = 0.0723 <m/pixel>
FOOTPRINT_POINT_LATITUDE = (37.1825,37.1784,37.1708,37.1617, 37.1614,37.2094,36.6572,36.1068,35.4054 ,34.8455,34.5599,34.2742,33.9892, 33.5594,33.2689,32.9792,32.6899,32.2483 ,31.9541,31.6603,31.361,31.0619,30.7634 ,30.4599,30.1562,29.8533,29.5453, 29.0838,28.7731,28.4603,27.9896,27.6724 ,27.3559,27.0341,26.7131,26.3889, 25.9025,25.5708,25.2414,24.9079,24.574, 24.2367,23.8987,23.5566,23.2144,22.8682 ,22.346,21.996,21.8185,21.7787,21.7753, 21.7724,21.7688,21.7632,21.7583,21.7581 ,21.7594,22.2889,22.6399,22.9874, 23.5048,23.8486,24.1875,24.5265,24.8614 ,25.1964,25.5269,25.8582,26.1843, 26.6735,26.9952,27.4771,27.7944,28.2696 ,28.5827,29.0515,29.36,29.6692,30.1276, 30.4322,30.7369,31.0361,31.3357,31.7838 ,32.0784,32.3737,32.6693,32.9591, 33.2495,33.5404,33.8293,34.1147,34.4008 ,34.6872,35.1113,35.8143,36.6476, 37.0626,37.2012,37.1825)
FOOTPRINT_POINT_LONGITUDE = (112.615,112.09,111.392,110.763,110.746 ,110.713,110.722,110.73,110.739,110.744 ,110.747,110.749,110.751,110.754, 110.755,110.756,110.757,110.757,110.757 ,110.757,110.756,110.756,110.755, 110.753,110.752,110.75,110.748,110.744, 110.741,110.738,110.733,110.729,110.725 ,110.72,110.715,110.71,110.701,110.696, 110.69,110.683,110.676,110.669,110.661, 110.653,110.645,110.636,110.622,110.613 ,110.608,110.607,111.08,111.403,111.833 ,112.415,112.889,112.911,112.918,112.91 ,112.905,112.9,112.893,112.888,112.883, 112.878,112.873,112.868,112.863,112.858 ,112.853,112.845,112.84,112.832,112.827 ,112.819,112.814,112.806,112.801, 112.796,112.788,112.782,112.777,112.771 ,112.766,112.757,112.752,112.746,112.74 ,112.735,112.729,112.723,112.717, 112.711,112.705,112.699,112.69,112.675, 112.656,112.646,112.643,112.615)
ORBIT_NUMBER = 11659
ORBITAL_ECCENTRICITY = 0.573
ORBITAL_INCLINATION = 86.9
ORBITAL_SEMIMAJOR_AXIS = 8797.31
PERIAPSIS_ALTITUDE = 376.3
PERIAPSIS_ARGUMENT_ANGLE = 127.2
PERIAPSIS_TIME = 2013-03-01T19:49:40.000Z
SPACECRAFT_ORIENTATION = (0.0,-1.0,0.0)
^MEX_ORIENTATION_DESC = "MEX_ORIENTATION_DESC.TXT"
SPACECRAFT_POINTING_MODE = NADIR
^MEX_POINTING_DESC = "MEX_POINTING_DESC.TXT"
RIGHT_ASCENSION = -1e+32
DECLINATION = -1e+32
OFFSET_ANGLE = -1e+32
SPACECRAFT_SOLAR_DISTANCE = 2.08083e+08
TARGET_NAME = MARS
/* CAMERA DATA ELEMENTS */
DETECTOR_TEMPERATURE = 19.1861 <degC>
FOCAL_PLANE_TEMPERATURE = 8.7872 <degC>
INST_CMPRS_NAME = "DISCRETE COSINE TRANSFORMATION (DCT)"
INST_CMPRS_RATIO = 9.91835
INST_CMPRS_QUALITY = 0
INST_CMPRS_QUANTZ_TBL_ID = 0
INSTRUMENT_TEMPERATURE = 11.4379 <degC>
LENS_TEMPERATURE = 8.9911 <degC>
MACROPIXEL_SIZE = 4
MISSING_FRAMES = 0
PIXEL_SUBSAMPLING_FLAG = N
SIGNAL_CHAIN_ID = 3
/* RADIOMETRIC DATA ELEMENTS */
BANDWIDTH = 177.0 <nm>
CENTER_FILTER_WAVELENGTH = 676.5 <nm>
RADIANCE_OFFSET = 4.5539 <W*m**-2*sr**-1>
RADIANCE_SCALING_FACTOR = 0.0133938 <W*m**-2*sr**-1>
REFLECTANCE_SCALING_FACTOR = 0.000307494
MEX:REFLECTANCE_OFFSET = 0.104548
/* IMAGE OBJECT DEFINITIONS */
OBJECT = IMAGE
  INTERCHANGE_FORMAT = BINARY
  LINES = 18353
  LINE_SAMPLES = 2398
  SAMPLE_TYPE = UNSIGNED_INTEGER
  SAMPLE_BITS = 8
  BANDS = 1
  BAND_STORAGE_TYPE = BAND_SEQUENTIAL
  MAXIMUM = 255
  MEAN = 123.569
  MINIMUM = 1
  STANDARD_DEVIATION = 49.391
END_OBJECT = IMAGE
/* MAP OBJECT DEFINITIONS */
OBJECT = IMAGE_MAP_PROJECTION
  ^DATA_SET_MAP_PROJECTION_CATALOG= "DSMAP.CAT"
  A_AXIS_RADIUS = 3396.0 <km>
  B_AXIS_RADIUS = 3396.0 <km>
  C_AXIS_RADIUS = 3396.0 <km>
  CENTER_LATITUDE = 0.0
  CENTER_LONGITUDE = 112.0
  COORDINATE_SYSTEM_NAME = PLANETOGRAPHIC
  COORDINATE_SYSTEM_TYPE = "BODY-FIXED ROTATING"
  EASTERNMOST_LONGITUDE = 112.918
  FIRST_STANDARD_PARALLEL = "N/A"
  LINE_FIRST_PIXEL = 1
  LINE_LAST_PIXEL = 18353
  LINE_PROJECTION_OFFSET = 44123.625
  MAP_PROJECTION_ROTATION = 0.0
  MAP_PROJECTION_TYPE = SINUSOIDAL
  MAP_RESOLUTION = 1185.42760773333 <pixel/degree>
  MAP_SCALE = 0.05 <km/pixel>
  MAXIMUM_LATITUDE = 37.2094
  MINIMUM_LATITUDE = 21.7581
  POSITIVE_LONGITUDE_DIRECTION = EAST
  REFERENCE_LATITUDE = "N/A"
  REFERENCE_LONGITUDE = "N/A"
  SAMPLE_FIRST_PIXEL = 1
  SAMPLE_LAST_PIXEL = 2398
  SAMPLE_PROJECTION_OFFSET = 1467.125
  SECOND_STANDARD_PARALLEL = "N/A"
  WESTERNMOST_LONGITUDE = 110.607
END_OBJECT = IMAGE_MAP_PROJECTION
END
