PDS_VERSION_ID = PDS3
/* FILE DATA ELEMENTS */
RECORD_TYPE = UNDEFINED
/* POINTERS TO DATA OBJECTS */
^IMAGE = ("HB659_0000_BL4.TIF")
/* IDENTIFICATION DATA ELEMENTS */
DATA_SET_ID = "MEX-M-HRSC-4-REFDR-MAPPROJECT-EXT4-V4.0"
DATA_SET_NAME = "MARS EXPRESS HRSC MAP PROJECTED REFDR EXTENSION4 V4.0"
DETECTOR_ID = MEX_HRSC_BLUE
EVENT_TYPE = "MARS-REGIONAL-MAPPING-Lc-Pf-Mw"
INSTRUMENT_HOST_ID = MEX
INSTRUMENT_HOST_NAME = "MARS EXPRESS"
INSTRUMENT_ID = HRSC
INSTRUMENT_NAME = "HIGH RESOLUTION STEREO CAMERA"
MISSION_NAME = "MARS EXPRESS"
MISSION_PHASE_NAME = ME_Phase_27
PROCESSING_LEVEL_ID = 4
PRODUCT_CREATION_TIME = 2023-01-30T11:30:59.000Z
PRODUCT_ID = "HB659_0000_BL4.TIF"
RELEASE_ID = 0001
REVISION_ID = 0000
/* QUALITY DATA ELEMENTS */
DATA_QUALITY_ID = 1
DATA_QUALITY_DESC = "Data calculated based on original SPICE kernels"
/* TIME DATA ELEMENTS */
SPACECRAFT_CLOCK_START_COUNT = "1/0310247582.09040"
SPACECRAFT_CLOCK_STOP_COUNT = "1/0310247942.55713"
START_TIME = 2013-03-01T19:53:50.347Z
STOP_TIME = 2013-03-01T19:58:09.665Z
/* ORBITAL DATA ELEMENTS */
ASCENDING_NODE_LONGITUDE = 355.01
MAXIMUM_RESOLUTION = 0.0687
FOOTPRINT_POINT_LATITUDE = (37.2074,37.2034,37.1961,37.1852, 37.1849,37.197,36.7854,36.2376,35.4, 34.8415,34.4149,34.1298,33.845,33.5607, 33.2708,32.9804,32.6904,32.4008,31.9577 ,31.6624,31.3676,30.9178,30.6173, 30.3173,30.0124,29.7067,29.4015,29.0924 ,28.7815,28.4712,28.1571,27.8413, 27.5261,27.0456,26.7253,26.238,25.9128, 25.4183,25.0884,24.7535,24.4184,23.91, 23.5705,23.2255,22.8812,22.5318,22.0054 ,21.8283,21.7512,21.7504,21.7481, 21.7446,21.7413,21.7355,21.7352,21.7365 ,22.268,22.6182,22.9672,23.3127,23.6572 ,23.9979,24.3384,24.6743,25.1766, 25.5077,25.8391,26.165,26.4916,26.9757, 27.2974,27.7745,28.091,28.4072,28.7182, 29.0297,29.3409,29.6468,29.9532,30.2602 ,30.5608,31.0127,31.314,31.6095,31.9054 ,32.2018,32.4959,32.7863,33.077,33.3682 ,33.6569,33.9421,34.2276,34.5134, 34.7994,35.6394,36.1999,37.0237,37.1613 ,37.2074)
FOOTPRINT_POINT_LONGITUDE = (112.59,112.046,111.435,110.79,110.773, 110.741,110.748,110.757,110.769,110.776 ,110.78,110.783,110.785,110.787,110.789 ,110.79,110.792,110.793,110.793,110.794 ,110.794,110.793,110.793,110.792, 110.791,110.789,110.788,110.786,110.783 ,110.781,110.778,110.775,110.772, 110.766,110.762,110.756,110.751,110.743 ,110.737,110.731,110.725,110.715, 110.708,110.701,110.693,110.685,110.672 ,110.667,110.665,110.992,111.463, 111.974,112.322,112.834,112.854,112.861 ,112.855,112.851,112.847,112.843, 112.839,112.835,112.831,112.827,112.82, 112.816,112.812,112.808,112.803,112.797 ,112.792,112.786,112.781,112.777, 112.772,112.768,112.763,112.758,112.754 ,112.749,112.744,112.737,112.732, 112.727,112.722,112.717,112.712,112.706 ,112.701,112.696,112.69,112.685,112.68, 112.674,112.669,112.652,112.64,112.622, 112.619,112.59)
ORBIT_NUMBER = 11659
ORBITAL_ECCENTRICITY = 0.573
ORBITAL_INCLINATION = 86.9
ORBITAL_SEMIMAJOR_AXIS = 8797.31
PERIAPSIS_ALTITUDE = 376.3
PERIAPSIS_ARGUMENT_ANGLE = 127.2
PERIAPSIS_TIME = 2013-03-01T19:49:40.000Z
SPACECRAFT_ORIENTATION = (0.0,-1.0,0.0)
^MEX_ORIENTATION_DESC = "MEX_ORIENTATION_DESC.TXT"
SPACECRAFT_POINTING_MODE = NADIR
^MEX_POINTING_DESC = "MEX_POINTING_DESC.TXT"
RIGHT_ASCENSION = -1e+32
DECLINATION = -1e+32
OFFSET_ANGLE = -1e+32
SPACECRAFT_SOLAR_DISTANCE = 2.08083e+08
TARGET_NAME = MARS
/* CAMERA DATA ELEMENTS */
DETECTOR_TEMPERATURE = 18.7783
FOCAL_PLANE_TEMPERATURE = 8.7872
INST_CMPRS_NAME = "DISCRETE COSINE TRANSFORMATION (DCT)"
INST_CMPRS_RATIO = 6.49332
INST_CMPRS_QUALITY = 0
INST_CMPRS_QUANTZ_TBL_ID = 0
INSTRUMENT_TEMPERATURE = 11.4379
LENS_TEMPERATURE = 8.9911
MACROPIXEL_SIZE = 4
MISSING_FRAMES = 0
PIXEL_SUBSAMPLING_FLAG = N
SIGNAL_CHAIN_ID = 2
/* RADIOMETRIC DATA ELEMENTS */
BANDWIDTH = 76.0
CENTER_FILTER_WAVELENGTH = 444.0
RADIANCE_OFFSET = 0.692014
RADIANCE_SCALING_FACTOR = 0.00102684
REFLECTANCE_SCALING_FACTOR = 4.56806e-05
MEX:REFLECTANCE_OFFSET = 0.0307855
/* IMAGE OBJECT DEFINITIONS */
OBJECT = IMAGE
  INTERCHANGE_FORMAT = BINARY
  LINES = 18353
  LINE_SAMPLES = 2398
  SAMPLE_TYPE = UNSIGNED_INTEGER
  SAMPLE_BITS = 8
  BANDS = 1
  BAND_STORAGE_TYPE = BAND_SEQUENTIAL
  MAXIMUM = 255
  MEAN = 133.02
  MINIMUM = 1
  STANDARD_DEVIATION = 24.4169
END_OBJECT = IMAGE
/* MAP OBJECT DEFINITIONS */
OBJECT = IMAGE_MAP_PROJECTION
  ^DATA_SET_MAP_PROJECTION_CATALOG= "DSMAP.CAT"
  A_AXIS_RADIUS = 3396.0
  B_AXIS_RADIUS = 3396.0
  C_AXIS_RADIUS = 3396.0
  CENTER_LATITUDE = 0.0
  CENTER_LONGITUDE = 112.0
  COORDINATE_SYSTEM_NAME = PLANETOGRAPHIC
  COORDINATE_SYSTEM_TYPE = "BODY-FIXED ROTATING"
  EASTERNMOST_LONGITUDE = 112.861
  FIRST_STANDARD_PARALLEL = "N/A"
  LINE_FIRST_PIXEL = 1
  LINE_LAST_PIXEL = 18353
  LINE_PROJECTION_OFFSET = 44123.625
  MAP_PROJECTION_ROTATION = 0.0
  MAP_PROJECTION_TYPE = SINUSOIDAL
  MAP_RESOLUTION = 1185.42760773333
  MAP_SCALE = 0.05
  MAXIMUM_LATITUDE = 37.2074
  MINIMUM_LATITUDE = 21.7352
  POSITIVE_LONGITUDE_DIRECTION = EAST
  REFERENCE_LATITUDE = "N/A"
  REFERENCE_LONGITUDE = "N/A"
  SAMPLE_FIRST_PIXEL = 1
  SAMPLE_LAST_PIXEL = 2398
  SAMPLE_PROJECTION_OFFSET = 1467.125
  SECOND_STANDARD_PARALLEL = "N/A"
  WESTERNMOST_LONGITUDE = 110.665
END_OBJECT = IMAGE_MAP_PROJECTION
END
