PDS_VERSION_ID = PDS3
/* FILE DATA ELEMENTS */
RECORD_TYPE = UNDEFINED
/* POINTERS TO DATA OBJECTS */
^IMAGE = ("HB648_0000_ND4.TIF")
/* IDENTIFICATION DATA ELEMENTS */
DATA_SET_ID = "MEX-M-HRSC-4-REFDR-MAPPROJECT-EXT4-V4.0"
DATA_SET_NAME = "MARS EXPRESS HRSC MAP PROJECTED REFDR EXTENSION4 V4.0"
DETECTOR_ID = MEX_HRSC_NADIR
EVENT_TYPE = "MARS-REGIONAL-MAPPING-Vo-Te-Pf"
INSTRUMENT_HOST_ID = MEX
INSTRUMENT_HOST_NAME = "MARS EXPRESS"
INSTRUMENT_ID = HRSC
INSTRUMENT_NAME = "HIGH RESOLUTION STEREO CAMERA"
MISSION_NAME = "MARS EXPRESS"
MISSION_PHASE_NAME = ME_Phase_27
PROCESSING_LEVEL_ID = 4
PRODUCT_CREATION_TIME = 2023-01-30T11:30:59.000Z
PRODUCT_ID = "HB648_0000_ND4.TIF"
RELEASE_ID = 0001
REVISION_ID = 0000
/* QUALITY DATA ELEMENTS */
DATA_QUALITY_ID = 1
DATA_QUALITY_DESC = "Data calculated based on original SPICE kernels"
/* TIME DATA ELEMENTS */
SPACECRAFT_CLOCK_START_COUNT = "1/0309970694.09058"
SPACECRAFT_CLOCK_STOP_COUNT = "1/0309970966.25170"
START_TIME = 2013-02-26T14:58:52.565Z
STOP_TIME = 2013-02-26T15:02:02.554Z
/* ORBITAL DATA ELEMENTS */
ASCENDING_NODE_LONGITUDE = 355.22
MAXIMUM_RESOLUTION = 0.0155
FOOTPRINT_POINT_LATITUDE = (43.6414,43.6365,43.6291,43.6189, 43.6186,43.6198,43.3841,43.1486,42.9131 ,42.6777,42.4425,42.2073,41.9723, 41.7373,41.5024,41.2677,40.7986,40.3299 ,39.8618,39.3942,38.9272,38.4607, 37.9948,37.5295,37.1727,36.9343,36.6961 ,36.458,36.2201,35.9824,35.7449,35.5019 ,35.2585,35.0154,34.7724,34.5297, 34.2872,34.0415,33.7932,33.5452,33.2973 ,33.0498,32.8024,32.5496,32.2967, 32.0439,31.7915,31.6654,31.6519,31.6545 ,31.6554,31.6553,31.6544,31.6524, 31.6522,31.6525,31.9052,32.1583,32.5384 ,32.792,33.0397,33.2878,33.536,33.7845, 34.0332,34.2797,34.5227,34.7659,35.0092 ,35.2528,35.4966,35.7404,35.9784, 36.2165,36.4548,36.6933,36.932,37.1709, 37.5286,37.9948,38.4615,38.9289,39.3968 ,39.8653,40.3343,40.569,40.8038,41.0388 ,41.2739,41.509,41.7444,41.9798,42.2153 ,42.4509,42.6867,43.0404,43.2765, 43.5125,43.6306,43.6414)
FOOTPRINT_POINT_LONGITUDE = (157.768,157.102,156.521,155.951, 155.933,155.93,155.937,155.943,155.95, 155.956,155.962,155.968,155.974,155.979 ,155.985,155.99,155.999,156.008,156.016 ,156.023,156.029,156.035,156.04,156.044 ,156.047,156.048,156.05,156.051,156.052 ,156.053,156.054,156.055,156.056, 156.056,156.056,156.056,156.056,156.056 ,156.055,156.055,156.054,156.053, 156.052,156.051,156.049,156.048,156.046 ,156.045,156.045,156.517,156.864, 157.216,157.515,157.892,157.911,157.92, 157.919,157.918,157.917,157.916,157.915 ,157.914,157.913,157.912,157.91,157.909 ,157.911,157.912,157.906,157.905, 157.904,157.903,157.901,157.9,157.899, 157.898,157.896,157.895,157.893,157.89, 157.887,157.884,157.881,157.877,157.873 ,157.872,157.869,157.867,157.866, 157.863,157.861,157.859,157.857,157.853 ,157.855,157.846,157.846,157.843, 157.842,157.768)
ORBIT_NUMBER = 11648
ORBITAL_ECCENTRICITY = 0.572
ORBITAL_INCLINATION = 86.89
ORBITAL_SEMIMAJOR_AXIS = 8794.21
PERIAPSIS_ALTITUDE = 376.51
PERIAPSIS_ARGUMENT_ANGLE = 129.13
PERIAPSIS_TIME = 2013-02-26T14:57:00.000Z
SPACECRAFT_ORIENTATION = (0.0,-1.0,0.0)
^MEX_ORIENTATION_DESC = "MEX_ORIENTATION_DESC.TXT"
SPACECRAFT_POINTING_MODE = ACROSSTRACK
^MEX_POINTING_DESC = "MEX_POINTING_DESC.TXT"
RIGHT_ASCENSION = -1e+32
DECLINATION = -1e+32
OFFSET_ANGLE = 0.75
SPACECRAFT_SOLAR_DISTANCE = 2.07848e+08
TARGET_NAME = MARS
/* CAMERA DATA ELEMENTS */
DETECTOR_TEMPERATURE = 18.7783
FOCAL_PLANE_TEMPERATURE = 8.3794
INST_CMPRS_NAME = "DISCRETE COSINE TRANSFORMATION (DCT)"
INST_CMPRS_RATIO = 5.57985
INST_CMPRS_QUALITY = 0
INST_CMPRS_QUANTZ_TBL_ID = 0
INSTRUMENT_TEMPERATURE = 11.234
LENS_TEMPERATURE = 8.7872
MACROPIXEL_SIZE = 1
MISSING_FRAMES = 0
PIXEL_SUBSAMPLING_FLAG = N
SIGNAL_CHAIN_ID = 0
/* RADIOMETRIC DATA ELEMENTS */
BANDWIDTH = 177.0
CENTER_FILTER_WAVELENGTH = 677.5
RADIANCE_OFFSET = 2.08389
RADIANCE_SCALING_FACTOR = 0.0190682
REFLECTANCE_SCALING_FACTOR = 0.000437612
MEX:REFLECTANCE_OFFSET = 0.0478247
/* IMAGE OBJECT DEFINITIONS */
OBJECT = IMAGE
  INTERCHANGE_FORMAT = BINARY
  LINES = 56859
  LINE_SAMPLES = 7568
  SAMPLE_TYPE = UNSIGNED_INTEGER
  SAMPLE_BITS = 8
  BANDS = 1
  BAND_STORAGE_TYPE = BAND_SEQUENTIAL
  MAXIMUM = 255
  MEAN = 108.074
  MINIMUM = 1
  STANDARD_DEVIATION = 37.87
END_OBJECT = IMAGE
/* MAP OBJECT DEFINITIONS */
OBJECT = IMAGE_MAP_PROJECTION
  ^DATA_SET_MAP_PROJECTION_CATALOG= "DSMAP.CAT"
  A_AXIS_RADIUS = 3396.0
  B_AXIS_RADIUS = 3396.0
  C_AXIS_RADIUS = 3396.0
  CENTER_LATITUDE = 0.0
  CENTER_LONGITUDE = 157.0
  COORDINATE_SYSTEM_NAME = PLANETOGRAPHIC
  COORDINATE_SYSTEM_TYPE = "BODY-FIXED ROTATING"
  EASTERNMOST_LONGITUDE = 157.92
  FIRST_STANDARD_PARALLEL = "N/A"
  LINE_FIRST_PIXEL = 1
  LINE_LAST_PIXEL = 56859
  LINE_PROJECTION_OFFSET = 206943.0
  MAP_PROJECTION_ROTATION = 0.0
  MAP_PROJECTION_TYPE = SINUSOIDAL
  MAP_RESOLUTION = 4741.71043093333
  MAP_SCALE = 0.0125
  MAXIMUM_LATITUDE = 43.6414
  MINIMUM_LATITUDE = 31.6519
  POSITIVE_LONGITUDE_DIRECTION = EAST
  REFERENCE_LATITUDE = "N/A"
  REFERENCE_LONGITUDE = "N/A"
  SAMPLE_FIRST_PIXEL = 1
  SAMPLE_LAST_PIXEL = 7568
  SAMPLE_PROJECTION_OFFSET = 3855.0
  SECOND_STANDARD_PARALLEL = "N/A"
  WESTERNMOST_LONGITUDE = 155.93
END_OBJECT = IMAGE_MAP_PROJECTION
END
