PDS_VERSION_ID = PDS3
/* FILE DATA ELEMENTS */
RECORD_TYPE = UNDEFINED
/* POINTERS TO DATA OBJECTS */
^IMAGE = ("HB645_0000_P24.TIF")
/* IDENTIFICATION DATA ELEMENTS */
DATA_SET_ID = "MEX-M-HRSC-4-REFDR-MAPPROJECT-EXT4-V4.0"
DATA_SET_NAME = "MARS EXPRESS HRSC MAP PROJECTED REFDR EXTENSION4 V4.0"
DETECTOR_ID = MEX_HRSC_P2
EVENT_TYPE = "MARS-REGIONAL-MAPPING-Im-Pf-Mw"
INSTRUMENT_HOST_ID = MEX
INSTRUMENT_HOST_NAME = "MARS EXPRESS"
INSTRUMENT_ID = HRSC
INSTRUMENT_NAME = "HIGH RESOLUTION STEREO CAMERA"
MISSION_NAME = "MARS EXPRESS"
MISSION_PHASE_NAME = ME_Phase_27
PROCESSING_LEVEL_ID = 4
PRODUCT_CREATION_TIME = 2023-01-30T11:30:59.000Z
PRODUCT_ID = "HB645_0000_P24.TIF"
RELEASE_ID = 0001
REVISION_ID = 0000
/* QUALITY DATA ELEMENTS */
DATA_QUALITY_ID = 1
DATA_QUALITY_DESC = "Data calculated based on original SPICE kernels"
/* TIME DATA ELEMENTS */
SPACECRAFT_CLOCK_START_COUNT = "1/0309895133.07282"
SPACECRAFT_CLOCK_STOP_COUNT = "1/0309895404.32236"
START_TIME = 2013-02-25T17:59:53.056Z
STOP_TIME = 2013-02-25T18:03:11.697Z
/* ORBITAL DATA ELEMENTS */
ASCENDING_NODE_LONGITUDE = 355.28
MAXIMUM_RESOLUTION = 0.0314
FOOTPRINT_POINT_LATITUDE = (48.0215,48.0102,47.9906,47.9749, 47.9743,48.0346,47.783,47.5314,47.28, 47.0287,46.7776,46.5267,46.2759,46.0253 ,45.7749,45.5247,45.1493,44.8999, 44.6504,44.2761,44.0265,43.6535,43.2811 ,43.0328,42.7848,42.413,42.1655,41.9183 ,41.6712,41.4244,41.178,40.8087,40.5628 ,40.3172,40.0717,39.8266,39.5818, 39.0934,38.6048,38.2396,37.7536,37.5046 ,37.1316,36.8834,36.6355,36.3879, 36.1406,35.7606,35.6343,35.6232,35.6285 ,35.6363,35.6415,35.6416,35.6422,36.023 ,36.3977,36.646,36.8946,37.1434,37.5174 ,38.0103,38.376,38.8644,39.109,39.4766, 39.722,40.0906,40.3363,40.5825,40.829, 41.0756,41.3227,41.57,41.8175,42.0652, 42.3132,42.6855,42.934,43.1828,43.4318, 43.8059,44.0554,44.3051,44.555,44.8052, 45.0553,45.3059,45.5566,45.8076,46.0587 ,46.31,46.5615,46.8132,47.065,47.317, 47.6952,47.9477,48.0739,48.0215)
FOOTPRINT_POINT_LONGITUDE = (103.2,102.643,101.846,101.307,101.289, 101.237,101.255,101.273,101.291,101.308 ,101.325,101.342,101.358,101.374, 101.389,101.404,101.426,101.439,101.453 ,101.473,101.486,101.504,101.522, 101.533,101.544,101.561,101.571,101.581 ,101.591,101.6,101.609,101.623,101.631, 101.639,101.647,101.655,101.662,101.676 ,101.689,101.698,101.71,101.715,101.723 ,101.728,101.732,101.737,101.741, 101.747,101.749,101.749,102.127,102.83, 103.587,103.605,103.612,103.604,103.596 ,103.59,103.585,103.579,103.571,103.559 ,103.551,103.539,103.533,103.524, 103.518,103.508,103.502,103.495,103.488 ,103.481,103.474,103.467,103.46,103.453 ,103.446,103.435,103.427,103.419, 103.411,103.399,103.391,103.383,103.374 ,103.366,103.357,103.348,103.339,103.33 ,103.321,103.311,103.302,103.292, 103.282,103.272,103.256,103.246,103.24, 103.2)
ORBIT_NUMBER = 11645
ORBITAL_ECCENTRICITY = 0.573
ORBITAL_INCLINATION = 86.9
ORBITAL_SEMIMAJOR_AXIS = 8801.9
PERIAPSIS_ALTITUDE = 374.74
PERIAPSIS_ARGUMENT_ANGLE = 129.62
PERIAPSIS_TIME = 2013-02-25T17:58:55.000Z
SPACECRAFT_ORIENTATION = (0.0,-1.0,0.0)
^MEX_ORIENTATION_DESC = "MEX_ORIENTATION_DESC.TXT"
SPACECRAFT_POINTING_MODE = NADIR
^MEX_POINTING_DESC = "MEX_POINTING_DESC.TXT"
RIGHT_ASCENSION = -1e+32
DECLINATION = -1e+32
OFFSET_ANGLE = -1e+32
SPACECRAFT_SOLAR_DISTANCE = 2.07788e+08
TARGET_NAME = MARS
/* CAMERA DATA ELEMENTS */
DETECTOR_TEMPERATURE = 19.1861
FOCAL_PLANE_TEMPERATURE = 8.7872
INST_CMPRS_NAME = "DISCRETE COSINE TRANSFORMATION (DCT)"
INST_CMPRS_RATIO = 7.70045
INST_CMPRS_QUALITY = 0
INST_CMPRS_QUANTZ_TBL_ID = 0
INSTRUMENT_TEMPERATURE = 11.4379
LENS_TEMPERATURE = 9.195
MACROPIXEL_SIZE = 2
MISSING_FRAMES = 0
PIXEL_SUBSAMPLING_FLAG = N
SIGNAL_CHAIN_ID = 3
/* RADIOMETRIC DATA ELEMENTS */
BANDWIDTH = 177.0
CENTER_FILTER_WAVELENGTH = 676.5
RADIANCE_OFFSET = 2.01268
RADIANCE_SCALING_FACTOR = 0.012804
REFLECTANCE_SCALING_FACTOR = 0.000293118
MEX:REFLECTANCE_OFFSET = 0.0460758
/* IMAGE OBJECT DEFINITIONS */
OBJECT = IMAGE
  INTERCHANGE_FORMAT = BINARY
  LINES = 29545
  LINE_SAMPLES = 3906
  SAMPLE_TYPE = UNSIGNED_INTEGER
  SAMPLE_BITS = 8
  BANDS = 1
  BAND_STORAGE_TYPE = BAND_SEQUENTIAL
  MAXIMUM = 255
  MEAN = 128.644
  MINIMUM = 1
  STANDARD_DEVIATION = 66.292
END_OBJECT = IMAGE
/* MAP OBJECT DEFINITIONS */
OBJECT = IMAGE_MAP_PROJECTION
  ^DATA_SET_MAP_PROJECTION_CATALOG= "DSMAP.CAT"
  A_AXIS_RADIUS = 3396.0
  B_AXIS_RADIUS = 3396.0
  C_AXIS_RADIUS = 3396.0
  CENTER_LATITUDE = 0.0
  CENTER_LONGITUDE = 103.0
  COORDINATE_SYSTEM_NAME = PLANETOGRAPHIC
  COORDINATE_SYSTEM_TYPE = "BODY-FIXED ROTATING"
  EASTERNMOST_LONGITUDE = 103.612
  FIRST_STANDARD_PARALLEL = "N/A"
  LINE_FIRST_PIXEL = 1
  LINE_LAST_PIXEL = 29545
  LINE_PROJECTION_OFFSET = 113962.25
  MAP_PROJECTION_ROTATION = 0.0
  MAP_PROJECTION_TYPE = SINUSOIDAL
  MAP_RESOLUTION = 2370.85521546667
  MAP_SCALE = 0.025
  MAXIMUM_LATITUDE = 48.0739
  MINIMUM_LATITUDE = 35.6232
  POSITIVE_LONGITUDE_DIRECTION = EAST
  REFERENCE_LATITUDE = "N/A"
  REFERENCE_LONGITUDE = "N/A"
  SAMPLE_FIRST_PIXEL = 1
  SAMPLE_LAST_PIXEL = 3906
  SAMPLE_PROJECTION_OFFSET = 2781.75
  SECOND_STANDARD_PARALLEL = "N/A"
  WESTERNMOST_LONGITUDE = 101.237
END_OBJECT = IMAGE_MAP_PROJECTION
END
