PDS_VERSION_ID = PDS3
/* FILE DATA ELEMENTS */
RECORD_TYPE = UNDEFINED
/* POINTERS TO DATA OBJECTS */
^IMAGE = ("HB645_0000_BL4.TIF")
/* IDENTIFICATION DATA ELEMENTS */
DATA_SET_ID = "MEX-M-HRSC-4-REFDR-MAPPROJECT-EXT4-V4.0"
DATA_SET_NAME = "MARS EXPRESS HRSC MAP PROJECTED REFDR EXTENSION4 V4.0"
DETECTOR_ID = MEX_HRSC_BLUE
EVENT_TYPE = "MARS-REGIONAL-MAPPING-Im-Pf-Mw"
INSTRUMENT_HOST_ID = MEX
INSTRUMENT_HOST_NAME = "MARS EXPRESS"
INSTRUMENT_ID = HRSC
INSTRUMENT_NAME = "HIGH RESOLUTION STEREO CAMERA"
MISSION_NAME = "MARS EXPRESS"
MISSION_PHASE_NAME = ME_Phase_27
PROCESSING_LEVEL_ID = 4
PRODUCT_CREATION_TIME = 2023-01-30T11:30:59.000Z
PRODUCT_ID = "HB645_0000_BL4.TIF"
RELEASE_ID = 0001
REVISION_ID = 0000
/* QUALITY DATA ELEMENTS */
DATA_QUALITY_ID = 1
DATA_QUALITY_DESC = "Data calculated based on original SPICE kernels"
/* TIME DATA ELEMENTS */
SPACECRAFT_CLOCK_START_COUNT = "1/0309895133.07282"
SPACECRAFT_CLOCK_STOP_COUNT = "1/0309895404.32236"
START_TIME = 2013-02-25T17:59:36.507Z
STOP_TIME = 2013-02-25T18:02:52.147Z
/* ORBITAL DATA ELEMENTS */
ASCENDING_NODE_LONGITUDE = 355.28
MAXIMUM_RESOLUTION = 0.0607
FOOTPRINT_POINT_LATITUDE = (48.0413,48.0251,47.9937,47.9932, 48.0078,47.7589,47.51,47.2612,47.0125, 46.7638,46.5152,46.2666,46.0181,45.7697 ,45.5215,45.1491,44.9011,44.5291, 44.2813,43.9096,43.6621,43.4147,43.0437 ,42.7966,42.5495,42.3027,42.0559, 41.8093,41.5627,41.3164,41.0703,40.8242 ,40.5784,40.3326,40.087,39.8416,39.5964 ,39.1066,38.6172,38.1287,37.6409, 37.1539,36.6678,36.297,36.0479,35.799, 35.6748,35.6082,35.6165,35.6247,35.6278 ,35.6279,35.6289,35.8781,36.1275,36.377 ,36.6255,37.1126,37.6006,38.0893, 38.5788,38.8239,39.0691,39.3145,39.5601 ,39.8059,40.0518,40.2978,40.5441, 40.7905,41.037,41.2838,41.5307,41.7777, 42.0249,42.2722,42.5197,42.7673,43.015, 43.2629,43.5109,43.759,44.0072,44.2556, 44.504,44.7526,45.0012,45.25,45.4989, 45.7479,45.997,46.2461,46.4953,46.7447, 46.9941,47.2435,47.493,47.8675,47.9923, 48.0413)
FOOTPRINT_POINT_LONGITUDE = (103.191,102.415,101.322,101.304, 101.258,101.276,101.295,101.312,101.33, 101.346,101.363,101.379,101.395,101.41, 101.425,101.447,101.461,101.482,101.495 ,101.515,101.527,101.539,101.557, 101.568,101.579,101.59,101.6,101.61, 101.62,101.63,101.639,101.648,101.657, 101.665,101.674,101.682,101.689,101.703 ,101.717,101.73,101.742,101.753,101.763 ,101.77,101.774,101.779,101.781,101.781 ,102.303,103.044,103.566,103.583, 103.589,103.584,103.579,103.574,103.569 ,103.559,103.549,103.538,103.527, 103.521,103.516,103.51,103.504,103.498, 103.492,103.485,103.479,103.473,103.466 ,103.46,103.453,103.446,103.439,103.432 ,103.425,103.418,103.41,103.403,103.395 ,103.387,103.38,103.372,103.364,103.355 ,103.347,103.338,103.33,103.321,103.312 ,103.303,103.294,103.284,103.275, 103.265,103.255,103.24,103.235,103.191)
ORBIT_NUMBER = 11645
ORBITAL_ECCENTRICITY = 0.573
ORBITAL_INCLINATION = 86.9
ORBITAL_SEMIMAJOR_AXIS = 8801.9
PERIAPSIS_ALTITUDE = 374.74
PERIAPSIS_ARGUMENT_ANGLE = 129.62
PERIAPSIS_TIME = 2013-02-25T17:58:55.000Z
SPACECRAFT_ORIENTATION = (0.0,-1.0,0.0)
^MEX_ORIENTATION_DESC = "MEX_ORIENTATION_DESC.TXT"
SPACECRAFT_POINTING_MODE = NADIR
^MEX_POINTING_DESC = "MEX_POINTING_DESC.TXT"
RIGHT_ASCENSION = -1e+32
DECLINATION = -1e+32
OFFSET_ANGLE = -1e+32
SPACECRAFT_SOLAR_DISTANCE = 2.07788e+08
TARGET_NAME = MARS
/* CAMERA DATA ELEMENTS */
DETECTOR_TEMPERATURE = 18.5744
FOCAL_PLANE_TEMPERATURE = 8.7872
INST_CMPRS_NAME = "DISCRETE COSINE TRANSFORMATION (DCT)"
INST_CMPRS_RATIO = 4.08748
INST_CMPRS_QUALITY = 0
INST_CMPRS_QUANTZ_TBL_ID = 0
INSTRUMENT_TEMPERATURE = 11.4379
LENS_TEMPERATURE = 9.195
MACROPIXEL_SIZE = 4
MISSING_FRAMES = 0
PIXEL_SUBSAMPLING_FLAG = N
SIGNAL_CHAIN_ID = 2
/* RADIOMETRIC DATA ELEMENTS */
BANDWIDTH = 76.0
CENTER_FILTER_WAVELENGTH = 444.0
RADIANCE_OFFSET = 0.512425
RADIANCE_SCALING_FACTOR = 0.0012447
REFLECTANCE_SCALING_FACTOR = 5.52155e-05
MEX:REFLECTANCE_OFFSET = 0.0227315
/* IMAGE OBJECT DEFINITIONS */
OBJECT = IMAGE
  INTERCHANGE_FORMAT = BINARY
  LINES = 14773
  LINE_SAMPLES = 1953
  SAMPLE_TYPE = UNSIGNED_INTEGER
  SAMPLE_BITS = 8
  BANDS = 1
  BAND_STORAGE_TYPE = BAND_SEQUENTIAL
  MAXIMUM = 254
  MEAN = 149.288
  MINIMUM = 1
  STANDARD_DEVIATION = 42.361
END_OBJECT = IMAGE
/* MAP OBJECT DEFINITIONS */
OBJECT = IMAGE_MAP_PROJECTION
  ^DATA_SET_MAP_PROJECTION_CATALOG= "DSMAP.CAT"
  A_AXIS_RADIUS = 3396.0
  B_AXIS_RADIUS = 3396.0
  C_AXIS_RADIUS = 3396.0
  CENTER_LATITUDE = 0.0
  CENTER_LONGITUDE = 103.0
  COORDINATE_SYSTEM_NAME = PLANETOGRAPHIC
  COORDINATE_SYSTEM_TYPE = "BODY-FIXED ROTATING"
  EASTERNMOST_LONGITUDE = 103.589
  FIRST_STANDARD_PARALLEL = "N/A"
  LINE_FIRST_PIXEL = 1
  LINE_LAST_PIXEL = 14773
  LINE_PROJECTION_OFFSET = 56980.875
  MAP_PROJECTION_ROTATION = 0.0
  MAP_PROJECTION_TYPE = SINUSOIDAL
  MAP_RESOLUTION = 1185.42760773333
  MAP_SCALE = 0.05
  MAXIMUM_LATITUDE = 48.0413
  MINIMUM_LATITUDE = 35.6082
  POSITIVE_LONGITUDE_DIRECTION = EAST
  REFERENCE_LATITUDE = "N/A"
  REFERENCE_LONGITUDE = "N/A"
  SAMPLE_FIRST_PIXEL = 1
  SAMPLE_LAST_PIXEL = 1953
  SAMPLE_PROJECTION_OFFSET = 1390.625
  SECOND_STANDARD_PARALLEL = "N/A"
  WESTERNMOST_LONGITUDE = 101.258
END_OBJECT = IMAGE_MAP_PROJECTION
END
