PDS_VERSION_ID = PDS3
/* FILE DATA ELEMENTS */
RECORD_TYPE = UNDEFINED
/* POINTERS TO DATA OBJECTS */
^IMAGE = ("HB634_0000_BL4.TIF")
/* IDENTIFICATION DATA ELEMENTS */
DATA_SET_ID = "MEX-M-HRSC-4-REFDR-MAPPROJECT-EXT4-V4.0"
DATA_SET_NAME = "MARS EXPRESS HRSC MAP PROJECTED REFDR EXTENSION4 V4.0"
DETECTOR_ID = MEX_HRSC_BLUE
EVENT_TYPE = "MARS-REGIONAL-MAPPING-Vo-Pf-Mw"
INSTRUMENT_HOST_ID = MEX
INSTRUMENT_HOST_NAME = "MARS EXPRESS"
INSTRUMENT_ID = HRSC
INSTRUMENT_NAME = "HIGH RESOLUTION STEREO CAMERA"
MISSION_NAME = "MARS EXPRESS"
MISSION_PHASE_NAME = ME_Phase_27
PROCESSING_LEVEL_ID = 4
PRODUCT_CREATION_TIME = 2023-01-30T11:30:59.000Z
PRODUCT_ID = "HB634_0000_BL4.TIF"
RELEASE_ID = 0001
REVISION_ID = 0000
/* QUALITY DATA ELEMENTS */
DATA_QUALITY_ID = 1
DATA_QUALITY_DESC = "Data calculated based on original SPICE kernels"
/* TIME DATA ELEMENTS */
SPACECRAFT_CLOCK_START_COUNT = "1/0309618342.09033"
SPACECRAFT_CLOCK_STOP_COUNT = "1/0309618567.41093"
START_TIME = 2013-02-22T13:06:26.131Z
STOP_TIME = 2013-02-22T13:08:57.421Z
/* ORBITAL DATA ELEMENTS */
ASCENDING_NODE_LONGITUDE = 355.48
MAXIMUM_RESOLUTION = 0.0607
FOOTPRINT_POINT_LATITUDE = (47.5844,47.5705,47.5624,47.5535, 47.5439,47.5263,47.5256,47.5367,47.249, 47.0572,46.8654,46.6737,46.482,46.2902, 46.0986,45.907,45.7153,45.5237,45.3321, 45.1406,44.9491,44.6619,44.4705,44.2791 ,43.9922,43.801,43.6098,43.323,43.132, 42.941,42.6545,42.4636,42.2728,41.9866, 41.7959,41.6053,41.4148,41.2243,41.0339 ,40.8435,40.6533,40.273,39.8929,39.5133 ,39.2288,38.8496,38.4709,38.0925,37.998 ,37.9164,37.9249,37.9345,37.9387, 37.9421,37.9463,37.9464,37.9475,38.3268 ,38.7064,39.0865,39.4669,39.6572, 39.8476,40.0381,40.2287,40.4194,40.6101 ,40.8009,40.9918,41.1828,41.3738, 41.5649,41.7561,42.043,42.2344,42.4258, 42.7131,43.0005,43.1921,43.3838,43.5756 ,43.7675,43.9594,44.1513,44.4393, 44.6313,44.9196,45.1118,45.4001,45.6886 ,45.9771,46.1695,46.3619,46.5544, 46.7469,46.9394,47.1319,47.4208,47.5171 ,47.5844)
FOOTPRINT_POINT_LONGITUDE = (146.062,145.501,145.216,144.928, 144.636,144.154,144.136,144.025,144.056 ,144.075,144.095,144.115,144.134, 144.153,144.171,144.189,144.207,144.225 ,144.243,144.26,144.277,144.302,144.318 ,144.334,144.357,144.373,144.387,144.41 ,144.424,144.438,144.459,144.473, 144.487,144.506,144.519,144.532,144.544 ,144.556,144.569,144.58,144.592,144.615 ,144.637,144.657,144.672,144.693, 144.712,144.73,144.735,144.738,145.121, 145.634,145.903,146.153,146.531,146.547 ,146.553,146.537,146.522,146.505, 146.489,146.481,146.472,146.464,146.455 ,146.446,146.437,146.428,146.419,146.41 ,146.401,146.392,146.382,146.368, 146.358,146.348,146.334,146.318,146.308 ,146.298,146.287,146.277,146.266, 146.255,146.239,146.228,146.211,146.199 ,146.182,146.164,146.146,146.134, 146.121,146.109,146.096,146.083,146.071 ,146.051,146.044,146.062)
ORBIT_NUMBER = 11634
ORBITAL_ECCENTRICITY = 0.573
ORBITAL_INCLINATION = 86.89
ORBITAL_SEMIMAJOR_AXIS = 8799.73
PERIAPSIS_ALTITUDE = 374.86
PERIAPSIS_ARGUMENT_ANGLE = 131.55
PERIAPSIS_TIME = 2013-02-22T13:06:08.000Z
SPACECRAFT_ORIENTATION = (0.0,-1.0,0.0)
^MEX_ORIENTATION_DESC = "MEX_ORIENTATION_DESC.TXT"
SPACECRAFT_POINTING_MODE = ACROSSTRACK
^MEX_POINTING_DESC = "MEX_POINTING_DESC.TXT"
RIGHT_ASCENSION = -1e+32
DECLINATION = -1e+32
OFFSET_ANGLE = -1.0
SPACECRAFT_SOLAR_DISTANCE = 2.0758e+08
TARGET_NAME = MARS
/* CAMERA DATA ELEMENTS */
DETECTOR_TEMPERATURE = 18.5744
FOCAL_PLANE_TEMPERATURE = 8.7872
INST_CMPRS_NAME = "DISCRETE COSINE TRANSFORMATION (DCT)"
INST_CMPRS_RATIO = 4.01567
INST_CMPRS_QUALITY = 0
INST_CMPRS_QUANTZ_TBL_ID = 0
INSTRUMENT_TEMPERATURE = 11.4379
LENS_TEMPERATURE = 9.195
MACROPIXEL_SIZE = 4
MISSING_FRAMES = 0
PIXEL_SUBSAMPLING_FLAG = N
SIGNAL_CHAIN_ID = 2
/* RADIOMETRIC DATA ELEMENTS */
BANDWIDTH = 76.0
CENTER_FILTER_WAVELENGTH = 444.0
RADIANCE_OFFSET = 0.483071
RADIANCE_SCALING_FACTOR = 0.00126293
REFLECTANCE_SCALING_FACTOR = 5.59121e-05
MEX:REFLECTANCE_OFFSET = 0.0213864
/* IMAGE OBJECT DEFINITIONS */
OBJECT = IMAGE
  INTERCHANGE_FORMAT = BINARY
  LINES = 11508
  LINE_SAMPLES = 2238
  SAMPLE_TYPE = UNSIGNED_INTEGER
  SAMPLE_BITS = 8
  BANDS = 1
  BAND_STORAGE_TYPE = BAND_SEQUENTIAL
  MAXIMUM = 254
  MEAN = 138.861
  MINIMUM = 1
  STANDARD_DEVIATION = 41.3307
END_OBJECT = IMAGE
/* MAP OBJECT DEFINITIONS */
OBJECT = IMAGE_MAP_PROJECTION
  ^DATA_SET_MAP_PROJECTION_CATALOG= "DSMAP.CAT"
  A_AXIS_RADIUS = 3396.0
  B_AXIS_RADIUS = 3396.0
  C_AXIS_RADIUS = 3396.0
  CENTER_LATITUDE = 0.0
  CENTER_LONGITUDE = 145.0
  COORDINATE_SYSTEM_NAME = PLANETOGRAPHIC
  COORDINATE_SYSTEM_TYPE = "BODY-FIXED ROTATING"
  EASTERNMOST_LONGITUDE = 146.553
  FIRST_STANDARD_PARALLEL = "N/A"
  LINE_FIRST_PIXEL = 1
  LINE_LAST_PIXEL = 11508
  LINE_PROJECTION_OFFSET = 56438.875
  MAP_PROJECTION_ROTATION = 0.0
  MAP_PROJECTION_TYPE = SINUSOIDAL
  MAP_RESOLUTION = 1185.42760773333
  MAP_SCALE = 0.05
  MAXIMUM_LATITUDE = 47.5844
  MINIMUM_LATITUDE = 37.9164
  POSITIVE_LONGITUDE_DIRECTION = EAST
  REFERENCE_LATITUDE = "N/A"
  REFERENCE_LONGITUDE = "N/A"
  SAMPLE_FIRST_PIXEL = 1
  SAMPLE_LAST_PIXEL = 2238
  SAMPLE_PROJECTION_OFFSET = 789.375
  SECOND_STANDARD_PARALLEL = "N/A"
  WESTERNMOST_LONGITUDE = 144.025
END_OBJECT = IMAGE_MAP_PROJECTION
END
