PDS_VERSION_ID = PDS3
/* FILE DATA ELEMENTS */
RECORD_TYPE = UNDEFINED
/* POINTERS TO DATA OBJECTS */
^IMAGE = ("HB628_0000_S14.TIF")
/* IDENTIFICATION DATA ELEMENTS */
DATA_SET_ID = "MEX-M-HRSC-4-REFDR-MAPPROJECT-EXT4-V4.0"
DATA_SET_NAME = "MARS EXPRESS HRSC MAP PROJECTED REFDR EXTENSION4 V4.0"
DETECTOR_ID = MEX_HRSC_S1
EVENT_TYPE = "MARS-REGIONAL-MAPPING-Te-Gl-Mw"
INSTRUMENT_HOST_ID = MEX
INSTRUMENT_HOST_NAME = "MARS EXPRESS"
INSTRUMENT_ID = HRSC
INSTRUMENT_NAME = "HIGH RESOLUTION STEREO CAMERA"
MISSION_NAME = "MARS EXPRESS"
MISSION_PHASE_NAME = ME_Phase_27
PROCESSING_LEVEL_ID = 4
PRODUCT_CREATION_TIME = 2023-01-30T11:30:59.000Z
PRODUCT_ID = "HB628_0000_S14.TIF"
RELEASE_ID = 0001
REVISION_ID = 0000
/* QUALITY DATA ELEMENTS */
DATA_QUALITY_ID = 1
DATA_QUALITY_DESC = "Data calculated based on original SPICE kernels"
/* TIME DATA ELEMENTS */
SPACECRAFT_CLOCK_START_COUNT = "1/0309467440.08249"
SPACECRAFT_CLOCK_STOP_COUNT = "1/0309467727.56525"
START_TIME = 2013-02-20T19:10:43.673Z
STOP_TIME = 2013-02-20T19:14:06.289Z
/* ORBITAL DATA ELEMENTS */
ASCENDING_NODE_LONGITUDE = 355.59
MAXIMUM_RESOLUTION = 0.0318
FOOTPRINT_POINT_LATITUDE = (42.4703,42.4483,42.4228,42.3875, 42.3865,42.3209,41.8032,41.543,41.1531, 40.8929,40.5034,40.242,39.9834,39.7214, 39.4617,38.9438,38.6813,38.4175,38.0257 ,37.6401,37.379,36.9905,36.7287,36.4669 ,36.0749,35.8129,35.2942,35.0314, 34.7703,34.378,34.1155,33.8542,33.5929, 33.3313,33.0679,32.8054,32.5431,32.2825 ,32.0165,31.4963,31.2342,30.9736, 30.7086,30.4416,30.1715,29.9066,29.6386 ,29.3707,29.2365,29.1891,29.2074, 29.2298,29.2431,29.2435,29.2442,29.6476 ,29.9173,30.186,30.4554,30.8557,31.1184 ,31.3793,31.6412,31.9042,32.1682, 32.4307,32.6941,32.9573,33.4718,33.7335 ,33.9973,34.3894,34.6512,34.9142, 35.1821,35.5804,35.8405,36.1022,36.4949 ,36.7572,37.1492,37.4112,37.93,38.1931, 38.4548,38.7157,39.106,39.368,39.7586, 40.0192,40.2803,40.6716,40.9312,41.1915 ,41.452,41.7126,41.9741,42.2343,42.3645 ,42.4703)
FOOTPRINT_POINT_LONGITUDE = (40.3893,39.8562,39.3178,38.6708, 38.6537,38.6077,38.6388,38.653,38.6742, 38.6878,38.7082,38.7204,38.7341,38.7454 ,38.7579,38.783,38.793,38.8021,38.8174, 38.8359,38.8456,38.8614,38.8699,38.8783 ,38.8907,38.8984,38.916,38.9224,38.9296 ,38.9395,38.9453,38.9515,38.9575,38.963 ,38.9674,38.9719,38.9764,38.9816, 38.9836,38.9933,38.9968,39.0007,39.0021 ,39.0058,39.0079,39.0125,39.0152, 39.0177,39.0187,39.019,39.4677,40.1746, 40.6955,40.7117,40.7175,40.711,40.7064, 40.7019,40.6973,40.6904,40.6857,40.6811 ,40.6764,40.6714,40.6662,40.6611, 40.6559,40.6505,40.6413,40.6359,40.6302 ,40.6219,40.6163,40.6103,40.6036, 40.5939,40.588,40.5818,40.5723,40.5658, 40.556,40.5492,40.5361,40.5288,40.5216, 40.5144,40.5035,40.4959,40.4845,40.4767 ,40.4687,40.4565,40.4484,40.4401, 40.4315,40.4228,40.4139,40.4049,40.4004 ,40.3893)
ORBIT_NUMBER = 11628
ORBITAL_ECCENTRICITY = 0.573
ORBITAL_INCLINATION = 86.89
ORBITAL_SEMIMAJOR_AXIS = 8804.24
PERIAPSIS_ALTITUDE = 373.71
PERIAPSIS_ARGUMENT_ANGLE = 132.58
PERIAPSIS_TIME = 2013-02-20T19:10:00.000Z
SPACECRAFT_ORIENTATION = (0.0,-1.0,0.0)
^MEX_ORIENTATION_DESC = "MEX_ORIENTATION_DESC.TXT"
SPACECRAFT_POINTING_MODE = ACROSSTRACK
^MEX_POINTING_DESC = "MEX_POINTING_DESC.TXT"
RIGHT_ASCENSION = -1e+32
DECLINATION = -1e+32
OFFSET_ANGLE = -0.45
SPACECRAFT_SOLAR_DISTANCE = 2.07475e+08
TARGET_NAME = MARS
/* CAMERA DATA ELEMENTS */
DETECTOR_TEMPERATURE = 17.9627
FOCAL_PLANE_TEMPERATURE = 8.7872
INST_CMPRS_NAME = "DISCRETE COSINE TRANSFORMATION (DCT)"
INST_CMPRS_RATIO = 8.84075
INST_CMPRS_QUALITY = 0
INST_CMPRS_QUANTZ_TBL_ID = 0
INSTRUMENT_TEMPERATURE = 11.6418
LENS_TEMPERATURE = 8.7872
MACROPIXEL_SIZE = 2
MISSING_FRAMES = 0
PIXEL_SUBSAMPLING_FLAG = N
SIGNAL_CHAIN_ID = 1
/* RADIOMETRIC DATA ELEMENTS */
BANDWIDTH = 180.0
CENTER_FILTER_WAVELENGTH = 677.0
RADIANCE_OFFSET = 3.03707
RADIANCE_SCALING_FACTOR = 0.021408
REFLECTANCE_SCALING_FACTOR = 0.000480782
MEX:REFLECTANCE_OFFSET = 0.0682067
/* IMAGE OBJECT DEFINITIONS */
OBJECT = IMAGE
  INTERCHANGE_FORMAT = BINARY
  LINES = 31267
  LINE_SAMPLES = 4002
  SAMPLE_TYPE = UNSIGNED_INTEGER
  SAMPLE_BITS = 8
  BANDS = 1
  BAND_STORAGE_TYPE = BAND_SEQUENTIAL
  MAXIMUM = 255
  MEAN = 117.064
  MINIMUM = 1
  STANDARD_DEVIATION = 51.0961
END_OBJECT = IMAGE
/* MAP OBJECT DEFINITIONS */
OBJECT = IMAGE_MAP_PROJECTION
  ^DATA_SET_MAP_PROJECTION_CATALOG= "DSMAP.CAT"
  A_AXIS_RADIUS = 3396.0
  B_AXIS_RADIUS = 3396.0
  C_AXIS_RADIUS = 3396.0
  CENTER_LATITUDE = 0.0
  CENTER_LONGITUDE = 40.0
  COORDINATE_SYSTEM_NAME = PLANETOGRAPHIC
  COORDINATE_SYSTEM_TYPE = "BODY-FIXED ROTATING"
  EASTERNMOST_LONGITUDE = 40.7175
  FIRST_STANDARD_PARALLEL = "N/A"
  LINE_FIRST_PIXEL = 1
  LINE_LAST_PIXEL = 31267
  LINE_PROJECTION_OFFSET = 100520.75
  MAP_PROJECTION_ROTATION = 0.0
  MAP_PROJECTION_TYPE = SINUSOIDAL
  MAP_RESOLUTION = 2370.85521546667
  MAP_SCALE = 0.025
  MAXIMUM_LATITUDE = 42.4703
  MINIMUM_LATITUDE = 29.1891
  POSITIVE_LONGITUDE_DIRECTION = EAST
  REFERENCE_LATITUDE = "N/A"
  REFERENCE_LONGITUDE = "N/A"
  SAMPLE_FIRST_PIXEL = 1
  SAMPLE_LAST_PIXEL = 4002
  SAMPLE_PROJECTION_OFFSET = 2454.25
  SECOND_STANDARD_PARALLEL = "N/A"
  WESTERNMOST_LONGITUDE = 38.6077
END_OBJECT = IMAGE_MAP_PROJECTION
END
