PDS_VERSION_ID = PDS3
/* FILE DATA ELEMENTS */
RECORD_TYPE = UNDEFINED
/* POINTERS TO DATA OBJECTS */
^IMAGE = ("HB624_0000_IR4.TIF")
/* IDENTIFICATION DATA ELEMENTS */
DATA_SET_ID = "MEX-M-HRSC-4-REFDR-MAPPROJECT-EXT4-V4.0"
DATA_SET_NAME = "MARS EXPRESS HRSC MAP PROJECTED REFDR EXTENSION4 V4.0"
DETECTOR_ID = MEX_HRSC_IR
EVENT_TYPE = "MARS-REGIONAL-MAPPING-Vo-Pf-Eo"
INSTRUMENT_HOST_ID = MEX
INSTRUMENT_HOST_NAME = "MARS EXPRESS"
INSTRUMENT_ID = HRSC
INSTRUMENT_NAME = "HIGH RESOLUTION STEREO CAMERA"
MISSION_NAME = "MARS EXPRESS"
MISSION_PHASE_NAME = ME_Phase_27
PROCESSING_LEVEL_ID = 4
PRODUCT_CREATION_TIME = 2023-01-30T11:30:59.000Z
PRODUCT_ID = "HB624_0000_IR4.TIF"
RELEASE_ID = 0001
REVISION_ID = 0000
/* QUALITY DATA ELEMENTS */
DATA_QUALITY_ID = 1
DATA_QUALITY_DESC = "Data calculated based on original SPICE kernels"
/* TIME DATA ELEMENTS */
SPACECRAFT_CLOCK_START_COUNT = "1/0309366812.08246"
SPACECRAFT_CLOCK_STOP_COUNT = "1/0309367058.63177"
START_TIME = 2013-02-19T15:13:41.534Z
STOP_TIME = 2013-02-19T15:16:26.620Z
/* ORBITAL DATA ELEMENTS */
ASCENDING_NODE_LONGITUDE = 355.67
MAXIMUM_RESOLUTION = 0.063
FOOTPRINT_POINT_LATITUDE = (40.7867,40.7784,40.7666,40.7542, 40.7537,40.6928,40.3746,40.1621,39.9498 ,39.5254,39.3125,39.1001,38.8875, 38.5685,38.356,38.1432,37.8243,37.6117, 37.2921,36.9729,36.76,36.5473,36.2286, 35.9091,35.696,35.4833,35.1639,34.9509, 34.6317,34.4188,34.2061,33.887,33.674, 33.4612,33.2483,33.0356,32.8227,32.6102 ,32.3974,32.0784,31.7596,31.5469, 31.1223,30.9098,30.6973,30.485,30.1664, 30.0598,30.0034,30.0124,30.015,30.0154, 30.0154,30.0166,30.231,30.4433,30.6562, 30.8688,31.0818,31.4012,31.7204,32.04, 32.2532,32.4663,32.6796,32.8923,33.2121 ,33.5317,33.7448,33.9583,34.2784, 34.4914,34.7047,34.9178,35.1313,35.3444 ,35.6641,35.9846,36.1978,36.4111, 36.6242,36.8375,37.1572,37.3704,37.5838 ,37.9035,38.1165,38.3299,38.5428, 38.7561,38.969,39.1822,39.5014,39.7144, 39.9274,40.14,40.353,40.5655,40.6719, 40.7867)
FOOTPRINT_POINT_LONGITUDE = (89.9091,89.296,88.7148,88.2433,88.2275 ,88.1979,88.2107,88.219,88.2271,88.2429 ,88.2503,88.2577,88.2649,88.2753,88.282 ,88.2886,88.2982,88.3043,88.313,88.3215 ,88.3269,88.3323,88.3401,88.3473, 88.3519,88.3565,88.3629,88.367,88.3729, 88.3766,88.3803,88.3855,88.3886,88.3917 ,88.3946,88.3975,88.4001,88.4027, 88.4051,88.4084,88.4115,88.4134,88.4169 ,88.4184,88.4197,88.4209,88.4225,88.423 ,88.4233,89.1735,89.706,90.0817,90.0974 ,90.1025,90.1003,90.0982,90.0958, 90.0935,90.0911,90.0874,90.0837,90.0799 ,90.0773,90.0746,90.0719,90.0694, 90.0653,90.0611,90.0583,90.0554,90.0509 ,90.048,90.045,90.042,90.0388,90.0357, 90.031,90.0258,90.0225,90.0191,90.0158, 90.0123,90.007,90.0035,89.9997,89.9942, 89.9905,89.9865,89.9827,89.9787,89.9748 ,89.9707,89.9646,89.9604,89.9561, 89.9519,89.9474,89.9431,89.9408, 89.9091)
ORBIT_NUMBER = 11624
ORBITAL_ECCENTRICITY = 0.573
ORBITAL_INCLINATION = 86.9
ORBITAL_SEMIMAJOR_AXIS = 8807.72
PERIAPSIS_ALTITUDE = 372.31
PERIAPSIS_ARGUMENT_ANGLE = 133.25
PERIAPSIS_TIME = 2013-02-19T15:12:37.000Z
SPACECRAFT_ORIENTATION = (0.0,-1.0,0.0)
^MEX_ORIENTATION_DESC = "MEX_ORIENTATION_DESC.TXT"
SPACECRAFT_POINTING_MODE = NADIR
^MEX_POINTING_DESC = "MEX_POINTING_DESC.TXT"
RIGHT_ASCENSION = -1e+32
DECLINATION = -1e+32
OFFSET_ANGLE = -1e+32
SPACECRAFT_SOLAR_DISTANCE = 2.07408e+08
TARGET_NAME = MARS
/* CAMERA DATA ELEMENTS */
DETECTOR_TEMPERATURE = 17.5549
FOCAL_PLANE_TEMPERATURE = 8.5833
INST_CMPRS_NAME = "DISCRETE COSINE TRANSFORMATION (DCT)"
INST_CMPRS_RATIO = 6.86964
INST_CMPRS_QUALITY = 0
INST_CMPRS_QUANTZ_TBL_ID = 0
INSTRUMENT_TEMPERATURE = 11.8457
LENS_TEMPERATURE = 8.5833
MACROPIXEL_SIZE = 4
MISSING_FRAMES = 0
PIXEL_SUBSAMPLING_FLAG = N
SIGNAL_CHAIN_ID = 2
/* RADIOMETRIC DATA ELEMENTS */
BANDWIDTH = 81.0
CENTER_FILTER_WAVELENGTH = 955.5
RADIANCE_OFFSET = 0.623835
RADIANCE_SCALING_FACTOR = 0.00388052
REFLECTANCE_SCALING_FACTOR = 0.000360138
MEX:REFLECTANCE_OFFSET = 0.0578962
/* IMAGE OBJECT DEFINITIONS */
OBJECT = IMAGE
  INTERCHANGE_FORMAT = BINARY
  LINES = 12731
  LINE_SAMPLES = 1889
  SAMPLE_TYPE = UNSIGNED_INTEGER
  SAMPLE_BITS = 8
  BANDS = 1
  BAND_STORAGE_TYPE = BAND_SEQUENTIAL
  MAXIMUM = 255
  MEAN = 137.643
  MINIMUM = 1
  STANDARD_DEVIATION = 48.7318
END_OBJECT = IMAGE
/* MAP OBJECT DEFINITIONS */
OBJECT = IMAGE_MAP_PROJECTION
  ^DATA_SET_MAP_PROJECTION_CATALOG= "DSMAP.CAT"
  A_AXIS_RADIUS = 3396.0
  B_AXIS_RADIUS = 3396.0
  C_AXIS_RADIUS = 3396.0
  CENTER_LATITUDE = 0.0
  CENTER_LONGITUDE = 89.0
  COORDINATE_SYSTEM_NAME = PLANETOGRAPHIC
  COORDINATE_SYSTEM_TYPE = "BODY-FIXED ROTATING"
  EASTERNMOST_LONGITUDE = 90.10250000000001
  FIRST_STANDARD_PARALLEL = "N/A"
  LINE_FIRST_PIXEL = 1
  LINE_LAST_PIXEL = 12731
  LINE_PROJECTION_OFFSET = 48311.375
  MAP_PROJECTION_ROTATION = 0.0
  MAP_PROJECTION_TYPE = SINUSOIDAL
  MAP_RESOLUTION = 1185.42760773333
  MAP_SCALE = 0.05
  MAXIMUM_LATITUDE = 40.7867
  MINIMUM_LATITUDE = 30.0034
  POSITIVE_LONGITUDE_DIRECTION = EAST
  REFERENCE_LATITUDE = "N/A"
  REFERENCE_LONGITUDE = "N/A"
  SAMPLE_FIRST_PIXEL = 1
  SAMPLE_LAST_PIXEL = 1889
  SAMPLE_PROJECTION_OFFSET = 735.375
  SECOND_STANDARD_PARALLEL = "N/A"
  WESTERNMOST_LONGITUDE = 88.1979
END_OBJECT = IMAGE_MAP_PROJECTION
END
