PDS_VERSION_ID = PDS3
/* FILE DATA ELEMENTS */
RECORD_TYPE = UNDEFINED
/* POINTERS TO DATA OBJECTS */
^IMAGE = ("HB619_0000_P14.TIF")
/* IDENTIFICATION DATA ELEMENTS */
DATA_SET_ID = "MEX-M-HRSC-4-REFDR-MAPPROJECT-EXT4-V4.0"
DATA_SET_NAME = "MARS EXPRESS HRSC MAP PROJECTED REFDR EXTENSION4 V4.0"
DETECTOR_ID = MEX_HRSC_P1
EVENT_TYPE = "MARS-REGIONAL-MAPPING-Vo-Te"
INSTRUMENT_HOST_ID = MEX
INSTRUMENT_HOST_NAME = "MARS EXPRESS"
INSTRUMENT_ID = HRSC
INSTRUMENT_NAME = "HIGH RESOLUTION STEREO CAMERA"
MISSION_NAME = "MARS EXPRESS"
MISSION_PHASE_NAME = ME_Phase_27
PROCESSING_LEVEL_ID = 4
PRODUCT_CREATION_TIME = 2023-01-30T11:30:59.000Z
PRODUCT_ID = "HB619_0000_P14.TIF"
RELEASE_ID = 0001
REVISION_ID = 0000
/* QUALITY DATA ELEMENTS */
DATA_QUALITY_ID = 1
DATA_QUALITY_DESC = "Data calculated based on original SPICE kernels"
/* TIME DATA ELEMENTS */
SPACECRAFT_CLOCK_START_COUNT = "1/0309241002.09055"
SPACECRAFT_CLOCK_STOP_COUNT = "1/0309241290.40978"
START_TIME = 2013-02-18T04:16:57.193Z
STOP_TIME = 2013-02-18T04:20:21.246Z
/* ORBITAL DATA ELEMENTS */
ASCENDING_NODE_LONGITUDE = 355.77
MAXIMUM_RESOLUTION = 0.0606
FOOTPRINT_POINT_LATITUDE = (40.1544,40.1625,40.1653,40.1655, 40.1654,40.1526,39.7607,39.499,39.237, 38.9751,38.7134,38.4517,38.1904,37.9284 ,37.536,37.1431,36.8811,36.6192,36.2265 ,35.9646,35.7028,35.4409,35.1795, 34.9176,34.6561,34.2643,33.8729,33.4799 ,33.219,32.9579,32.6966,32.3046,32.0439 ,31.5228,31.1318,30.8711,30.6104, 30.0903,29.6928,29.4257,29.1591,28.8922 ,28.6255,28.3591,28.0871,27.8138, 27.5407,27.1312,26.9948,26.9799,26.9759 ,26.9668,26.9574,26.9492,26.9487, 26.9496,27.3594,27.6328,27.9066,28.3162 ,28.5829,28.8498,29.1169,29.3843, 29.6517,30.05,30.5714,30.8323,31.2235, 31.6155,31.877,32.1381,32.3992,32.6604, 32.9218,33.1837,33.4458,33.8384,34.1002 ,34.4932,34.8865,35.1487,35.4099, 35.8032,36.0661,36.3288,36.7228,37.116, 37.3787,37.7722,38.0349,38.2972,38.6906 ,38.9534,39.2151,39.4774,39.7392, 40.0007,40.1317,40.1544)
FOOTPRINT_POINT_LONGITUDE = (241.81,241.14,240.637,240.141,240.126, 240.122,240.132,240.139,240.145,240.151 ,240.156,240.162,240.167,240.172, 240.179,240.186,240.19,240.194,240.199, 240.203,240.206,240.209,240.212,240.214 ,240.217,240.22,240.223,240.225,240.226 ,240.228,240.229,240.23,240.23,240.231, 240.231,240.231,240.231,240.23,240.228, 240.227,240.226,240.225,240.223,240.221 ,240.219,240.217,240.215,240.212,240.21 ,240.21,240.564,241.11,241.551,241.87, 241.886,241.891,241.89,241.89,241.889, 241.888,241.887,241.887,241.886,241.885 ,241.884,241.883,241.881,241.881, 241.879,241.878,241.876,241.875,241.875 ,241.874,241.873,241.871,241.87,241.868 ,241.867,241.864,241.862,241.86,241.86, 241.857,241.855,241.852,241.849,241.846 ,241.844,241.841,241.838,241.836, 241.833,241.83,241.828,241.825,241.824, 241.822,241.82,241.81)
ORBIT_NUMBER = 11619
ORBITAL_ECCENTRICITY = 0.573
ORBITAL_INCLINATION = 86.9
ORBITAL_SEMIMAJOR_AXIS = 8808.18
PERIAPSIS_ALTITUDE = 372.0
PERIAPSIS_ARGUMENT_ANGLE = 134.1
PERIAPSIS_TIME = 2013-02-18T04:15:50.000Z
SPACECRAFT_ORIENTATION = (0.0,-1.0,0.0)
^MEX_ORIENTATION_DESC = "MEX_ORIENTATION_DESC.TXT"
SPACECRAFT_POINTING_MODE = ACROSSTRACK
^MEX_POINTING_DESC = "MEX_POINTING_DESC.TXT"
RIGHT_ASCENSION = -1e+32
DECLINATION = -1e+32
OFFSET_ANGLE = 0.6
SPACECRAFT_SOLAR_DISTANCE = 2.07329e+08
TARGET_NAME = MARS
/* CAMERA DATA ELEMENTS */
DETECTOR_TEMPERATURE = 18.3705
FOCAL_PLANE_TEMPERATURE = 9.3989
INST_CMPRS_NAME = "DISCRETE COSINE TRANSFORMATION (DCT)"
INST_CMPRS_RATIO = 7.30433
INST_CMPRS_QUALITY = 0
INST_CMPRS_QUANTZ_TBL_ID = 0
INSTRUMENT_TEMPERATURE = 12.2535
LENS_TEMPERATURE = 10.2145
MACROPIXEL_SIZE = 4
MISSING_FRAMES = 0
PIXEL_SUBSAMPLING_FLAG = N
SIGNAL_CHAIN_ID = 3
/* RADIOMETRIC DATA ELEMENTS */
BANDWIDTH = 174.0
CENTER_FILTER_WAVELENGTH = 675.0
RADIANCE_OFFSET = 3.17487
RADIANCE_SCALING_FACTOR = 0.0204085
REFLECTANCE_SCALING_FACTOR = 0.000471864
MEX:REFLECTANCE_OFFSET = 0.073406
/* IMAGE OBJECT DEFINITIONS */
OBJECT = IMAGE
  INTERCHANGE_FORMAT = BINARY
  LINES = 15617
  LINE_SAMPLES = 1832
  SAMPLE_TYPE = UNSIGNED_INTEGER
  SAMPLE_BITS = 8
  BANDS = 1
  BAND_STORAGE_TYPE = BAND_SEQUENTIAL
  MAXIMUM = 255
  MEAN = 93.5804
  MINIMUM = 1
  STANDARD_DEVIATION = 42.0442
END_OBJECT = IMAGE
/* MAP OBJECT DEFINITIONS */
OBJECT = IMAGE_MAP_PROJECTION
  ^DATA_SET_MAP_PROJECTION_CATALOG= "DSMAP.CAT"
  A_AXIS_RADIUS = 3396.0
  B_AXIS_RADIUS = 3396.0
  C_AXIS_RADIUS = 3396.0
  CENTER_LATITUDE = 0.0
  CENTER_LONGITUDE = 241.0
  COORDINATE_SYSTEM_NAME = PLANETOGRAPHIC
  COORDINATE_SYSTEM_TYPE = "BODY-FIXED ROTATING"
  EASTERNMOST_LONGITUDE = 241.891
  FIRST_STANDARD_PARALLEL = "N/A"
  LINE_FIRST_PIXEL = 1
  LINE_LAST_PIXEL = 15617
  LINE_PROJECTION_OFFSET = 47574.625
  MAP_PROJECTION_ROTATION = 0.0
  MAP_PROJECTION_TYPE = SINUSOIDAL
  MAP_RESOLUTION = 1185.42760773333
  MAP_SCALE = 0.05
  MAXIMUM_LATITUDE = 40.1655
  MINIMUM_LATITUDE = 26.9487
  POSITIVE_LONGITUDE_DIRECTION = EAST
  REFERENCE_LATITUDE = "N/A"
  REFERENCE_LONGITUDE = "N/A"
  SAMPLE_FIRST_PIXEL = 1
  SAMPLE_LAST_PIXEL = 1832
  SAMPLE_PROJECTION_OFFSET = 870.125
  SECOND_STANDARD_PARALLEL = "N/A"
  WESTERNMOST_LONGITUDE = 240.122
END_OBJECT = IMAGE_MAP_PROJECTION
END
