PDS_VERSION_ID = PDS3
/* FILE DATA ELEMENTS */
RECORD_TYPE = UNDEFINED
/* POINTERS TO DATA OBJECTS */
^IMAGE = ("HB617_0000_S24.TIF")
/* IDENTIFICATION DATA ELEMENTS */
DATA_SET_ID = "MEX-M-HRSC-4-REFDR-MAPPROJECT-EXT4-V4.0"
DATA_SET_NAME = "MARS EXPRESS HRSC MAP PROJECTED REFDR EXTENSION4 V4.0"
DETECTOR_ID = MEX_HRSC_S2
EVENT_TYPE = "MARS-REGIONAL-MAPPING-Vo-Pf-Mw"
INSTRUMENT_HOST_ID = MEX
INSTRUMENT_HOST_NAME = "MARS EXPRESS"
INSTRUMENT_ID = HRSC
INSTRUMENT_NAME = "HIGH RESOLUTION STEREO CAMERA"
MISSION_NAME = "MARS EXPRESS"
MISSION_PHASE_NAME = ME_Phase_27
PROCESSING_LEVEL_ID = 4
PRODUCT_CREATION_TIME = 2023-01-30T11:30:59.000Z
PRODUCT_ID = "HB617_0000_S24.TIF"
RELEASE_ID = 0001
REVISION_ID = 0000
/* QUALITY DATA ELEMENTS */
DATA_QUALITY_ID = 1
DATA_QUALITY_DESC = "Data calculated based on original SPICE kernels"
/* TIME DATA ELEMENTS */
SPACECRAFT_CLOCK_START_COUNT = "1/0309190638.09068"
SPACECRAFT_CLOCK_STOP_COUNT = "1/0309190901.01485"
START_TIME = 2013-02-17T14:18:29.701Z
STOP_TIME = 2013-02-17T14:21:42.512Z
/* ORBITAL DATA ELEMENTS */
ASCENDING_NODE_LONGITUDE = 355.8
MAXIMUM_RESOLUTION = 0.0323
FOOTPRINT_POINT_LATITUDE = (42.7589,42.7398,42.7224,42.7037, 42.7031,42.7794,42.5363,42.2936,42.0516 ,41.8094,41.5676,41.2054,40.9641, 40.7231,40.3619,40.1217,39.8817,39.6412 ,39.4017,39.1625,38.9234,38.5649, 38.3267,37.9694,37.7313,37.494,37.1381, 36.9013,36.5466,36.3106,36.0748,35.8392 ,35.6039,35.3689,35.0166,34.7826, 34.5491,34.199,33.6161,33.1468,32.9093, 32.6721,32.3162,32.0796,31.8436,31.4817 ,31.2402,30.9993,30.8789,30.8601, 30.8676,30.8782,30.8847,30.8954,30.8957 ,30.8963,31.1375,31.379,31.6213,31.8631 ,32.0997,32.3368,32.574,32.9308,33.1688 ,33.407,33.8724,34.2226,34.4565,34.8078 ,35.1599,35.3947,35.63,35.8656,36.101, 36.3373,36.5742,36.9299,37.2858,37.5235 ,37.7614,38.1192,38.3579,38.5965, 38.9556,39.1948,39.435,39.7944,40.1558, 40.3969,40.7589,41.0002,41.2417,41.605, 41.8469,42.0901,42.3325,42.6972,42.8188 ,42.7589)
FOOTPRINT_POINT_LONGITUDE = (85.9293,85.273,84.7268,84.1856,84.1688 ,84.1488,84.158,84.1669,84.1755,84.1838 ,84.1919,84.2036,84.211,84.2182,84.2287 ,84.2352,84.2416,84.2479,84.2538, 84.2595,84.265,84.2729,84.2779,84.285, 84.2895,84.2937,84.2998,84.3036,84.3089 ,84.3122,84.3153,84.3183,84.321,84.3237 ,84.3273,84.3294,84.3314,84.334,84.3378 ,84.34,84.3408,84.3415,84.3423,84.3427, 84.3428,84.3428,84.3426,84.3422,84.3419 ,84.3419,84.6659,85.1981,85.5269, 86.1024,86.12,86.1263,86.124,86.1216, 86.1195,86.1172,86.115,86.1128,86.1104, 86.107,86.1045,86.1022,86.0974,86.0938, 86.0914,86.0878,86.084,86.0814,86.0787, 86.0761,86.0731,86.0704,86.0679,86.0639 ,86.0596,86.0567,86.0537,86.0495, 86.0465,86.0432,86.0385,86.0351,86.032, 86.0265,86.0217,86.0184,86.0132,86.0095 ,86.0057,86.0002,85.9961,85.9926, 85.9885,85.9825,85.9804,85.9293)
ORBIT_NUMBER = 11617
ORBITAL_ECCENTRICITY = 0.573
ORBITAL_INCLINATION = 86.91
ORBITAL_SEMIMAJOR_AXIS = 8809.41
PERIAPSIS_ALTITUDE = 371.59
PERIAPSIS_ARGUMENT_ANGLE = 134.46
PERIAPSIS_TIME = 2013-02-17T14:17:13.000Z
SPACECRAFT_ORIENTATION = (0.0,-1.0,0.0)
^MEX_ORIENTATION_DESC = "MEX_ORIENTATION_DESC.TXT"
SPACECRAFT_POINTING_MODE = ACROSSTRACK
^MEX_POINTING_DESC = "MEX_POINTING_DESC.TXT"
RIGHT_ASCENSION = -1e+32
DECLINATION = -1e+32
OFFSET_ANGLE = 0.4
SPACECRAFT_SOLAR_DISTANCE = 2.07299e+08
TARGET_NAME = MARS
/* CAMERA DATA ELEMENTS */
DETECTOR_TEMPERATURE = 18.9822
FOCAL_PLANE_TEMPERATURE = 8.1755
INST_CMPRS_NAME = "DISCRETE COSINE TRANSFORMATION (DCT)"
INST_CMPRS_RATIO = 12.223
INST_CMPRS_QUALITY = 0
INST_CMPRS_QUANTZ_TBL_ID = 0
INSTRUMENT_TEMPERATURE = 11.0301
LENS_TEMPERATURE = 8.5833
MACROPIXEL_SIZE = 2
MISSING_FRAMES = 0
PIXEL_SUBSAMPLING_FLAG = N
SIGNAL_CHAIN_ID = 1
/* RADIOMETRIC DATA ELEMENTS */
BANDWIDTH = 178.0
CENTER_FILTER_WAVELENGTH = 679.0
RADIANCE_OFFSET = 2.36225
RADIANCE_SCALING_FACTOR = 0.0135229
REFLECTANCE_SCALING_FACTOR = 0.000307745
MEX:REFLECTANCE_OFFSET = 0.0537585
/* IMAGE OBJECT DEFINITIONS */
OBJECT = IMAGE
  INTERCHANGE_FORMAT = BINARY
  LINES = 28335
  LINE_SAMPLES = 3657
  SAMPLE_TYPE = UNSIGNED_INTEGER
  SAMPLE_BITS = 8
  BANDS = 1
  BAND_STORAGE_TYPE = BAND_SEQUENTIAL
  MAXIMUM = 255
  MEAN = 127.227
  MINIMUM = 1
  STANDARD_DEVIATION = 61.4498
END_OBJECT = IMAGE
/* MAP OBJECT DEFINITIONS */
OBJECT = IMAGE_MAP_PROJECTION
  ^DATA_SET_MAP_PROJECTION_CATALOG= "DSMAP.CAT"
  A_AXIS_RADIUS = 3396.0
  B_AXIS_RADIUS = 3396.0
  C_AXIS_RADIUS = 3396.0
  CENTER_LATITUDE = 0.0
  CENTER_LONGITUDE = 85.0
  COORDINATE_SYSTEM_NAME = PLANETOGRAPHIC
  COORDINATE_SYSTEM_TYPE = "BODY-FIXED ROTATING"
  EASTERNMOST_LONGITUDE = 86.1263
  FIRST_STANDARD_PARALLEL = "N/A"
  LINE_FIRST_PIXEL = 1
  LINE_LAST_PIXEL = 28335
  LINE_PROJECTION_OFFSET = 101482.25
  MAP_PROJECTION_ROTATION = 0.0
  MAP_PROJECTION_TYPE = SINUSOIDAL
  MAP_RESOLUTION = 2370.85521546667
  MAP_SCALE = 0.025
  MAXIMUM_LATITUDE = 42.8188
  MINIMUM_LATITUDE = 30.8601
  POSITIVE_LONGITUDE_DIRECTION = EAST
  REFERENCE_LATITUDE = "N/A"
  REFERENCE_LONGITUDE = "N/A"
  SAMPLE_FIRST_PIXEL = 1
  SAMPLE_LAST_PIXEL = 3657
  SAMPLE_PROJECTION_OFFSET = 1466.25
  SECOND_STANDARD_PARALLEL = "N/A"
  WESTERNMOST_LONGITUDE = 84.14879999999999
END_OBJECT = IMAGE_MAP_PROJECTION
END
