PDS_VERSION_ID = PDS3
/* FILE DATA ELEMENTS */
RECORD_TYPE = UNDEFINED
/* POINTERS TO DATA OBJECTS */
^IMAGE = ("HB611_0000_S14.TIF")
/* IDENTIFICATION DATA ELEMENTS */
DATA_SET_ID = "MEX-M-HRSC-4-REFDR-MAPPROJECT-EXT4-V4.0"
DATA_SET_NAME = "MARS EXPRESS HRSC MAP PROJECTED REFDR EXTENSION4 V4.0"
DETECTOR_ID = MEX_HRSC_S1
EVENT_TYPE = "MARS-REGIONAL-MAPPING-Vo-Fl-Pf"
INSTRUMENT_HOST_ID = MEX
INSTRUMENT_HOST_NAME = "MARS EXPRESS"
INSTRUMENT_ID = HRSC
INSTRUMENT_NAME = "HIGH RESOLUTION STEREO CAMERA"
MISSION_NAME = "MARS EXPRESS"
MISSION_PHASE_NAME = ME_Phase_27
PROCESSING_LEVEL_ID = 4
PRODUCT_CREATION_TIME = 2023-01-30T11:30:59.000Z
PRODUCT_ID = "HB611_0000_S14.TIF"
RELEASE_ID = 0001
REVISION_ID = 0000
/* QUALITY DATA ELEMENTS */
DATA_QUALITY_ID = 1
DATA_QUALITY_DESC = "Data calculated based on original SPICE kernels"
/* TIME DATA ELEMENTS */
SPACECRAFT_CLOCK_START_COUNT = "1/0309039686.09029"
SPACECRAFT_CLOCK_STOP_COUNT = "1/0309039990.00973"
START_TIME = 2013-02-15T20:21:29.639Z
STOP_TIME = 2013-02-15T20:25:09.542Z
/* ORBITAL DATA ELEMENTS */
ASCENDING_NODE_LONGITUDE = 355.92
MAXIMUM_RESOLUTION = 0.0319
FOOTPRINT_POINT_LATITUDE = (41.086,41.0713,41.0628,41.0534,41.0432 ,41.0277,41.0269,40.9434,40.6611, 40.3787,40.0961,39.8132,39.3888,38.9638 ,38.5384,38.1127,37.6869,37.4028, 36.9766,36.5502,36.2659,35.8388,35.5541 ,35.2694,34.9846,34.6993,34.4142, 33.9869,33.5592,33.2732,32.9878,32.5604 ,32.2749,31.8466,31.4184,31.1329, 30.7048,30.2765,29.991,29.5627,29.1346, 28.8492,28.5636,28.2783,27.8503,27.5649 ,27.1267,26.8339,26.6874,26.6802, 26.6904,26.6962,26.7029,26.7071,26.7119 ,26.712,26.7126,27.1525,27.592,27.8777, 28.1628,28.4492,28.7351,29.0216,29.3075 ,29.7363,30.0217,30.3084,30.7375, 31.0235,31.4521,31.7389,32.0249,32.4539 ,32.74,33.1686,33.4543,33.8829,34.3115, 34.5973,35.0257,35.3112,35.7383,36.0245 ,36.4527,36.8801,37.1651,37.5917, 37.8767,38.3032,38.5873,38.8719,39.156, 39.4397,39.8655,40.1491,40.4323,40.857, 40.9986,41.086)
FOOTPRINT_POINT_LONGITUDE = (338.337,337.818,337.557,337.296, 337.034,336.671,336.655,336.608,336.622 ,336.636,336.649,336.662,336.681, 336.699,336.716,336.733,336.748,336.758 ,336.773,336.787,336.796,336.809, 336.817,336.824,336.832,336.839,336.846 ,336.856,336.865,336.871,336.877, 336.885,336.89,336.897,336.903,336.907, 336.912,336.917,336.92,336.924,336.928, 336.93,336.931,336.933,336.935,336.936, 336.937,336.938,336.938,336.938,337.325 ,337.582,337.934,338.174,338.572, 338.588,338.593,338.589,338.584,338.581 ,338.578,338.575,338.572,338.568, 338.565,338.56,338.556,338.552,338.547, 338.543,338.538,338.533,338.529,338.523 ,338.519,338.513,338.508,338.502, 338.495,338.49,338.483,338.478,338.471, 338.465,338.457,338.449,338.444,338.436 ,338.43,338.421,338.415,338.409,338.403 ,338.396,338.387,338.38,338.373,338.363 ,338.359,338.337)
ORBIT_NUMBER = 11611
ORBITAL_ECCENTRICITY = 0.573
ORBITAL_INCLINATION = 86.9
ORBITAL_SEMIMAJOR_AXIS = 8802.79
PERIAPSIS_ALTITUDE = 371.85
PERIAPSIS_ARGUMENT_ANGLE = 135.5
PERIAPSIS_TIME = 2013-02-15T20:21:10.000Z
SPACECRAFT_ORIENTATION = (0.0,-1.0,0.0)
^MEX_ORIENTATION_DESC = "MEX_ORIENTATION_DESC.TXT"
SPACECRAFT_POINTING_MODE = ACROSSTRACK
^MEX_POINTING_DESC = "MEX_POINTING_DESC.TXT"
RIGHT_ASCENSION = -1e+32
DECLINATION = -1e+32
OFFSET_ANGLE = -0.25
SPACECRAFT_SOLAR_DISTANCE = 2.07211e+08
TARGET_NAME = MARS
/* CAMERA DATA ELEMENTS */
DETECTOR_TEMPERATURE = 17.7588
FOCAL_PLANE_TEMPERATURE = 9.195
INST_CMPRS_NAME = "DISCRETE COSINE TRANSFORMATION (DCT)"
INST_CMPRS_RATIO = 10.9572
INST_CMPRS_QUALITY = 0
INST_CMPRS_QUANTZ_TBL_ID = 0
INSTRUMENT_TEMPERATURE = 11.8457
LENS_TEMPERATURE = 9.6028
MACROPIXEL_SIZE = 2
MISSING_FRAMES = 0
PIXEL_SUBSAMPLING_FLAG = N
SIGNAL_CHAIN_ID = 1
/* RADIOMETRIC DATA ELEMENTS */
BANDWIDTH = 180.0
CENTER_FILTER_WAVELENGTH = 677.0
RADIANCE_OFFSET = 2.70456
RADIANCE_SCALING_FACTOR = 0.013788
REFLECTANCE_SCALING_FACTOR = 0.000308866
MEX:REFLECTANCE_OFFSET = 0.0605853
/* IMAGE OBJECT DEFINITIONS */
OBJECT = IMAGE
  INTERCHANGE_FORMAT = BINARY
  LINES = 33897
  LINE_SAMPLES = 3819
  SAMPLE_TYPE = UNSIGNED_INTEGER
  SAMPLE_BITS = 8
  BANDS = 1
  BAND_STORAGE_TYPE = BAND_SEQUENTIAL
  MAXIMUM = 255
  MEAN = 119.519
  MINIMUM = 1
  STANDARD_DEVIATION = 48.2026
END_OBJECT = IMAGE
/* MAP OBJECT DEFINITIONS */
OBJECT = IMAGE_MAP_PROJECTION
  ^DATA_SET_MAP_PROJECTION_CATALOG= "DSMAP.CAT"
  A_AXIS_RADIUS = 3396.0
  B_AXIS_RADIUS = 3396.0
  C_AXIS_RADIUS = 3396.0
  CENTER_LATITUDE = 0.0
  CENTER_LONGITUDE = 338.0
  COORDINATE_SYSTEM_NAME = PLANETOGRAPHIC
  COORDINATE_SYSTEM_TYPE = "BODY-FIXED ROTATING"
  EASTERNMOST_LONGITUDE = 338.593
  FIRST_STANDARD_PARALLEL = "N/A"
  LINE_FIRST_PIXEL = 1
  LINE_LAST_PIXEL = 33897
  LINE_PROJECTION_OFFSET = 97242.25
  MAP_PROJECTION_ROTATION = 0.0
  MAP_PROJECTION_TYPE = SINUSOIDAL
  MAP_RESOLUTION = 2370.85521546667
  MAP_SCALE = 0.025
  MAXIMUM_LATITUDE = 41.086
  MINIMUM_LATITUDE = 26.6802
  POSITIVE_LONGITUDE_DIRECTION = EAST
  REFERENCE_LATITUDE = "N/A"
  REFERENCE_LONGITUDE = "N/A"
  SAMPLE_FIRST_PIXEL = 1
  SAMPLE_LAST_PIXEL = 3819
  SAMPLE_PROJECTION_OFFSET = 2503.25
  SECOND_STANDARD_PARALLEL = "N/A"
  WESTERNMOST_LONGITUDE = 336.608
END_OBJECT = IMAGE_MAP_PROJECTION
END
