PDS_VERSION_ID = PDS3
/* FILE DATA ELEMENTS */
RECORD_TYPE = UNDEFINED
/* POINTERS TO DATA OBJECTS */
^IMAGE = ("HB604_0000_P14.TIF")
/* IDENTIFICATION DATA ELEMENTS */
DATA_SET_ID = "MEX-M-HRSC-4-REFDR-MAPPROJECT-EXT4-V4.0"
DATA_SET_NAME = "MARS EXPRESS HRSC MAP PROJECTED REFDR EXTENSION4 V4.0"
DETECTOR_ID = MEX_HRSC_P1
EVENT_TYPE = "MARS-REGIONAL-MAPPING-Vo-Fl-Pf"
INSTRUMENT_HOST_ID = MEX
INSTRUMENT_HOST_NAME = "MARS EXPRESS"
INSTRUMENT_ID = HRSC
INSTRUMENT_NAME = "HIGH RESOLUTION STEREO CAMERA"
MISSION_NAME = "MARS EXPRESS"
MISSION_PHASE_NAME = ME_Phase_27
PROCESSING_LEVEL_ID = 4
PRODUCT_CREATION_TIME = 2023-01-30T11:30:59.000Z
PRODUCT_ID = "HB604_0000_P14.TIF"
RELEASE_ID = 0001
REVISION_ID = 0000
/* QUALITY DATA ELEMENTS */
DATA_QUALITY_ID = 1
DATA_QUALITY_DESC = "Data calculated based on original SPICE kernels"
/* TIME DATA ELEMENTS */
SPACECRAFT_CLOCK_START_COUNT = "1/0308863738.09056"
SPACECRAFT_CLOCK_STOP_COUNT = "1/0308864034.14693"
START_TIME = 2013-02-13T19:29:13.883Z
STOP_TIME = 2013-02-13T19:32:27.553Z
/* ORBITAL DATA ELEMENTS */
ASCENDING_NODE_LONGITUDE = 356.06
MAXIMUM_RESOLUTION = 0.0334
FOOTPRINT_POINT_LATITUDE = (28.6121,28.601,28.5874,28.5676,28.5671 ,28.5299,28.1919,27.7416,27.1781, 26.8324,26.6014,26.0242,25.5628,25.3281 ,24.9735,24.7371,24.5012,24.2647, 24.0292,23.7881,23.5465,23.3049,23.0637 ,22.8221,22.5795,22.3323,21.9629, 21.7162,21.4696,21.2193,20.9675,20.7153 ,20.4636,20.2122,19.9547,19.5688, 19.3118,19.0538,18.7915,18.3984,18.1364 ,17.8706,17.6032,17.3365,17.0694, 16.7975,16.3886,16.2529,16.2296,16.2381 ,16.2441,16.2479,16.2504,16.2516, 16.2517,16.2524,16.5247,16.7979,17.0692 ,17.4721,17.7396,18.1404,18.4031, 18.6655,18.9283,19.1897,19.4467,19.7043 ,19.9625,20.3468,20.5989,20.8512, 21.1036,21.4816,21.7283,21.9755,22.2233 ,22.47,22.7163,22.9579,23.1999,23.4418, 23.6837,24.0467,24.2831,24.5196,24.7563 ,24.9933,25.3489,25.5843,26.0466, 26.2777,26.5093,26.8563,27.3158,27.6543 ,27.9929,28.4446,28.5576,28.6121)
FOOTPRINT_POINT_LONGITUDE = (333.704,333.216,332.722,332.127, 332.111,332.073,332.076,332.08,332.084, 332.086,332.087,332.089,332.09,332.09, 332.091,332.091,332.091,332.09,332.09, 332.089,332.089,332.088,332.087,332.086 ,332.084,332.083,332.081,332.079, 332.077,332.075,332.073,332.07,332.068, 332.065,332.062,332.057,332.054,332.05, 332.047,332.041,332.037,332.033,332.028 ,332.024,332.019,332.014,332.006, 332.003,332.003,332.471,332.883,333.291 ,333.573,333.819,333.837,333.843, 333.841,333.839,333.837,333.833,333.831 ,333.828,333.825,333.823,333.821, 333.819,333.816,333.814,333.811,333.808 ,333.805,333.803,333.8,333.797,333.794, 333.792,333.789,333.786,333.784,333.781 ,333.779,333.776,333.773,333.769, 333.766,333.763,333.76,333.758,333.753, 333.75,333.744,333.741,333.738,333.733, 333.727,333.722,333.717,333.711,333.709 ,333.704)
ORBIT_NUMBER = 11604
ORBITAL_ECCENTRICITY = 0.573
ORBITAL_INCLINATION = 86.9
ORBITAL_SEMIMAJOR_AXIS = 8804.62
PERIAPSIS_ALTITUDE = 371.1
PERIAPSIS_ARGUMENT_ANGLE = 136.72
PERIAPSIS_TIME = 2013-02-13T19:25:49.000Z
SPACECRAFT_ORIENTATION = (0.0,-1.0,0.0)
^MEX_ORIENTATION_DESC = "MEX_ORIENTATION_DESC.TXT"
SPACECRAFT_POINTING_MODE = ACROSSTRACK
^MEX_POINTING_DESC = "MEX_POINTING_DESC.TXT"
RIGHT_ASCENSION = -1e+32
DECLINATION = -1e+32
OFFSET_ANGLE = -0.539
SPACECRAFT_SOLAR_DISTANCE = 2.07118e+08
TARGET_NAME = MARS
/* CAMERA DATA ELEMENTS */
DETECTOR_TEMPERATURE = 17.5549
FOCAL_PLANE_TEMPERATURE = 8.5833
INST_CMPRS_NAME = "DISCRETE COSINE TRANSFORMATION (DCT)"
INST_CMPRS_RATIO = 8.54375
INST_CMPRS_QUALITY = 0
INST_CMPRS_QUANTZ_TBL_ID = 0
INSTRUMENT_TEMPERATURE = 11.6418
LENS_TEMPERATURE = 9.195
MACROPIXEL_SIZE = 2
MISSING_FRAMES = 0
PIXEL_SUBSAMPLING_FLAG = N
SIGNAL_CHAIN_ID = 3
/* RADIOMETRIC DATA ELEMENTS */
BANDWIDTH = 174.0
CENTER_FILTER_WAVELENGTH = 675.0
RADIANCE_OFFSET = 3.30658
RADIANCE_SCALING_FACTOR = 0.0164624
REFLECTANCE_SCALING_FACTOR = 0.000379853
MEX:REFLECTANCE_OFFSET = 0.0762957
/* IMAGE OBJECT DEFINITIONS */
OBJECT = IMAGE
  INTERCHANGE_FORMAT = BINARY
  LINES = 29208
  LINE_SAMPLES = 4361
  SAMPLE_TYPE = UNSIGNED_INTEGER
  SAMPLE_BITS = 8
  BANDS = 1
  BAND_STORAGE_TYPE = BAND_SEQUENTIAL
  MAXIMUM = 255
  MEAN = 90.188
  MINIMUM = 1
  STANDARD_DEVIATION = 50.8122
END_OBJECT = IMAGE
/* MAP OBJECT DEFINITIONS */
OBJECT = IMAGE_MAP_PROJECTION
  ^DATA_SET_MAP_PROJECTION_CATALOG= "DSMAP.CAT"
  A_AXIS_RADIUS = 3396.0
  B_AXIS_RADIUS = 3396.0
  C_AXIS_RADIUS = 3396.0
  CENTER_LATITUDE = 0.0
  CENTER_LONGITUDE = 333.0
  COORDINATE_SYSTEM_NAME = PLANETOGRAPHIC
  COORDINATE_SYSTEM_TYPE = "BODY-FIXED ROTATING"
  EASTERNMOST_LONGITUDE = 333.843
  FIRST_STANDARD_PARALLEL = "N/A"
  LINE_FIRST_PIXEL = 1
  LINE_LAST_PIXEL = 29208
  LINE_PROJECTION_OFFSET = 67745.75
  MAP_PROJECTION_ROTATION = 0.0
  MAP_PROJECTION_TYPE = SINUSOIDAL
  MAP_RESOLUTION = 2370.85521546667
  MAP_SCALE = 0.025
  MAXIMUM_LATITUDE = 28.6121
  MINIMUM_LATITUDE = 16.2296
  POSITIVE_LONGITUDE_DIRECTION = EAST
  REFERENCE_LATITUDE = "N/A"
  REFERENCE_LONGITUDE = "N/A"
  SAMPLE_FIRST_PIXEL = 1
  SAMPLE_LAST_PIXEL = 4361
  SAMPLE_PROJECTION_OFFSET = 2357.25
  SECOND_STANDARD_PARALLEL = "N/A"
  WESTERNMOST_LONGITUDE = 332.003
END_OBJECT = IMAGE_MAP_PROJECTION
END
