PDS_VERSION_ID = PDS3
/* FILE DATA ELEMENTS */
RECORD_TYPE = UNDEFINED
/* POINTERS TO DATA OBJECTS */
^IMAGE = ("HB599_0000_RE4.TIF")
/* IDENTIFICATION DATA ELEMENTS */
DATA_SET_ID = "MEX-M-HRSC-4-REFDR-MAPPROJECT-EXT4-V4.0"
DATA_SET_NAME = "MARS EXPRESS HRSC MAP PROJECTED REFDR EXTENSION4 V4.0"
DETECTOR_ID = MEX_HRSC_RED
EVENT_TYPE = "MARS-REGIONAL-MAPPING-Vo-Pf-Ls"
INSTRUMENT_HOST_ID = MEX
INSTRUMENT_HOST_NAME = "MARS EXPRESS"
INSTRUMENT_ID = HRSC
INSTRUMENT_NAME = "HIGH RESOLUTION STEREO CAMERA"
MISSION_NAME = "MARS EXPRESS"
MISSION_PHASE_NAME = ME_Phase_27
PROCESSING_LEVEL_ID = 4
PRODUCT_CREATION_TIME = 2023-01-30T11:30:59.000Z
PRODUCT_ID = "HB599_0000_RE4.TIF"
RELEASE_ID = 0001
REVISION_ID = 0000
/* QUALITY DATA ELEMENTS */
DATA_QUALITY_ID = 1
DATA_QUALITY_DESC = "Data calculated based on original SPICE kernels"
/* TIME DATA ELEMENTS */
SPACECRAFT_CLOCK_START_COUNT = "1/0308737762.09036"
SPACECRAFT_CLOCK_STOP_COUNT = "1/0308738115.32965"
START_TIME = 2013-02-12T08:30:27.229Z
STOP_TIME = 2013-02-12T08:35:08.624Z
/* ORBITAL DATA ELEMENTS */
ASCENDING_NODE_LONGITUDE = 356.15
MAXIMUM_RESOLUTION = 0.0634
FOOTPRINT_POINT_LATITUDE = (39.0953,39.0866,39.0769,39.0617, 39.0613,39.1232,38.6142,38.2754,37.937, 37.5989,37.2612,36.9241,36.5873,36.2508 ,35.9151,35.5796,35.2445,34.9099, 34.5757,34.2421,33.9091,33.5766,33.2446 ,32.9132,32.5823,32.2518,31.5925, 30.9353,30.2805,29.6279,29.1294,28.7962 ,28.4636,28.1318,27.6253,27.2636,26.757 ,26.4144,26.0703,25.7253,25.3822, 25.0311,24.6809,24.3317,23.9775,23.6217 ,23.2663,22.9061,22.5447,22.1842,22.001 ,21.9293,21.9313,21.9321,21.933,21.933, 21.9341,22.2994,22.8421,23.2042,23.56, 23.9165,24.2729,24.6226,24.9732,25.4981 ,25.8422,26.187,26.7044,27.2117,27.574, 28.0825,28.415,28.7481,29.2487,29.5827, 30.236,30.8918,31.5497,32.2103,32.5412, 32.8726,33.2047,33.7038,34.037,34.3706, 34.8722,35.2076,35.5429,35.8788,36.384, 36.7212,37.059,37.3968,37.7354,38.0741, 38.5832,38.9228,39.0929,39.0953)
FOOTPRINT_POINT_LONGITUDE = (125.501,125.004,124.525,123.864, 123.848,123.822,123.838,123.848,123.857 ,123.866,123.875,123.883,123.89,123.898 ,123.904,123.911,123.917,123.923, 123.928,123.933,123.938,123.942,123.946 ,123.95,123.953,123.956,123.961,123.965 ,123.967,123.969,123.969,123.969, 123.968,123.968,123.966,123.964,123.962 ,123.959,123.957,123.954,123.951, 123.948,123.944,123.94,123.936,123.931, 123.927,123.921,123.916,123.91,123.907, 123.906,124.696,125.102,125.696,125.713 ,125.719,125.716,125.711,125.708, 125.706,125.703,125.7,125.697,125.694, 125.689,125.686,125.683,125.679,125.674 ,125.671,125.666,125.663,125.66,125.656 ,125.653,125.646,125.64,125.633,125.626 ,125.623,125.619,125.616,125.61,125.606 ,125.602,125.596,125.593,125.588, 125.584,125.578,125.573,125.569,125.564 ,125.56,125.555,125.548,125.543,125.54, 125.501)
ORBIT_NUMBER = 11599
ORBITAL_ECCENTRICITY = 0.574
ORBITAL_INCLINATION = 86.89
ORBITAL_SEMIMAJOR_AXIS = 8814.1
PERIAPSIS_ALTITUDE = 370.43
PERIAPSIS_ARGUMENT_ANGLE = 137.6
PERIAPSIS_TIME = 2013-02-12T08:29:08.000Z
SPACECRAFT_ORIENTATION = (0.0,-1.0,0.0)
^MEX_ORIENTATION_DESC = "MEX_ORIENTATION_DESC.TXT"
SPACECRAFT_POINTING_MODE = ACROSSTRACK
^MEX_POINTING_DESC = "MEX_POINTING_DESC.TXT"
RIGHT_ASCENSION = -1e+32
DECLINATION = -1e+32
OFFSET_ANGLE = 0.2
SPACECRAFT_SOLAR_DISTANCE = 2.07056e+08
TARGET_NAME = MARS
/* CAMERA DATA ELEMENTS */
DETECTOR_TEMPERATURE = 18.9822
FOCAL_PLANE_TEMPERATURE = 9.3989
INST_CMPRS_NAME = "DISCRETE COSINE TRANSFORMATION (DCT)"
INST_CMPRS_RATIO = 16.0927
INST_CMPRS_QUALITY = 0
INST_CMPRS_QUANTZ_TBL_ID = 0
INSTRUMENT_TEMPERATURE = 12.0496
LENS_TEMPERATURE = 8.1755
MACROPIXEL_SIZE = 4
PIXEL_SUBSAMPLING_FLAG = N
SIGNAL_CHAIN_ID = 2
/* RADIOMETRIC DATA ELEMENTS */
BANDWIDTH = 48.0
CENTER_FILTER_WAVELENGTH = 748.0
RADIANCE_OFFSET = 0.766572
RADIANCE_SCALING_FACTOR = 0.00403953
REFLECTANCE_SCALING_FACTOR = 0.000395217
MEX:REFLECTANCE_OFFSET = 0.0749992
/* IMAGE OBJECT DEFINITIONS */
OBJECT = IMAGE
  INTERCHANGE_FORMAT = BINARY
  LINES = 20418
  LINE_SAMPLES = 1898
  SAMPLE_TYPE = UNSIGNED_INTEGER
  SAMPLE_BITS = 8
  BANDS = 1
  BAND_STORAGE_TYPE = BAND_SEQUENTIAL
  MAXIMUM = 255
  MEAN = 109.193
  MINIMUM = 1
  STANDARD_DEVIATION = 47.2344
END_OBJECT = IMAGE
/* MAP OBJECT DEFINITIONS */
OBJECT = IMAGE_MAP_PROJECTION
  ^DATA_SET_MAP_PROJECTION_CATALOG= "DSMAP.CAT"
  A_AXIS_RADIUS = 3396.0
  B_AXIS_RADIUS = 3396.0
  C_AXIS_RADIUS = 3396.0
  CENTER_LATITUDE = 0.0
  CENTER_LONGITUDE = 125.0
  COORDINATE_SYSTEM_NAME = PLANETOGRAPHIC
  COORDINATE_SYSTEM_TYPE = "BODY-FIXED ROTATING"
  EASTERNMOST_LONGITUDE = 125.719
  FIRST_STANDARD_PARALLEL = "N/A"
  LINE_FIRST_PIXEL = 1
  LINE_LAST_PIXEL = 20418
  LINE_PROJECTION_OFFSET = 46386.875
  MAP_PROJECTION_ROTATION = 0.0
  MAP_PROJECTION_TYPE = SINUSOIDAL
  MAP_RESOLUTION = 1185.42760773333
  MAP_SCALE = 0.05
  MAXIMUM_LATITUDE = 39.1232
  MINIMUM_LATITUDE = 21.9293
  POSITIVE_LONGITUDE_DIRECTION = EAST
  REFERENCE_LATITUDE = "N/A"
  REFERENCE_LONGITUDE = "N/A"
  SAMPLE_FIRST_PIXEL = 1
  SAMPLE_LAST_PIXEL = 1898
  SAMPLE_PROJECTION_OFFSET = 1159.875
  SECOND_STANDARD_PARALLEL = "N/A"
  WESTERNMOST_LONGITUDE = 123.822
END_OBJECT = IMAGE_MAP_PROJECTION
END
