PDS_VERSION_ID = PDS3
/* FILE DATA ELEMENTS */
RECORD_TYPE = UNDEFINED
/* POINTERS TO DATA OBJECTS */
^IMAGE = ("HB599_0000_IR4.TIF")
/* IDENTIFICATION DATA ELEMENTS */
DATA_SET_ID = "MEX-M-HRSC-4-REFDR-MAPPROJECT-EXT4-V4.0"
DATA_SET_NAME = "MARS EXPRESS HRSC MAP PROJECTED REFDR EXTENSION4 V4.0"
DETECTOR_ID = MEX_HRSC_IR
EVENT_TYPE = "MARS-REGIONAL-MAPPING-Vo-Pf-Ls"
INSTRUMENT_HOST_ID = MEX
INSTRUMENT_HOST_NAME = "MARS EXPRESS"
INSTRUMENT_ID = HRSC
INSTRUMENT_NAME = "HIGH RESOLUTION STEREO CAMERA"
MISSION_NAME = "MARS EXPRESS"
MISSION_PHASE_NAME = ME_Phase_27
PROCESSING_LEVEL_ID = 4
PRODUCT_CREATION_TIME = 2023-01-30T11:30:59.000Z
PRODUCT_ID = "HB599_0000_IR4.TIF"
RELEASE_ID = 0001
REVISION_ID = 0000
/* QUALITY DATA ELEMENTS */
DATA_QUALITY_ID = 1
DATA_QUALITY_DESC = "Data calculated based on original SPICE kernels"
/* TIME DATA ELEMENTS */
SPACECRAFT_CLOCK_START_COUNT = "1/0308737762.09036"
SPACECRAFT_CLOCK_STOP_COUNT = "1/0308738115.32965"
START_TIME = 2013-02-12T08:29:31.166Z
STOP_TIME = 2013-02-12T08:33:57.053Z
/* ORBITAL DATA ELEMENTS */
ASCENDING_NODE_LONGITUDE = 356.15
MAXIMUM_RESOLUTION = 0.0624
FOOTPRINT_POINT_LATITUDE = (39.169,39.1664,39.1564,39.1562,39.0944 ,38.6648,38.378,37.9479,37.6611,37.3513 ,36.8371,36.4942,36.1509,35.8074, 35.2924,34.9489,34.4334,34.0894,33.7455 ,33.4015,32.8853,32.5411,32.0247, 31.6804,31.3362,30.8199,30.4757,29.9595 ,29.6153,29.271,28.7552,28.4112,28.0672 ,27.7234,27.2076,26.8641,26.3488,25.834 ,25.3138,24.9618,24.6099,24.2581, 23.9064,23.5459,23.1601,22.7999,22.2559 ,22.0716,21.8895,21.888,21.8841,21.8782 ,21.8728,21.8725,21.8735,22.4272, 22.7878,23.1487,23.5353,23.8963,24.2484 ,24.777,25.1295,25.6549,25.9987,26.3426 ,26.6866,27.0309,27.3751,27.7195, 28.0643,28.4084,28.9252,29.2698,29.7869 ,30.3041,30.6491,30.9936,31.3385, 31.8557,32.2002,32.5451,32.8898,33.2345 ,33.5791,33.9236,34.2682,34.7855, 35.1293,35.6455,35.9897,36.3332,36.6769 ,37.0203,37.5299,37.9612,38.3923, 38.8231,38.9666,39.169)
FOOTPRINT_POINT_LONGITUDE = (125.489,124.679,123.876,123.861,123.84 ,123.854,123.864,123.877,123.886, 123.894,123.908,123.917,123.926,123.934 ,123.945,123.952,123.962,123.968, 123.974,123.979,123.987,123.991,123.997 ,124.001,124.004,124.009,124.011, 124.015,124.016,124.018,124.02,124.02, 124.021,124.021,124.021,124.02,124.019, 124.017,124.015,124.013,124.011,124.008 ,124.005,124.002,123.999,123.995, 123.989,123.987,123.985,124.353,124.847 ,125.297,125.623,125.639,125.644, 125.642,125.641,125.64,125.638,125.637, 125.635,125.633,125.632,125.63,125.628, 125.626,125.625,125.623,125.621,125.619 ,125.617,125.616,125.613,125.611, 125.608,125.605,125.603,125.601,125.598 ,125.595,125.592,125.59,125.587,125.585 ,125.582,125.579,125.577,125.572, 125.569,125.565,125.561,125.558,125.555 ,125.552,125.546,125.542,125.537, 125.532,125.53,125.489)
ORBIT_NUMBER = 11599
ORBITAL_ECCENTRICITY = 0.574
ORBITAL_INCLINATION = 86.89
ORBITAL_SEMIMAJOR_AXIS = 8814.1
PERIAPSIS_ALTITUDE = 370.43
PERIAPSIS_ARGUMENT_ANGLE = 137.6
PERIAPSIS_TIME = 2013-02-12T08:29:08.000Z
SPACECRAFT_ORIENTATION = (0.0,-1.0,0.0)
^MEX_ORIENTATION_DESC = "MEX_ORIENTATION_DESC.TXT"
SPACECRAFT_POINTING_MODE = ACROSSTRACK
^MEX_POINTING_DESC = "MEX_POINTING_DESC.TXT"
RIGHT_ASCENSION = -1e+32
DECLINATION = -1e+32
OFFSET_ANGLE = 0.2
SPACECRAFT_SOLAR_DISTANCE = 2.07056e+08
TARGET_NAME = MARS
/* CAMERA DATA ELEMENTS */
DETECTOR_TEMPERATURE = 17.9627
FOCAL_PLANE_TEMPERATURE = 9.3989
INST_CMPRS_NAME = "DISCRETE COSINE TRANSFORMATION (DCT)"
INST_CMPRS_RATIO = 6.97048
INST_CMPRS_QUALITY = 0
INST_CMPRS_QUANTZ_TBL_ID = 0
INSTRUMENT_TEMPERATURE = 12.0496
LENS_TEMPERATURE = 8.1755
MACROPIXEL_SIZE = 4
PIXEL_SUBSAMPLING_FLAG = N
SIGNAL_CHAIN_ID = 2
/* RADIOMETRIC DATA ELEMENTS */
BANDWIDTH = 81.0
CENTER_FILTER_WAVELENGTH = 955.5
RADIANCE_OFFSET = 0.684879
RADIANCE_SCALING_FACTOR = 0.00401426
REFLECTANCE_SCALING_FACTOR = 0.000371288
MEX:REFLECTANCE_OFFSET = 0.063346
/* IMAGE OBJECT DEFINITIONS */
OBJECT = IMAGE
  INTERCHANGE_FORMAT = BINARY
  LINES = 20418
  LINE_SAMPLES = 1898
  SAMPLE_TYPE = UNSIGNED_INTEGER
  SAMPLE_BITS = 8
  BANDS = 1
  BAND_STORAGE_TYPE = BAND_SEQUENTIAL
  MAXIMUM = 255
  MEAN = 117.3
  MINIMUM = 1
  STANDARD_DEVIATION = 45.6002
END_OBJECT = IMAGE
/* MAP OBJECT DEFINITIONS */
OBJECT = IMAGE_MAP_PROJECTION
  ^DATA_SET_MAP_PROJECTION_CATALOG= "DSMAP.CAT"
  A_AXIS_RADIUS = 3396.0
  B_AXIS_RADIUS = 3396.0
  C_AXIS_RADIUS = 3396.0
  CENTER_LATITUDE = 0.0
  CENTER_LONGITUDE = 125.0
  COORDINATE_SYSTEM_NAME = PLANETOGRAPHIC
  COORDINATE_SYSTEM_TYPE = "BODY-FIXED ROTATING"
  EASTERNMOST_LONGITUDE = 125.644
  FIRST_STANDARD_PARALLEL = "N/A"
  LINE_FIRST_PIXEL = 1
  LINE_LAST_PIXEL = 20418
  LINE_PROJECTION_OFFSET = 46386.875
  MAP_PROJECTION_ROTATION = 0.0
  MAP_PROJECTION_TYPE = SINUSOIDAL
  MAP_RESOLUTION = 1185.42760773333
  MAP_SCALE = 0.05
  MAXIMUM_LATITUDE = 39.169
  MINIMUM_LATITUDE = 21.8725
  POSITIVE_LONGITUDE_DIRECTION = EAST
  REFERENCE_LATITUDE = "N/A"
  REFERENCE_LONGITUDE = "N/A"
  SAMPLE_FIRST_PIXEL = 1
  SAMPLE_LAST_PIXEL = 1898
  SAMPLE_PROJECTION_OFFSET = 1159.875
  SECOND_STANDARD_PARALLEL = "N/A"
  WESTERNMOST_LONGITUDE = 123.84
END_OBJECT = IMAGE_MAP_PROJECTION
END
