PDS_VERSION_ID = PDS3
/* FILE DATA ELEMENTS */
RECORD_TYPE = UNDEFINED
/* POINTERS TO DATA OBJECTS */
^IMAGE = ("HB592_0000_P14.TIF")
/* IDENTIFICATION DATA ELEMENTS */
DATA_SET_ID = "MEX-M-HRSC-4-REFDR-MAPPROJECT-EXT4-V4.0"
DATA_SET_NAME = "MARS EXPRESS HRSC MAP PROJECTED REFDR EXTENSION4 V4.0"
DETECTOR_ID = MEX_HRSC_P1
EVENT_TYPE = "MARS-REGIONAL-MAPPING-Vo-Fl-Pf"
INSTRUMENT_HOST_ID = MEX
INSTRUMENT_HOST_NAME = "MARS EXPRESS"
INSTRUMENT_ID = HRSC
INSTRUMENT_NAME = "HIGH RESOLUTION STEREO CAMERA"
MISSION_NAME = "MARS EXPRESS"
MISSION_PHASE_NAME = ME_Phase_27
PROCESSING_LEVEL_ID = 4
PRODUCT_CREATION_TIME = 2023-01-30T11:30:59.000Z
PRODUCT_ID = "HB592_0000_P14.TIF"
RELEASE_ID = 0001
REVISION_ID = 0000
/* QUALITY DATA ELEMENTS */
DATA_QUALITY_ID = 1
DATA_QUALITY_DESC = "Data calculated based on original SPICE kernels"
/* TIME DATA ELEMENTS */
SPACECRAFT_CLOCK_START_COUNT = "1/0308561526.09043"
SPACECRAFT_CLOCK_STOP_COUNT = "1/0308561848.16680"
START_TIME = 2013-02-10T07:32:21.536Z
STOP_TIME = 2013-02-10T07:36:28.403Z
/* ORBITAL DATA ELEMENTS */
ASCENDING_NODE_LONGITUDE = 356.28
MAXIMUM_RESOLUTION = 0.0306
FOOTPRINT_POINT_LATITUDE = (45.1127,45.103,45.0849,45.069,45.0684, 45.0107,44.674,44.1683,43.8308,43.4928, 43.1546,42.647,42.308,41.8421,41.2727, 40.8454,40.2749,39.9894,39.7041,39.4185 ,39.1327,38.8465,38.4171,38.1309, 37.8447,37.5585,37.2722,36.9856,36.6986 ,36.2683,35.838,35.5151,35.1725,34.8299 ,34.4869,33.9728,33.6297,33.1152, 32.6006,32.2575,31.9143,31.5711,31.2278 ,30.8846,30.37,29.8516,29.3374,29.166, 29.1262,29.1309,29.1364,29.1373,29.1373 ,29.1378,29.4813,29.8247,30.1723, 30.5159,30.8597,31.3753,31.719,32.0627, 32.5783,33.0937,33.4373,33.781,34.1246, 34.4686,34.812,35.1554,35.4985,35.8284, 36.1161,36.4037,36.6911,37.1219,37.5528 ,37.9832,38.2703,38.5571,38.9873, 39.2735,39.5603,39.8471,40.2764,40.7047 ,41.1329,41.4186,41.8464,42.1369, 42.4769,42.8169,43.1565,43.4957,43.8345 ,44.1731,44.5115,44.8495,45.0182, 45.1127)
FOOTPRINT_POINT_LONGITUDE = (120.594,120.048,119.309,118.799, 118.782,118.743,118.766,118.799,118.82, 118.841,118.861,118.891,118.909,118.934 ,118.963,118.983,119.009,119.022, 119.034,119.046,119.058,119.069,119.085 ,119.096,119.106,119.116,119.125, 119.135,119.143,119.156,119.168,119.177 ,119.186,119.194,119.202,119.213,119.22 ,119.23,119.239,119.245,119.25,119.255, 119.259,119.263,119.269,119.274,119.278 ,119.279,119.28,119.63,120.302,120.836, 120.852,120.857,120.854,120.851,120.848 ,120.846,120.842,120.838,120.835, 120.831,120.826,120.821,120.818,120.814 ,120.81,120.806,120.802,120.798,120.795 ,120.79,120.787,120.783,120.779,120.774 ,120.768,120.762,120.758,120.754, 120.747,120.743,120.738,120.733,120.726 ,120.719,120.712,120.707,120.699, 120.694,120.687,120.68,120.674,120.667, 120.66,120.652,120.645,120.637,120.634, 120.594)
ORBIT_NUMBER = 11592
ORBITAL_ECCENTRICITY = 0.574
ORBITAL_INCLINATION = 86.89
ORBITAL_SEMIMAJOR_AXIS = 8816.8
PERIAPSIS_ALTITUDE = 369.53
PERIAPSIS_ARGUMENT_ANGLE = 138.8
PERIAPSIS_TIME = 2013-02-10T07:33:44.000Z
SPACECRAFT_ORIENTATION = (0.0,-1.0,0.0)
^MEX_ORIENTATION_DESC = "MEX_ORIENTATION_DESC.TXT"
SPACECRAFT_POINTING_MODE = NADIR
^MEX_POINTING_DESC = "MEX_POINTING_DESC.TXT"
RIGHT_ASCENSION = -1e+32
DECLINATION = -1e+32
OFFSET_ANGLE = -1e+32
SPACECRAFT_SOLAR_DISTANCE = 2.06978e+08
TARGET_NAME = MARS
/* CAMERA DATA ELEMENTS */
DETECTOR_TEMPERATURE = 17.7588
FOCAL_PLANE_TEMPERATURE = 8.7872
INST_CMPRS_NAME = "DISCRETE COSINE TRANSFORMATION (DCT)"
INST_CMPRS_RATIO = 10.1215
INST_CMPRS_QUALITY = 0
INST_CMPRS_QUANTZ_TBL_ID = 0
INSTRUMENT_TEMPERATURE = 11.234
LENS_TEMPERATURE = 9.195
MACROPIXEL_SIZE = 2
MISSING_FRAMES = 1
PIXEL_SUBSAMPLING_FLAG = N
SIGNAL_CHAIN_ID = 3
/* RADIOMETRIC DATA ELEMENTS */
BANDWIDTH = 174.0
CENTER_FILTER_WAVELENGTH = 675.0
RADIANCE_OFFSET = 1.53773
RADIANCE_SCALING_FACTOR = 0.0157353
REFLECTANCE_SCALING_FACTOR = 0.000362583
MEX:REFLECTANCE_OFFSET = 0.0354333
/* IMAGE OBJECT DEFINITIONS */
OBJECT = IMAGE
  INTERCHANGE_FORMAT = BINARY
  LINES = 37785
  LINE_SAMPLES = 3898
  SAMPLE_TYPE = UNSIGNED_INTEGER
  SAMPLE_BITS = 8
  BANDS = 1
  BAND_STORAGE_TYPE = BAND_SEQUENTIAL
  MAXIMUM = 255
  MEAN = 122.503
  MINIMUM = 1
  STANDARD_DEVIATION = 59.1924
END_OBJECT = IMAGE
/* MAP OBJECT DEFINITIONS */
OBJECT = IMAGE_MAP_PROJECTION
  ^DATA_SET_MAP_PROJECTION_CATALOG= "DSMAP.CAT"
  A_AXIS_RADIUS = 3396.0
  B_AXIS_RADIUS = 3396.0
  C_AXIS_RADIUS = 3396.0
  CENTER_LATITUDE = 0.0
  CENTER_LONGITUDE = 120.0
  COORDINATE_SYSTEM_NAME = PLANETOGRAPHIC
  COORDINATE_SYSTEM_TYPE = "BODY-FIXED ROTATING"
  EASTERNMOST_LONGITUDE = 120.857
  FIRST_STANDARD_PARALLEL = "N/A"
  LINE_FIRST_PIXEL = 1
  LINE_LAST_PIXEL = 37785
  LINE_PROJECTION_OFFSET = 106859.75
  MAP_PROJECTION_ROTATION = 0.0
  MAP_PROJECTION_TYPE = SINUSOIDAL
  MAP_RESOLUTION = 2370.85521546667
  MAP_SCALE = 0.025
  MAXIMUM_LATITUDE = 45.1127
  MINIMUM_LATITUDE = 29.1262
  POSITIVE_LONGITUDE_DIRECTION = EAST
  REFERENCE_LATITUDE = "N/A"
  REFERENCE_LONGITUDE = "N/A"
  SAMPLE_FIRST_PIXEL = 1
  SAMPLE_LAST_PIXEL = 3898
  SAMPLE_PROJECTION_OFFSET = 2100.75
  SECOND_STANDARD_PARALLEL = "N/A"
  WESTERNMOST_LONGITUDE = 118.743
END_OBJECT = IMAGE_MAP_PROJECTION
END
