PDS_VERSION_ID = PDS3
/* FILE DATA ELEMENTS */
RECORD_TYPE = UNDEFINED
/* POINTERS TO DATA OBJECTS */
^IMAGE = ("HB592_0000_GR4.TIF")
/* IDENTIFICATION DATA ELEMENTS */
DATA_SET_ID = "MEX-M-HRSC-4-REFDR-MAPPROJECT-EXT4-V4.0"
DATA_SET_NAME = "MARS EXPRESS HRSC MAP PROJECTED REFDR EXTENSION4 V4.0"
DETECTOR_ID = MEX_HRSC_GREEN
EVENT_TYPE = "MARS-REGIONAL-MAPPING-Vo-Fl-Pf"
INSTRUMENT_HOST_ID = MEX
INSTRUMENT_HOST_NAME = "MARS EXPRESS"
INSTRUMENT_ID = HRSC
INSTRUMENT_NAME = "HIGH RESOLUTION STEREO CAMERA"
MISSION_NAME = "MARS EXPRESS"
MISSION_PHASE_NAME = ME_Phase_27
PROCESSING_LEVEL_ID = 4
PRODUCT_CREATION_TIME = 2023-01-30T11:30:59.000Z
PRODUCT_ID = "HB592_0000_GR4.TIF"
RELEASE_ID = 0001
REVISION_ID = 0000
/* QUALITY DATA ELEMENTS */
DATA_QUALITY_ID = 1
DATA_QUALITY_DESC = "Data calculated based on original SPICE kernels"
/* TIME DATA ELEMENTS */
SPACECRAFT_CLOCK_START_COUNT = "1/0308561526.09043"
SPACECRAFT_CLOCK_STOP_COUNT = "1/0308561848.16680"
START_TIME = 2013-02-10T07:32:38.329Z
STOP_TIME = 2013-02-10T07:36:45.884Z
/* ORBITAL DATA ELEMENTS */
ASCENDING_NODE_LONGITUDE = 356.28
MAXIMUM_RESOLUTION = 0.0597
FOOTPRINT_POINT_LATITUDE = (45.0764,45.0621,45.0483,45.0362, 45.0357,45.0202,44.6804,44.3405,44.0004 ,43.6601,43.3198,43.0044,42.4335, 41.8622,41.2907,40.719,40.1471,39.7181, 39.2891,39.003,38.7169,38.1448,37.5728, 37.0009,36.6976,36.3563,36.0151,35.6739 ,35.3329,34.9919,34.651,34.3103,33.9696 ,33.4588,33.1185,32.7783,32.4382, 32.0983,31.7585,31.4189,31.0795,30.7403 ,30.4013,30.0625,29.724,29.3857,29.2166 ,29.1301,29.138,29.1384,29.1384,29.1394 ,29.4781,29.8171,30.1563,30.4957, 30.8353,31.1752,31.5152,31.8554,32.1958 ,32.5364,32.8771,33.2179,33.559,33.9001 ,34.4121,34.9244,35.266,35.6076,35.9494 ,36.2914,36.6333,36.9511,37.2377, 37.5243,37.9542,38.3842,38.6709,38.9577 ,39.2443,39.531,39.8177,40.2478,40.5344 ,40.8208,41.2505,41.5371,41.8235, 42.1099,42.5393,42.8256,43.1117,43.4417 ,43.783,44.1241,44.4652,44.8061,44.9765 ,45.0764)
FOOTPRINT_POINT_LONGITUDE = (120.585,119.798,119.23,118.812,118.795 ,118.755,118.778,118.8,118.821,118.842, 118.862,118.881,118.912,118.942,118.97, 118.997,119.022,119.04,119.058,119.069, 119.079,119.1,119.119,119.138,119.147, 119.156,119.166,119.175,119.183,119.192 ,119.199,119.207,119.214,119.224,119.23 ,119.236,119.241,119.246,119.251, 119.255,119.259,119.263,119.266,119.269 ,119.272,119.274,119.275,119.276,120.37 ,120.844,120.859,120.864,120.86,120.857 ,120.854,120.851,120.848,120.844, 120.841,120.837,120.834,120.83,120.826, 120.823,120.819,120.815,120.809,120.802 ,120.798,120.794,120.789,120.784,120.78 ,120.775,120.771,120.767,120.761, 120.754,120.749,120.745,120.74,120.735, 120.73,120.722,120.717,120.712,120.705, 120.699,120.693,120.688,120.679,120.673 ,120.667,120.66,120.652,120.644,120.636 ,120.628,120.624,120.585)
ORBIT_NUMBER = 11592
ORBITAL_ECCENTRICITY = 0.574
ORBITAL_INCLINATION = 86.89
ORBITAL_SEMIMAJOR_AXIS = 8816.8
PERIAPSIS_ALTITUDE = 369.53
PERIAPSIS_ARGUMENT_ANGLE = 138.8
PERIAPSIS_TIME = 2013-02-10T07:33:44.000Z
SPACECRAFT_ORIENTATION = (0.0,-1.0,0.0)
^MEX_ORIENTATION_DESC = "MEX_ORIENTATION_DESC.TXT"
SPACECRAFT_POINTING_MODE = NADIR
^MEX_POINTING_DESC = "MEX_POINTING_DESC.TXT"
RIGHT_ASCENSION = -1e+32
DECLINATION = -1e+32
OFFSET_ANGLE = -1e+32
SPACECRAFT_SOLAR_DISTANCE = 2.06978e+08
TARGET_NAME = MARS
/* CAMERA DATA ELEMENTS */
DETECTOR_TEMPERATURE = 18.7783
FOCAL_PLANE_TEMPERATURE = 8.7872
INST_CMPRS_NAME = "DISCRETE COSINE TRANSFORMATION (DCT)"
INST_CMPRS_RATIO = 13.2108
INST_CMPRS_QUALITY = 0
INST_CMPRS_QUANTZ_TBL_ID = 0
INSTRUMENT_TEMPERATURE = 11.234
LENS_TEMPERATURE = 9.195
MACROPIXEL_SIZE = 4
MISSING_FRAMES = 0
PIXEL_SUBSAMPLING_FLAG = N
SIGNAL_CHAIN_ID = 2
/* RADIOMETRIC DATA ELEMENTS */
BANDWIDTH = 88.0
CENTER_FILTER_WAVELENGTH = 538.0
RADIANCE_OFFSET = 0.66127
RADIANCE_SCALING_FACTOR = 0.00454655
REFLECTANCE_SCALING_FACTOR = 0.000167694
MEX:REFLECTANCE_OFFSET = 0.0243902
/* IMAGE OBJECT DEFINITIONS */
OBJECT = IMAGE
  INTERCHANGE_FORMAT = BINARY
  LINES = 18893
  LINE_SAMPLES = 1949
  SAMPLE_TYPE = UNSIGNED_INTEGER
  SAMPLE_BITS = 8
  BANDS = 1
  BAND_STORAGE_TYPE = BAND_SEQUENTIAL
  MAXIMUM = 255
  MEAN = 129.611
  MINIMUM = 1
  STANDARD_DEVIATION = 57.8923
END_OBJECT = IMAGE
/* MAP OBJECT DEFINITIONS */
OBJECT = IMAGE_MAP_PROJECTION
  ^DATA_SET_MAP_PROJECTION_CATALOG= "DSMAP.CAT"
  A_AXIS_RADIUS = 3396.0
  B_AXIS_RADIUS = 3396.0
  C_AXIS_RADIUS = 3396.0
  CENTER_LATITUDE = 0.0
  CENTER_LONGITUDE = 120.0
  COORDINATE_SYSTEM_NAME = PLANETOGRAPHIC
  COORDINATE_SYSTEM_TYPE = "BODY-FIXED ROTATING"
  EASTERNMOST_LONGITUDE = 120.864
  FIRST_STANDARD_PARALLEL = "N/A"
  LINE_FIRST_PIXEL = 1
  LINE_LAST_PIXEL = 18893
  LINE_PROJECTION_OFFSET = 53429.625
  MAP_PROJECTION_ROTATION = 0.0
  MAP_PROJECTION_TYPE = SINUSOIDAL
  MAP_RESOLUTION = 1185.42760773333
  MAP_SCALE = 0.05
  MAXIMUM_LATITUDE = 45.0764
  MINIMUM_LATITUDE = 29.1301
  POSITIVE_LONGITUDE_DIRECTION = EAST
  REFERENCE_LATITUDE = "N/A"
  REFERENCE_LONGITUDE = "N/A"
  SAMPLE_FIRST_PIXEL = 1
  SAMPLE_LAST_PIXEL = 1949
  SAMPLE_PROJECTION_OFFSET = 1050.125
  SECOND_STANDARD_PARALLEL = "N/A"
  WESTERNMOST_LONGITUDE = 118.755
END_OBJECT = IMAGE_MAP_PROJECTION
END
