PDS_VERSION_ID = PDS3
/* FILE DATA ELEMENTS */
RECORD_TYPE = UNDEFINED
/* POINTERS TO DATA OBJECTS */
^IMAGE = ("HB591_0000_ND4.TIF")
/* IDENTIFICATION DATA ELEMENTS */
DATA_SET_ID = "MEX-M-HRSC-4-REFDR-MAPPROJECT-EXT4-V4.0"
DATA_SET_NAME = "MARS EXPRESS HRSC MAP PROJECTED REFDR EXTENSION4 V4.0"
DETECTOR_ID = MEX_HRSC_NADIR
EVENT_TYPE = "MARS-REGIONAL-MAPPING-Vo-Te-Mw"
INSTRUMENT_HOST_ID = MEX
INSTRUMENT_HOST_NAME = "MARS EXPRESS"
INSTRUMENT_ID = HRSC
INSTRUMENT_NAME = "HIGH RESOLUTION STEREO CAMERA"
MISSION_NAME = "MARS EXPRESS"
MISSION_PHASE_NAME = ME_Phase_27
PROCESSING_LEVEL_ID = 4
PRODUCT_CREATION_TIME = 2023-01-30T11:30:59.000Z
PRODUCT_ID = "HB591_0000_ND4.TIF"
RELEASE_ID = 0001
REVISION_ID = 0000
/* QUALITY DATA ELEMENTS */
DATA_QUALITY_ID = 1
DATA_QUALITY_DESC = "Data calculated based on original SPICE kernels"
/* TIME DATA ELEMENTS */
SPACECRAFT_CLOCK_START_COUNT = "1/0308536494.09054"
SPACECRAFT_CLOCK_STOP_COUNT = "1/0308536661.34518"
START_TIME = 2013-02-10T00:35:31.021Z
STOP_TIME = 2013-02-10T00:37:05.993Z
/* ORBITAL DATA ELEMENTS */
ASCENDING_NODE_LONGITUDE = 356.3
MAXIMUM_RESOLUTION = 0.0149
FOOTPRINT_POINT_LATITUDE = (36.3737,36.3722,36.3697,36.3665, 36.3636,36.3595,36.3549,36.3507,36.3504 ,36.3503,36.1679,36.0463,35.9246, 35.8031,35.6815,35.5599,35.4384,35.3169 ,35.1953,35.0739,34.9524,34.8309, 34.7095,34.5881,34.4667,34.3453,34.224, 34.1026,33.9813,33.8601,33.7388,33.6175 ,33.4963,33.3751,33.254,33.0117,32.7696 ,32.5275,32.2855,32.0437,31.802,31.5604 ,31.3189,31.0775,30.8363,30.5951, 30.3542,30.2939,30.2784,30.2822,30.2843 ,30.2857,30.288,30.2895,30.2903,30.291, 30.291,30.2913,30.5327,30.7138,30.9554, 31.1971,31.439,31.681,31.9231,32.2259, 32.347,32.4682,32.5894,32.7107,32.832, 32.9533,33.0746,33.196,33.3173,33.4388, 33.5602,33.6816,33.8031,33.9246,34.0461 ,34.1677,34.3501,34.4717,34.5933, 34.7758,34.8974,35.0191,35.1408,35.2625 ,35.3843,35.5061,35.6279,35.7497, 35.8715,35.9933,36.1152,36.298,36.359, 36.3737)
FOOTPRINT_POINT_LONGITUDE = (222.816,222.645,222.411,222.162, 221.959,221.709,221.458,221.254,221.238 ,221.205,221.21,221.214,221.218,221.221 ,221.225,221.228,221.231,221.235, 221.238,221.242,221.245,221.248,221.251 ,221.253,221.256,221.259,221.262, 221.265,221.268,221.27,221.273,221.276, 221.278,221.281,221.283,221.287,221.291 ,221.295,221.299,221.303,221.307,221.31 ,221.314,221.317,221.32,221.323,221.326 ,221.326,221.327,221.625,221.814, 221.955,222.252,222.486,222.673,222.891 ,222.907,222.914,222.912,222.91,222.907 ,222.904,222.901,222.898,222.895, 222.891,222.89,222.888,222.887,222.885, 222.884,222.882,222.88,222.879,222.877, 222.876,222.874,222.872,222.87,222.869, 222.867,222.865,222.863,222.862,222.86, 222.856,222.854,222.852,222.85,222.849, 222.847,222.845,222.843,222.841,222.839 ,222.837,222.835,222.832,222.831, 222.816)
ORBIT_NUMBER = 11591
ORBITAL_ECCENTRICITY = 0.574
ORBITAL_INCLINATION = 86.9
ORBITAL_SEMIMAJOR_AXIS = 8813.03
PERIAPSIS_ALTITUDE = 369.1
PERIAPSIS_ARGUMENT_ANGLE = 138.95
PERIAPSIS_TIME = 2013-02-10T00:34:19.000Z
SPACECRAFT_ORIENTATION = (0.0,-1.0,0.0)
^MEX_ORIENTATION_DESC = "MEX_ORIENTATION_DESC.TXT"
SPACECRAFT_POINTING_MODE = ACROSSTRACK
^MEX_POINTING_DESC = "MEX_POINTING_DESC.TXT"
RIGHT_ASCENSION = -1e+32
DECLINATION = -1e+32
OFFSET_ANGLE = -0.15
SPACECRAFT_SOLAR_DISTANCE = 2.06967e+08
TARGET_NAME = MARS
/* CAMERA DATA ELEMENTS */
DETECTOR_TEMPERATURE = 18.5744
FOCAL_PLANE_TEMPERATURE = 9.3989
INST_CMPRS_NAME = "DISCRETE COSINE TRANSFORMATION (DCT)"
INST_CMPRS_RATIO = 5.66805
INST_CMPRS_QUALITY = 0
INST_CMPRS_QUANTZ_TBL_ID = 0
INSTRUMENT_TEMPERATURE = 12.4574
LENS_TEMPERATURE = 9.3989
MACROPIXEL_SIZE = 1
MISSING_FRAMES = 0
PIXEL_SUBSAMPLING_FLAG = N
SIGNAL_CHAIN_ID = 0
/* RADIOMETRIC DATA ELEMENTS */
BANDWIDTH = 177.0
CENTER_FILTER_WAVELENGTH = 677.5
RADIANCE_OFFSET = 3.00385
RADIANCE_SCALING_FACTOR = 0.00916206
REFLECTANCE_SCALING_FACTOR = 0.000208488
MEX:REFLECTANCE_OFFSET = 0.0683543
/* IMAGE OBJECT DEFINITIONS */
OBJECT = IMAGE
  INTERCHANGE_FORMAT = BINARY
  LINES = 28907
  LINE_SAMPLES = 6782
  SAMPLE_TYPE = UNSIGNED_INTEGER
  SAMPLE_BITS = 8
  BANDS = 1
  BAND_STORAGE_TYPE = BAND_SEQUENTIAL
  MAXIMUM = 255
  MEAN = 112.027
  MINIMUM = 1
  STANDARD_DEVIATION = 39.4027
END_OBJECT = IMAGE
/* MAP OBJECT DEFINITIONS */
OBJECT = IMAGE_MAP_PROJECTION
  ^DATA_SET_MAP_PROJECTION_CATALOG= "DSMAP.CAT"
  A_AXIS_RADIUS = 3396.0
  B_AXIS_RADIUS = 3396.0
  C_AXIS_RADIUS = 3396.0
  CENTER_LATITUDE = 0.0
  CENTER_LONGITUDE = 222.0
  COORDINATE_SYSTEM_NAME = PLANETOGRAPHIC
  COORDINATE_SYSTEM_TYPE = "BODY-FIXED ROTATING"
  EASTERNMOST_LONGITUDE = 222.914
  FIRST_STANDARD_PARALLEL = "N/A"
  LINE_FIRST_PIXEL = 1
  LINE_LAST_PIXEL = 28907
  LINE_PROJECTION_OFFSET = 172478.0
  MAP_PROJECTION_ROTATION = 0.0
  MAP_PROJECTION_TYPE = SINUSOIDAL
  MAP_RESOLUTION = 4741.71043093333
  MAP_SCALE = 0.0125
  MAXIMUM_LATITUDE = 36.3737
  MINIMUM_LATITUDE = 30.2784
  POSITIVE_LONGITUDE_DIRECTION = EAST
  REFERENCE_LATITUDE = "N/A"
  REFERENCE_LONGITUDE = "N/A"
  SAMPLE_FIRST_PIXEL = 1
  SAMPLE_LAST_PIXEL = 6782
  SAMPLE_PROJECTION_OFFSET = 3036.0
  SECOND_STANDARD_PARALLEL = "N/A"
  WESTERNMOST_LONGITUDE = 221.205
END_OBJECT = IMAGE_MAP_PROJECTION
END
