PDS_VERSION_ID = PDS3
/* FILE DATA ELEMENTS */
RECORD_TYPE = UNDEFINED
/* POINTERS TO DATA OBJECTS */
^IMAGE = ("HB568_0000_BL4.TIF")
/* IDENTIFICATION DATA ELEMENTS */
DATA_SET_ID = "MEX-M-HRSC-4-REFDR-MAPPROJECT-EXT4-V4.0"
DATA_SET_NAME = "MARS EXPRESS HRSC MAP PROJECTED REFDR EXTENSION4 V4.0"
DETECTOR_ID = MEX_HRSC_BLUE
EVENT_TYPE = "MARS-REGIONAL-MAPPING-Im-Fl"
INSTRUMENT_HOST_ID = MEX
INSTRUMENT_HOST_NAME = "MARS EXPRESS"
INSTRUMENT_ID = HRSC
INSTRUMENT_NAME = "HIGH RESOLUTION STEREO CAMERA"
MISSION_NAME = "MARS EXPRESS"
MISSION_PHASE_NAME = ME_Phase_27
PROCESSING_LEVEL_ID = 4
PRODUCT_CREATION_TIME = 2023-01-30T11:30:59.000Z
PRODUCT_ID = "HB568_0000_BL4.TIF"
RELEASE_ID = 0001
REVISION_ID = 0000
/* QUALITY DATA ELEMENTS */
DATA_QUALITY_ID = 1
DATA_QUALITY_DESC = "Data calculated based on original SPICE kernels"
/* TIME DATA ELEMENTS */
SPACECRAFT_CLOCK_START_COUNT = "1/0307957986.09062"
SPACECRAFT_CLOCK_STOP_COUNT = "1/0307958234.62677"
START_TIME = 2013-02-03T07:53:53.579Z
STOP_TIME = 2013-02-03T07:56:32.323Z
/* ORBITAL DATA ELEMENTS */
ASCENDING_NODE_LONGITUDE = 356.73
MAXIMUM_RESOLUTION = 0.0665
FOOTPRINT_POINT_LATITUDE = (21.5419,21.5438,21.5455,21.5469, 21.5481,21.549,21.5497,21.5497,21.5502, 21.1079,20.5641,20.2016,19.9301,19.5657 ,19.3807,19.1954,19.0103,18.8254, 18.4569,18.1752,17.9865,17.7982,17.6101 ,17.4219,17.2342,17.0432,16.851,16.6591 ,16.4674,16.2759,16.0846,15.7917, 15.5963,15.4012,15.2059,15.0111,14.8126 ,14.6138,14.4153,14.2168,13.9173, 13.7149,13.5127,13.3109,13.1094,12.8017 ,12.5962,12.3909,12.0816,11.977,11.9033 ,11.8995,11.8957,11.8924,11.8846, 11.8812,11.8763,11.876,11.8771,12.1898, 12.3952,12.6011,12.8071,13.1153,13.317, 13.5192,13.7217,14.0255,14.2241,14.4229 ,14.622,14.8213,15.0198,15.215,15.4104, 15.6062,15.8021,16.0947,16.2869,16.4789 ,16.6711,16.9592,17.1521,17.435,17.6236 ,17.8116,18.0002,18.1892,18.3781,18.655 ,19.0247,19.3026,19.488,19.7646,20.1268 ,20.4903,20.854,21.3921,21.4812, 21.5419)
FOOTPRINT_POINT_LONGITUDE = (52.9571,52.7286,52.498,52.2652,52.0304 ,51.7933,51.4026,51.3874,51.3778,51.373 ,51.3699,51.3684,51.3672,51.3664, 51.3649,51.3645,51.3644,51.3638,51.3589 ,51.3588,51.3574,51.3554,51.353,51.3513 ,51.3488,51.3469,51.3451,51.3427, 51.3402,51.3375,51.3351,51.3311,51.3282 ,51.325,51.3231,51.3201,51.3162,51.3126 ,51.3089,51.3058,51.3006,51.2971, 51.2935,51.2894,51.2851,51.2789,51.2747 ,51.2706,51.2642,51.2623,51.2609, 51.5511,51.8066,52.091,52.5261,52.7244, 53.0357,53.0521,53.0575,53.0546,53.0527 ,53.0508,53.0488,53.0459,53.044,53.0421 ,53.0401,53.0372,53.0353,53.0334, 53.0315,53.0295,53.0276,53.0256,53.0237 ,53.0217,53.0197,53.0168,53.0148, 53.0128,53.0109,53.008,53.0059,53.0028, 53.0008,52.999,52.997,52.995,52.9929, 52.9899,52.986,52.9829,52.9808,52.9774, 52.9733,52.969,52.9647,52.9582,52.957, 52.9571)
ORBIT_NUMBER = 11568
ORBITAL_ECCENTRICITY = 0.574
ORBITAL_INCLINATION = 86.9
ORBITAL_SEMIMAJOR_AXIS = 8822.87
PERIAPSIS_ALTITUDE = 367.01
PERIAPSIS_ARGUMENT_ANGLE = 142.98
PERIAPSIS_TIME = 2013-02-03T07:49:45.000Z
SPACECRAFT_ORIENTATION = (0.0,-1.0,0.0)
^MEX_ORIENTATION_DESC = "MEX_ORIENTATION_DESC.TXT"
SPACECRAFT_POINTING_MODE = ACROSSTRACK
^MEX_POINTING_DESC = "MEX_POINTING_DESC.TXT"
RIGHT_ASCENSION = -1e+32
DECLINATION = -1e+32
OFFSET_ANGLE = -0.9
SPACECRAFT_SOLAR_DISTANCE = 2.06775e+08
TARGET_NAME = MARS
/* CAMERA DATA ELEMENTS */
DETECTOR_TEMPERATURE = 18.5744
FOCAL_PLANE_TEMPERATURE = 9.3989
INST_CMPRS_NAME = "DISCRETE COSINE TRANSFORMATION (DCT)"
INST_CMPRS_RATIO = 5.71619
INST_CMPRS_QUALITY = 0
INST_CMPRS_QUANTZ_TBL_ID = 0
INSTRUMENT_TEMPERATURE = 11.8457
LENS_TEMPERATURE = 9.6028
MACROPIXEL_SIZE = 4
MISSING_FRAMES = 0
PIXEL_SUBSAMPLING_FLAG = N
SIGNAL_CHAIN_ID = 2
/* RADIOMETRIC DATA ELEMENTS */
BANDWIDTH = 76.0
CENTER_FILTER_WAVELENGTH = 444.0
RADIANCE_OFFSET = 0.547065
RADIANCE_SCALING_FACTOR = 0.00148524
REFLECTANCE_SCALING_FACTOR = 6.52457e-05
MEX:REFLECTANCE_OFFSET = 0.0240322
/* IMAGE OBJECT DEFINITIONS */
OBJECT = IMAGE
  INTERCHANGE_FORMAT = BINARY
  LINES = 11455
  LINE_SAMPLES = 2075
  SAMPLE_TYPE = UNSIGNED_INTEGER
  SAMPLE_BITS = 8
  BANDS = 1
  BAND_STORAGE_TYPE = BAND_SEQUENTIAL
  MAXIMUM = 255
  MEAN = 129.582
  MINIMUM = 1
  STANDARD_DEVIATION = 36.2455
END_OBJECT = IMAGE
/* MAP OBJECT DEFINITIONS */
OBJECT = IMAGE_MAP_PROJECTION
  ^DATA_SET_MAP_PROJECTION_CATALOG= "DSMAP.CAT"
  A_AXIS_RADIUS = 3396.0
  B_AXIS_RADIUS = 3396.0
  C_AXIS_RADIUS = 3396.0
  CENTER_LATITUDE = 0.0
  CENTER_LONGITUDE = 52.0
  COORDINATE_SYSTEM_NAME = PLANETOGRAPHIC
  COORDINATE_SYSTEM_TYPE = "BODY-FIXED ROTATING"
  EASTERNMOST_LONGITUDE = 53.0575
  FIRST_STANDARD_PARALLEL = "N/A"
  LINE_FIRST_PIXEL = 1
  LINE_LAST_PIXEL = 11455
  LINE_PROJECTION_OFFSET = 25555.375
  MAP_PROJECTION_ROTATION = 0.0
  MAP_PROJECTION_TYPE = SINUSOIDAL
  MAP_RESOLUTION = 1185.42760773333
  MAP_SCALE = 0.05
  MAXIMUM_LATITUDE = 21.5502
  MINIMUM_LATITUDE = 11.876
  POSITIVE_LONGITUDE_DIRECTION = EAST
  REFERENCE_LATITUDE = "N/A"
  REFERENCE_LONGITUDE = "N/A"
  SAMPLE_FIRST_PIXEL = 1
  SAMPLE_LAST_PIXEL = 2075
  SAMPLE_PROJECTION_OFFSET = 858.875
  SECOND_STANDARD_PARALLEL = "N/A"
  WESTERNMOST_LONGITUDE = 51.2609
END_OBJECT = IMAGE_MAP_PROJECTION
END
