PDS_VERSION_ID = PDS3
/* FILE DATA ELEMENTS */
RECORD_TYPE = UNDEFINED
/* POINTERS TO DATA OBJECTS */
^IMAGE = ("HB563_0000_P24.TIF")
/* IDENTIFICATION DATA ELEMENTS */
DATA_SET_ID = "MEX-M-HRSC-4-REFDR-MAPPROJECT-EXT4-V4.0"
DATA_SET_NAME = "MARS EXPRESS HRSC MAP PROJECTED REFDR EXTENSION4 V4.0"
DETECTOR_ID = MEX_HRSC_P2
EVENT_TYPE = "MARS-REGIONAL-MAPPING-Vo-Im-Fl"
INSTRUMENT_HOST_ID = MEX
INSTRUMENT_HOST_NAME = "MARS EXPRESS"
INSTRUMENT_ID = HRSC
INSTRUMENT_NAME = "HIGH RESOLUTION STEREO CAMERA"
MISSION_NAME = "MARS EXPRESS"
MISSION_PHASE_NAME = ME_Phase_27
PROCESSING_LEVEL_ID = 4
PRODUCT_CREATION_TIME = 2023-01-30T11:30:59.000Z
PRODUCT_ID = "HB563_0000_P24.TIF"
RELEASE_ID = 0001
REVISION_ID = 0000
/* QUALITY DATA ELEMENTS */
DATA_QUALITY_ID = 1
DATA_QUALITY_DESC = "Data calculated based on original SPICE kernels"
/* TIME DATA ELEMENTS */
SPACECRAFT_CLOCK_START_COUNT = "1/0307832094.09068"
SPACECRAFT_CLOCK_STOP_COUNT = "1/0307832361.18194"
START_TIME = 2013-02-01T20:55:55.621Z
STOP_TIME = 2013-02-01T20:59:05.979Z
/* ORBITAL DATA ELEMENTS */
ASCENDING_NODE_LONGITUDE = 356.83
MAXIMUM_RESOLUTION = 0.0652
FOOTPRINT_POINT_LATITUDE = (26.2387,26.2329,26.2279,26.2222,26.222 ,26.2552,25.9213,25.699,25.4769,25.255, 24.812,24.3698,23.8184,23.3784,22.9393, 22.5013,22.1651,21.9409,21.7171,21.4935 ,21.2701,21.0471,20.8199,20.5916, 20.3636,20.1359,19.9084,19.6812,19.4495 ,19.2171,18.9851,18.7534,18.5222, 18.2876,18.0512,17.8153,17.5797,17.3444 ,16.9847,16.7447,16.5051,16.2659, 16.0222,15.7781,15.5344,15.2912,14.9201 ,14.7962,14.7327,14.7326,14.7326, 14.7326,14.7326,14.7327,14.7329,14.7329 ,14.734,14.9823,15.231,15.4746,15.7185, 15.9629,16.328,16.5676,16.8077,17.0482, 17.4072,17.6429,17.8789,18.1154,18.47, 18.7016,18.9334,19.1656,19.3981,19.7453 ,19.9728,20.2006,20.4288,20.6572, 20.8859,21.2238,21.4473,21.6712,21.8953 ,22.1196,22.3443,22.5672,23.006,23.4458 ,23.8866,24.3283,24.7709,25.2145, 25.4366,25.659,25.8816,26.1043,26.2158, 26.2387)
FOOTPRINT_POINT_LONGITUDE = (205.357,204.76,204.31,203.862,203.848, 203.835,203.834,203.834,203.833,203.832 ,203.83,203.827,203.824,203.82,203.817, 203.813,203.809,203.807,203.804,203.802 ,203.799,203.796,203.793,203.79,203.787 ,203.784,203.78,203.777,203.773,203.77, 203.766,203.762,203.758,203.754,203.75, 203.745,203.741,203.736,203.729,203.724 ,203.719,203.714,203.709,203.703, 203.698,203.692,203.683,203.68,203.678, 204.016,204.275,204.535,204.779,205.04, 205.401,205.417,205.423,205.422,205.42, 205.419,205.418,205.417,205.416,205.415 ,205.414,205.413,205.411,205.41,205.409 ,205.408,205.407,205.406,205.405, 205.405,205.404,205.403,205.402,205.401 ,205.4,205.4,205.399,205.398,205.397, 205.396,205.396,205.395,205.394,205.394 ,205.392,205.391,205.39,205.388,205.387 ,205.386,205.385,205.385,205.384, 205.383,205.383,205.357)
ORBIT_NUMBER = 11563
ORBITAL_ECCENTRICITY = 0.574
ORBITAL_INCLINATION = 86.9
ORBITAL_SEMIMAJOR_AXIS = 8817.27
PERIAPSIS_ALTITUDE = 366.5
PERIAPSIS_ARGUMENT_ANGLE = 143.82
PERIAPSIS_TIME = 2013-02-01T20:52:58.000Z
SPACECRAFT_ORIENTATION = (0.0,-1.0,0.0)
^MEX_ORIENTATION_DESC = "MEX_ORIENTATION_DESC.TXT"
SPACECRAFT_POINTING_MODE = ACROSSTRACK
^MEX_POINTING_DESC = "MEX_POINTING_DESC.TXT"
RIGHT_ASCENSION = -1e+32
DECLINATION = -1e+32
OFFSET_ANGLE = 0.32
SPACECRAFT_SOLAR_DISTANCE = 2.06746e+08
TARGET_NAME = MARS
/* CAMERA DATA ELEMENTS */
DETECTOR_TEMPERATURE = 19.5939
FOCAL_PLANE_TEMPERATURE = 9.3989
INST_CMPRS_NAME = "DISCRETE COSINE TRANSFORMATION (DCT)"
INST_CMPRS_RATIO = 12.4389
INST_CMPRS_QUALITY = 0
INST_CMPRS_QUANTZ_TBL_ID = 0
INSTRUMENT_TEMPERATURE = 12.2535
LENS_TEMPERATURE = 10.0106
MACROPIXEL_SIZE = 4
MISSING_FRAMES = 0
PIXEL_SUBSAMPLING_FLAG = N
SIGNAL_CHAIN_ID = 3
/* RADIOMETRIC DATA ELEMENTS */
BANDWIDTH = 177.0
CENTER_FILTER_WAVELENGTH = 676.5
RADIANCE_OFFSET = 3.89928
RADIANCE_SCALING_FACTOR = 0.0103802
REFLECTANCE_SCALING_FACTOR = 0.000235256
MEX:REFLECTANCE_OFFSET = 0.0883728
/* IMAGE OBJECT DEFINITIONS */
OBJECT = IMAGE
  INTERCHANGE_FORMAT = BINARY
  LINES = 13688
  LINE_SAMPLES = 1924
  SAMPLE_TYPE = UNSIGNED_INTEGER
  SAMPLE_BITS = 8
  BANDS = 1
  BAND_STORAGE_TYPE = BAND_SEQUENTIAL
  MAXIMUM = 255
  MEAN = 121.005
  MINIMUM = 1
  STANDARD_DEVIATION = 60.4092
END_OBJECT = IMAGE
/* MAP OBJECT DEFINITIONS */
OBJECT = IMAGE_MAP_PROJECTION
  ^DATA_SET_MAP_PROJECTION_CATALOG= "DSMAP.CAT"
  A_AXIS_RADIUS = 3396.0
  B_AXIS_RADIUS = 3396.0
  C_AXIS_RADIUS = 3396.0
  CENTER_LATITUDE = 0.0
  CENTER_LONGITUDE = 205.0
  COORDINATE_SYSTEM_NAME = PLANETOGRAPHIC
  COORDINATE_SYSTEM_TYPE = "BODY-FIXED ROTATING"
  EASTERNMOST_LONGITUDE = 205.423
  FIRST_STANDARD_PARALLEL = "N/A"
  LINE_FIRST_PIXEL = 1
  LINE_LAST_PIXEL = 13688
  LINE_PROJECTION_OFFSET = 31129.125
  MAP_PROJECTION_ROTATION = 0.0
  MAP_PROJECTION_TYPE = SINUSOIDAL
  MAP_RESOLUTION = 1185.42760773333
  MAP_SCALE = 0.05
  MAXIMUM_LATITUDE = 26.2552
  MINIMUM_LATITUDE = 14.7326
  POSITIVE_LONGITUDE_DIRECTION = EAST
  REFERENCE_LATITUDE = "N/A"
  REFERENCE_LONGITUDE = "N/A"
  SAMPLE_FIRST_PIXEL = 1
  SAMPLE_LAST_PIXEL = 1924
  SAMPLE_PROJECTION_OFFSET = 1481.375
  SECOND_STANDARD_PARALLEL = "N/A"
  WESTERNMOST_LONGITUDE = 203.678
END_OBJECT = IMAGE_MAP_PROJECTION
END
