PDS_VERSION_ID = PDS3
/* FILE DATA ELEMENTS */
RECORD_TYPE = UNDEFINED
/* POINTERS TO DATA OBJECTS */
^IMAGE = ("HB559_0000_P24.TIF")
/* IDENTIFICATION DATA ELEMENTS */
DATA_SET_ID = "MEX-M-HRSC-4-REFDR-MAPPROJECT-EXT4-V4.0"
DATA_SET_NAME = "MARS EXPRESS HRSC MAP PROJECTED REFDR EXTENSION4 V4.0"
DETECTOR_ID = MEX_HRSC_P2
EVENT_TYPE = "MARS-REGIONAL-MAPPING-Vo-Gl-Eo"
INSTRUMENT_HOST_ID = MEX
INSTRUMENT_HOST_NAME = "MARS EXPRESS"
INSTRUMENT_ID = HRSC
INSTRUMENT_NAME = "HIGH RESOLUTION STEREO CAMERA"
MISSION_NAME = "MARS EXPRESS"
MISSION_PHASE_NAME = ME_Phase_27
PROCESSING_LEVEL_ID = 4
PRODUCT_CREATION_TIME = 2023-01-30T11:30:59.000Z
PRODUCT_ID = "HB559_0000_P24.TIF"
RELEASE_ID = 0001
REVISION_ID = 0000
/* QUALITY DATA ELEMENTS */
DATA_QUALITY_ID = 1
DATA_QUALITY_DESC = "Data calculated based on original SPICE kernels"
/* TIME DATA ELEMENTS */
SPACECRAFT_CLOCK_START_COUNT = "1/0307731538.09057"
SPACECRAFT_CLOCK_STOP_COUNT = "1/0307731746.21952"
START_TIME = 2013-01-31T17:00:04.306Z
STOP_TIME = 2013-01-31T17:02:10.456Z
/* ORBITAL DATA ELEMENTS */
ASCENDING_NODE_LONGITUDE = 356.91
MAXIMUM_RESOLUTION = 0.0693
FOOTPRINT_POINT_LATITUDE = (20.0225,20.0233,20.0244,20.0254,20.026 ,20.0266,20.0273,20.0281,20.0282, 20.0231,19.5288,19.2471,18.9657,18.7549 ,18.396,18.1088,17.8223,17.5361,17.3903 ,17.244,17.0978,16.9517,16.8059,16.5147 ,16.2941,16.1453,15.9967,15.8483, 15.7001,15.5519,15.404,15.254,15.1028, 14.9517,14.8008,14.6501,14.4996,14.3494 ,14.1959,14.0424,13.8891,13.7359,13.583 ,13.4302,13.2744,13.0406,12.8852, 12.6523,12.5747,12.548,12.5442,12.5407, 12.5366,12.5261,12.5194,12.5073,12.4932 ,12.4931,12.4941,12.6554,12.8141, 13.0524,13.2117,13.3725,13.6077,13.8419 ,14.0747,14.2299,14.3832,14.5342, 14.7607,14.9118,15.0634,15.2151,15.3661 ,15.5143,15.6629,15.8859,16.0346, 16.1835,16.3326,16.4796,16.6253,16.7711 ,16.9173,17.0636,17.2099,17.3565, 17.5748,17.8615,18.1488,18.4366,18.7247 ,18.9359,19.2177,19.4294,19.7119, 19.9243,19.995,20.0225)
FOOTPRINT_POINT_LONGITUDE = (253.866,253.691,253.428,253.18,253.005 ,252.845,252.611,252.319,252.304, 252.303,252.297,252.293,252.289,252.287 ,252.281,252.277,252.273,252.268, 252.266,252.263,252.261,252.258,252.256 ,252.25,252.246,252.244,252.241,252.238 ,252.235,252.232,252.229,252.226, 252.223,252.219,252.216,252.213,252.21, 252.206,252.203,252.199,252.195,252.192 ,252.188,252.184,252.181,252.175, 252.171,252.165,252.163,252.162,252.488 ,252.733,252.896,253.156,253.317, 253.573,253.874,253.89,253.895,253.897, 253.897,253.898,253.898,253.899,253.9, 253.9,253.9,253.899,253.899,253.898, 253.896,253.895,253.895,253.894,253.893 ,253.892,253.891,253.89,253.889,253.888 ,253.887,253.886,253.885,253.884, 253.883,253.882,253.881,253.881,253.879 ,253.878,253.876,253.874,253.873, 253.871,253.87,253.868,253.867,253.866, 253.865,253.866)
ORBIT_NUMBER = 11559
ORBITAL_ECCENTRICITY = 0.575
ORBITAL_INCLINATION = 86.88
ORBITAL_SEMIMAJOR_AXIS = 8830.67
PERIAPSIS_ALTITUDE = 365.7
PERIAPSIS_ARGUMENT_ANGLE = 144.5
PERIAPSIS_TIME = 2013-01-31T16:55:37.000Z
SPACECRAFT_ORIENTATION = (0.0,-1.0,0.0)
^MEX_ORIENTATION_DESC = "MEX_ORIENTATION_DESC.TXT"
SPACECRAFT_POINTING_MODE = NADIR
^MEX_POINTING_DESC = "MEX_POINTING_DESC.TXT"
RIGHT_ASCENSION = -1e+32
DECLINATION = -1e+32
OFFSET_ANGLE = -1e+32
SPACECRAFT_SOLAR_DISTANCE = 2.06727e+08
TARGET_NAME = MARS
/* CAMERA DATA ELEMENTS */
DETECTOR_TEMPERATURE = 18.9822
FOCAL_PLANE_TEMPERATURE = 8.9911
INST_CMPRS_NAME = "DISCRETE COSINE TRANSFORMATION (DCT)"
INST_CMPRS_RATIO = 6.97609
INST_CMPRS_QUALITY = 0
INST_CMPRS_QUANTZ_TBL_ID = 0
INSTRUMENT_TEMPERATURE = 12.0496
LENS_TEMPERATURE = 9.195
MACROPIXEL_SIZE = 4
MISSING_FRAMES = 0
PIXEL_SUBSAMPLING_FLAG = N
SIGNAL_CHAIN_ID = 3
/* RADIOMETRIC DATA ELEMENTS */
BANDWIDTH = 177.0
CENTER_FILTER_WAVELENGTH = 676.5
RADIANCE_OFFSET = 4.07005
RADIANCE_SCALING_FACTOR = 0.015961
REFLECTANCE_SCALING_FACTOR = 0.000361668
MEX:REFLECTANCE_OFFSET = 0.0922254
/* IMAGE OBJECT DEFINITIONS */
OBJECT = IMAGE
  INTERCHANGE_FORMAT = BINARY
  LINES = 8893
  LINE_SAMPLES = 1926
  SAMPLE_TYPE = UNSIGNED_INTEGER
  SAMPLE_BITS = 8
  BANDS = 1
  BAND_STORAGE_TYPE = BAND_SEQUENTIAL
  MAXIMUM = 255
  MEAN = 115.329
  MINIMUM = 1
  STANDARD_DEVIATION = 21.5007
END_OBJECT = IMAGE
/* MAP OBJECT DEFINITIONS */
OBJECT = IMAGE_MAP_PROJECTION
  ^DATA_SET_MAP_PROJECTION_CATALOG= "DSMAP.CAT"
  A_AXIS_RADIUS = 3396.0
  B_AXIS_RADIUS = 3396.0
  C_AXIS_RADIUS = 3396.0
  CENTER_LATITUDE = 0.0
  CENTER_LONGITUDE = 253.0
  COORDINATE_SYSTEM_NAME = PLANETOGRAPHIC
  COORDINATE_SYSTEM_TYPE = "BODY-FIXED ROTATING"
  EASTERNMOST_LONGITUDE = 253.9
  FIRST_STANDARD_PARALLEL = "N/A"
  LINE_FIRST_PIXEL = 1
  LINE_LAST_PIXEL = 8893
  LINE_PROJECTION_OFFSET = 23763.625
  MAP_PROJECTION_ROTATION = 0.0
  MAP_PROJECTION_TYPE = SINUSOIDAL
  MAP_RESOLUTION = 1185.42760773333
  MAP_SCALE = 0.05
  MAXIMUM_LATITUDE = 20.0282
  MINIMUM_LATITUDE = 12.4931
  POSITIVE_LONGITUDE_DIRECTION = EAST
  REFERENCE_LATITUDE = "N/A"
  REFERENCE_LONGITUDE = "N/A"
  SAMPLE_FIRST_PIXEL = 1
  SAMPLE_LAST_PIXEL = 1926
  SAMPLE_PROJECTION_OFFSET = 930.625
  SECOND_STANDARD_PARALLEL = "N/A"
  WESTERNMOST_LONGITUDE = 252.162
END_OBJECT = IMAGE_MAP_PROJECTION
END
