PDS_VERSION_ID = PDS3
/* FILE DATA ELEMENTS */
RECORD_TYPE = UNDEFINED
/* POINTERS TO DATA OBJECTS */
^IMAGE = ("HB553_0000_P24.TIF")
/* IDENTIFICATION DATA ELEMENTS */
DATA_SET_ID = "MEX-M-HRSC-4-REFDR-MAPPROJECT-EXT4-V4.0"
DATA_SET_NAME = "MARS EXPRESS HRSC MAP PROJECTED REFDR EXTENSION4 V4.0"
DETECTOR_ID = MEX_HRSC_P2
EVENT_TYPE = "MARS-LOCAL-STEREO-Vo-Ot"
INSTRUMENT_HOST_ID = MEX
INSTRUMENT_HOST_NAME = "MARS EXPRESS"
INSTRUMENT_ID = HRSC
INSTRUMENT_NAME = "HIGH RESOLUTION STEREO CAMERA"
MISSION_NAME = "MARS EXPRESS"
MISSION_PHASE_NAME = ME_Phase_27
PROCESSING_LEVEL_ID = 4
PRODUCT_CREATION_TIME = 2023-01-30T11:30:59.000Z
PRODUCT_ID = "HB553_0000_P24.TIF"
RELEASE_ID = 0001
REVISION_ID = 0000
/* QUALITY DATA ELEMENTS */
DATA_QUALITY_ID = 1
DATA_QUALITY_DESC = "Data calculated based on original SPICE kernels"
/* TIME DATA ELEMENTS */
SPACECRAFT_CLOCK_START_COUNT = "1/0307580734.09035"
SPACECRAFT_CLOCK_STOP_COUNT = "1/0307580960.39683"
START_TIME = 2013-01-29T23:06:57.965Z
STOP_TIME = 2013-01-29T23:08:56.979Z
/* ORBITAL DATA ELEMENTS */
ASCENDING_NODE_LONGITUDE = 357.02
MAXIMUM_RESOLUTION = 0.0439
FOOTPRINT_POINT_LATITUDE = (8.40243,8.40773,8.41308,8.41848, 8.42395,8.42949,8.4351,8.4408,8.44659, 8.45244,8.45837,8.46436,8.47502,8.4758, 8.49129,8.12516,7.88178,7.63462,7.38725 ,7.14086,6.95288,6.70252,6.32585, 6.07206,5.81878,5.49992,5.30542,5.04764 ,4.91743,4.78745,4.65765,4.52808, 4.39662,4.26493,4.13343,3.93624,3.73666 ,3.60356,3.47061,3.33784,3.20316, 3.06902,2.93451,2.80018,2.66447,2.52822 ,2.39206,2.25608,2.11907,2.05002, 2.00817,1.99633,1.98875,1.97644,1.96899 ,1.96169,1.95435,1.94724,1.93615, 1.92971,1.92339,1.9171,1.91632,1.91671, 2.12357,2.25976,2.39619,2.53281,2.66961 ,2.8043,2.93915,3.07417,3.27649,3.40967 ,3.54303,3.67661,3.87635,4.00802, 4.13982,4.27182,4.46931,4.59937,4.72957 ,4.85974,4.99038,5.12011,5.37728, 5.76313,6.14428,6.39835,6.64873,6.89996 ,7.08793,7.33513,7.58296,7.89111,8.1353 ,8.31873,8.37992,8.40243)
FOOTPRINT_POINT_LONGITUDE = (146.284,146.14,145.996,145.851,145.706 ,145.56,145.413,145.266,145.119,144.97, 144.821,144.672,144.408,144.389,144.369 ,144.358,144.35,144.343,144.335,144.327 ,144.321,144.312,144.299,144.291, 144.282,144.268,144.263,144.254,144.249 ,144.244,144.239,144.234,144.229, 144.224,144.219,144.211,144.203,144.198 ,144.192,144.187,144.181,144.175,144.17 ,144.164,144.158,144.152,144.146, 144.141,144.135,144.132,144.13,144.394, 144.57,144.853,145.027,145.2,145.372, 145.544,145.822,145.992,146.162,146.332 ,146.353,146.36,146.358,146.356,146.354 ,146.352,146.351,146.349,146.347, 146.346,146.343,146.341,146.34,146.338, 146.336,146.334,146.333,146.331,146.329 ,146.327,146.325,146.324,146.322, 146.321,146.318,146.313,146.309,146.306 ,146.303,146.301,146.298,146.296, 146.293,146.29,146.287,146.285,146.284, 146.284)
ORBIT_NUMBER = 11553
ORBITAL_ECCENTRICITY = 0.574
ORBITAL_INCLINATION = 86.88
ORBITAL_SEMIMAJOR_AXIS = 8823.02
PERIAPSIS_ALTITUDE = 365.95
PERIAPSIS_ARGUMENT_ANGLE = 145.57
PERIAPSIS_TIME = 2013-01-29T22:59:30.000Z
SPACECRAFT_ORIENTATION = (0.0,-1.0,0.0)
^MEX_ORIENTATION_DESC = "MEX_ORIENTATION_DESC.TXT"
SPACECRAFT_POINTING_MODE = ACROSSTRACK
^MEX_POINTING_DESC = "MEX_POINTING_DESC.TXT"
RIGHT_ASCENSION = -1e+32
DECLINATION = -1e+32
OFFSET_ANGLE = -0.916
SPACECRAFT_SOLAR_DISTANCE = 2.06702e+08
TARGET_NAME = MARS
/* CAMERA DATA ELEMENTS */
DETECTOR_TEMPERATURE = 18.5744
FOCAL_PLANE_TEMPERATURE = 8.7872
INST_CMPRS_NAME = "DISCRETE COSINE TRANSFORMATION (DCT)"
INST_CMPRS_RATIO = 7.38356
INST_CMPRS_QUALITY = 0
INST_CMPRS_QUANTZ_TBL_ID = 0
INSTRUMENT_TEMPERATURE = 9.3989
LENS_TEMPERATURE = 8.5833
MACROPIXEL_SIZE = 2
MISSING_FRAMES = 0
PIXEL_SUBSAMPLING_FLAG = N
SIGNAL_CHAIN_ID = 3
/* RADIOMETRIC DATA ELEMENTS */
BANDWIDTH = 177.0
CENTER_FILTER_WAVELENGTH = 676.5
RADIANCE_OFFSET = 5.00938
RADIANCE_SCALING_FACTOR = 0.0113049
REFLECTANCE_SCALING_FACTOR = 0.000256104
MEX:REFLECTANCE_OFFSET = 0.113484
/* IMAGE OBJECT DEFINITIONS */
OBJECT = IMAGE
  INTERCHANGE_FORMAT = BINARY
  LINES = 7734
  LINE_SAMPLES = 2478
  SAMPLE_TYPE = UNSIGNED_INTEGER
  SAMPLE_BITS = 8
  BANDS = 1
  BAND_STORAGE_TYPE = BAND_SEQUENTIAL
  MAXIMUM = 255
  MEAN = 135.613
  MINIMUM = 1
  STANDARD_DEVIATION = 30.9879
END_OBJECT = IMAGE
/* MAP OBJECT DEFINITIONS */
OBJECT = IMAGE_MAP_PROJECTION
  ^DATA_SET_MAP_PROJECTION_CATALOG= "DSMAP.CAT"
  A_AXIS_RADIUS = 3396.0
  B_AXIS_RADIUS = 3396.0
  C_AXIS_RADIUS = 3396.0
  CENTER_LATITUDE = 0.0
  CENTER_LONGITUDE = 145.0
  COORDINATE_SYSTEM_NAME = PLANETOGRAPHIC
  COORDINATE_SYSTEM_TYPE = "BODY-FIXED ROTATING"
  EASTERNMOST_LONGITUDE = 146.36
  FIRST_STANDARD_PARALLEL = "N/A"
  LINE_FIRST_PIXEL = 1
  LINE_LAST_PIXEL = 7734
  LINE_PROJECTION_OFFSET = 10003.75
  MAP_PROJECTION_ROTATION = 0.0
  MAP_PROJECTION_TYPE = SINUSOIDAL
  MAP_RESOLUTION = 1185.42760773333
  MAP_SCALE = 0.05
  MAXIMUM_LATITUDE = 8.491289999999999
  MINIMUM_LATITUDE = 1.91632
  POSITIVE_LONGITUDE_DIRECTION = EAST
  REFERENCE_LATITUDE = "N/A"
  REFERENCE_LONGITUDE = "N/A"
  SAMPLE_FIRST_PIXEL = 1
  SAMPLE_LAST_PIXEL = 2478
  SAMPLE_PROJECTION_OFFSET = 942.75
  SECOND_STANDARD_PARALLEL = "N/A"
  WESTERNMOST_LONGITUDE = 144.13
END_OBJECT = IMAGE_MAP_PROJECTION
END
